BEGIN:VCALENDAR
PRODID:-//nuDatenautomaten//framework iCal4j //DE
VERSION:2.0
CALSCALE:GREGORIAN
BEGIN:VTIMEZONE
TZID:Europe/Berlin
LAST-MODIFIED:20260306T231828Z
TZURL:https://www.tzurl.org/zoneinfo/Europe/Berlin
X-LIC-LOCATION:Europe/Berlin
X-PROLEPTIC-TZNAME:LMT
BEGIN:STANDARD
TZNAME:CET
TZOFFSETFROM:+005328
TZOFFSETTO:+0100
DTSTART:18930401T000000
END:STANDARD
BEGIN:DAYLIGHT
TZNAME:CEST
TZOFFSETFROM:+0100
TZOFFSETTO:+0200
DTSTART:19160430T230000
RDATE:19400401T020000
RDATE:19430329T020000
RDATE:19460414T020000
RDATE:19470406T030000
RDATE:19480418T020000
RDATE:19490410T020000
RDATE:19800406T020000
END:DAYLIGHT
BEGIN:STANDARD
TZNAME:CET
TZOFFSETFROM:+0200
TZOFFSETTO:+0100
DTSTART:19161001T010000
RDATE:19421102T030000
RDATE:19431004T030000
RDATE:19441002T030000
RDATE:19451118T030000
RDATE:19461007T030000
END:STANDARD
BEGIN:DAYLIGHT
TZNAME:CEST
TZOFFSETFROM:+0100
TZOFFSETTO:+0200
DTSTART:19170416T020000
RRULE:FREQ=YEARLY;UNTIL=19180415T010000Z;BYMONTH=4;BYDAY=3MO
END:DAYLIGHT
BEGIN:STANDARD
TZNAME:CET
TZOFFSETFROM:+0200
TZOFFSETTO:+0100
DTSTART:19170917T030000
RRULE:FREQ=YEARLY;UNTIL=19180916T010000Z;BYMONTH=9;BYDAY=3MO
END:STANDARD
BEGIN:DAYLIGHT
TZNAME:CEST
TZOFFSETFROM:+0100
TZOFFSETTO:+0200
DTSTART:19440403T020000
RRULE:FREQ=YEARLY;UNTIL=19450402T010000Z;BYMONTH=4;BYDAY=1MO
END:DAYLIGHT
BEGIN:DAYLIGHT
TZNAME:CEMT
TZOFFSETFROM:+0200
TZOFFSETTO:+0300
DTSTART:19450524T020000
RDATE:19470511T030000
END:DAYLIGHT
BEGIN:DAYLIGHT
TZNAME:CEST
TZOFFSETFROM:+0300
TZOFFSETTO:+0200
DTSTART:19450924T030000
RDATE:19470629T030000
END:DAYLIGHT
BEGIN:STANDARD
TZNAME:CET
TZOFFSETFROM:+0100
TZOFFSETTO:+0100
DTSTART:19460101T000000
RDATE:19800101T000000
END:STANDARD
BEGIN:STANDARD
TZNAME:CET
TZOFFSETFROM:+0200
TZOFFSETTO:+0100
DTSTART:19471005T030000
RRULE:FREQ=YEARLY;UNTIL=19491002T010000Z;BYMONTH=10;BYDAY=1SU
END:STANDARD
BEGIN:STANDARD
TZNAME:CET
TZOFFSETFROM:+0200
TZOFFSETTO:+0100
DTSTART:19800928T030000
RRULE:FREQ=YEARLY;UNTIL=19950924T010000Z;BYMONTH=9;BYDAY=-1SU
END:STANDARD
BEGIN:DAYLIGHT
TZNAME:CEST
TZOFFSETFROM:+0100
TZOFFSETTO:+0200
DTSTART:19810329T020000
RRULE:FREQ=YEARLY;BYMONTH=3;BYDAY=-1SU
END:DAYLIGHT
BEGIN:STANDARD
TZNAME:CET
TZOFFSETFROM:+0200
TZOFFSETTO:+0100
DTSTART:19961027T030000
RRULE:FREQ=YEARLY;BYMONTH=10;BYDAY=-1SU
END:STANDARD
END:VTIMEZONE
BEGIN:VEVENT
DTSTAMP:20260423T100721Z
DTSTART;TZID=Europe/Berlin:20250907T160000
DTEND;TZID=Europe/Berlin:20250907T170000
SUMMARY:ROL mJC Ost Grün-Weiß Niederwiesa vs Union Chemnitz (342004)
UID:0c867528-c59d-4115-9380-be8086430618
STATUS:CONFIRMED
LAST-MODIFIED:20250907T180325Z
DESCRIPTION:Regionsoberliga männliche C-Jugend\nBegegnungs-Nr: 342004\nHeim: Grün-Weiß Niederwiesa\nGast: Union Chemnitz\nHalle: SH S.-v.-Pufendorf-Gymnasium Flöha (32404)\nAdresse: Turnerstr. 16\, 09557 Flöha\n
LOCATION:SH S.-v.-Pufendorf-Gymnasium Flöha (32404): Turnerstr. 16\, 09557 Flöha
CATEGORIES:Saison 2025/26
END:VEVENT
BEGIN:VEVENT
DTSTAMP:20260423T100721Z
DTSTART;TZID=Europe/Berlin:20250921T140000
DTEND;TZID=Europe/Berlin:20250921T150000
SUMMARY:ROL mJC Ost Grün-Weiß Niederwiesa vs HSG Freiberg (342011)
UID:1b2ab5a5-e4b8-4e51-9c83-c0655e1ef74b
STATUS:CONFIRMED
LAST-MODIFIED:20250921T173657Z
DESCRIPTION:Regionsoberliga männliche C-Jugend\nBegegnungs-Nr: 342011\nHeim: Grün-Weiß Niederwiesa\nGast: HSG Freiberg\nHalle: SH S.-v.-Pufendorf-Gymnasium Flöha (32404)\nAdresse: Turnerstr. 16\, 09557 Flöha\n
LOCATION:SH S.-v.-Pufendorf-Gymnasium Flöha (32404): Turnerstr. 16\, 09557 Flöha
CATEGORIES:Saison 2025/26
END:VEVENT
BEGIN:VEVENT
DTSTAMP:20260423T100721Z
DTSTART;TZID=Europe/Berlin:20250928T140000
DTEND;TZID=Europe/Berlin:20250928T150000
SUMMARY:ROL mJC Ost Grün-Weiß Niederwiesa vs Burgstädter HC (342014)
UID:67a403ec-c03d-4746-9ab4-94cf1fde637f
STATUS:CONFIRMED
LAST-MODIFIED:20250929T115915Z
DESCRIPTION:Regionsoberliga männliche C-Jugend\nBegegnungs-Nr: 342014\nHeim: Grün-Weiß Niederwiesa\nGast: Burgstädter HC\nHalle: SH S.-v.-Pufendorf-Gymnasium Flöha (32404)\nAdresse: Turnerstr. 16\, 09557 Flöha\n
LOCATION:SH S.-v.-Pufendorf-Gymnasium Flöha (32404): Turnerstr. 16\, 09557 Flöha
CATEGORIES:Saison 2025/26
END:VEVENT
BEGIN:VEVENT
DTSTAMP:20260423T100721Z
DTSTART;TZID=Europe/Berlin:20251102T140000
DTEND;TZID=Europe/Berlin:20251102T150000
SUMMARY:ROL mJC Ost Grün-Weiß Niederwiesa vs Roßweiner SV (342021)
UID:510e7a81-a4c6-4bdc-b099-7d49ce4ed527
STATUS:CONFIRMED
LAST-MODIFIED:20251102T144637Z
DESCRIPTION:Regionsoberliga männliche C-Jugend\nBegegnungs-Nr: 342021\nHeim: Grün-Weiß Niederwiesa\nGast: Roßweiner SV\nHalle: SH S.-v.-Pufendorf-Gymnasium Flöha (32404)\nAdresse: Turnerstr. 16\, 09557 Flöha\n
LOCATION:SH S.-v.-Pufendorf-Gymnasium Flöha (32404): Turnerstr. 16\, 09557 Flöha
CATEGORIES:Saison 2025/26
END:VEVENT
BEGIN:VEVENT
DTSTAMP:20260423T100721Z
DTSTART;TZID=Europe/Berlin:20251123T140000
DTEND;TZID=Europe/Berlin:20251123T150000
SUMMARY:ROL mJC Ost Grün-Weiß Niederwiesa vs Rotation Weißenborn (342023)
UID:363d44bf-9857-4d50-8a1d-8800165c9e5e
STATUS:CONFIRMED
LAST-MODIFIED:20251123T192804Z
DESCRIPTION:Regionsoberliga männliche C-Jugend\nBegegnungs-Nr: 342023\nHeim: Grün-Weiß Niederwiesa\nGast: Rotation Weißenborn\nHalle: SH S.-v.-Pufendorf-Gymnasium Flöha (32404)\nAdresse: Turnerstr. 16\, 09557 Flöha\n
LOCATION:SH S.-v.-Pufendorf-Gymnasium Flöha (32404): Turnerstr. 16\, 09557 Flöha
CATEGORIES:Saison 2025/26
END:VEVENT
BEGIN:VEVENT
DTSTAMP:20260423T100721Z
DTSTART;TZID=Europe/Berlin:20251207T140000
DTEND;TZID=Europe/Berlin:20251207T150000
SUMMARY:ROL mJC Ost Grün-Weiß Niederwiesa vs HV Grüna (342029)
UID:7e33545e-ccac-4ed3-801a-b48981f3f85a
STATUS:CONFIRMED
LAST-MODIFIED:20251214T162242Z
DESCRIPTION:Regionsoberliga männliche C-Jugend\nBegegnungs-Nr: 342029\nHeim: Grün-Weiß Niederwiesa\nGast: HV Grüna\nHalle: Sporthalle Niederwiesa (32419)\nAdresse: Mühlenstr. 21\, 09577 Niederwiesa\n
LOCATION:Sporthalle Niederwiesa (32419): Mühlenstr. 21\, 09577 Niederwiesa
CATEGORIES:Saison 2025/26
END:VEVENT
BEGIN:VEVENT
DTSTAMP:20260423T100721Z
DTSTART;TZID=Europe/Berlin:20260308T140000
DTEND;TZID=Europe/Berlin:20260308T150000
SUMMARY:ROL mJC Meisterrunde 1-6 Grün-Weiß Niederwiesa vs HC Fraureuth (343006)
UID:be13c58b-ab66-4e5a-a46c-aaf68a21aeb8
STATUS:CONFIRMED
LAST-MODIFIED:20260310T065859Z
DESCRIPTION:Regionsoberliga männliche C-Jugend\nBegegnungs-Nr: 343006\nHeim: Grün-Weiß Niederwiesa\nGast: HC Fraureuth\nHalle: SH S.-v.-Pufendorf-Gymnasium Flöha (32404)\nAdresse: Turnerstr. 16\, 09557 Flöha\n
LOCATION:SH S.-v.-Pufendorf-Gymnasium Flöha (32404): Turnerstr. 16\, 09557 Flöha
CATEGORIES:Saison 2025/26
END:VEVENT
BEGIN:VEVENT
DTSTAMP:20260423T100721Z
DTSTART;TZID=Europe/Berlin:20260329T140000
DTEND;TZID=Europe/Berlin:20260329T150000
SUMMARY:ROL mJC Meisterrunde 1-6 Grün-Weiß Niederwiesa vs ZHC Grubenlampe (434012)
UID:da2620a6-abbd-476e-ba49-1404af813630
STATUS:CONFIRMED
LAST-MODIFIED:20260331T122702Z
DESCRIPTION:Regionsoberliga männliche C-Jugend\nBegegnungs-Nr: 434012\nHeim: Grün-Weiß Niederwiesa\nGast: ZHC Grubenlampe\nHalle: SH S.-v.-Pufendorf-Gymnasium Flöha (32404)\nAdresse: Turnerstr. 16\, 09557 Flöha\n
LOCATION:SH S.-v.-Pufendorf-Gymnasium Flöha (32404): Turnerstr. 16\, 09557 Flöha
CATEGORIES:Saison 2025/26
END:VEVENT
BEGIN:VEVENT
DTSTAMP:20260423T100721Z
DTSTART;TZID=Europe/Berlin:20260426T140000
DTEND;TZID=Europe/Berlin:20260426T150000
SUMMARY:ROL mJC Meisterrunde 1-6 Grün-Weiß Niederwiesa vs NSG Gc-Mee-LO (343018)
UID:3b51ffba-dcdd-4322-b8d9-67e824b301fd
STATUS:CONFIRMED
DESCRIPTION:Regionsoberliga männliche C-Jugend\nBegegnungs-Nr: 343018\nHeim: Grün-Weiß Niederwiesa\nGast: NSG Gc-Mee-LO\nHalle: SH S.-v.-Pufendorf-Gymnasium Flöha (32404)\nAdresse: Turnerstr. 16\, 09557 Flöha\n
LOCATION:SH S.-v.-Pufendorf-Gymnasium Flöha (32404): Turnerstr. 16\, 09557 Flöha
CATEGORIES:Saison 2025/26
END:VEVENT
BEGIN:VEVENT
DTSTAMP:20260423T100721Z
DTSTART;TZID=Europe/Berlin:20251102T140000
DTEND;TZID=Europe/Berlin:20251102T150000
SUMMARY:ROL mJC Meisterrunde 1-6 Grün-Weiß Niederwiesa vs Roßweiner SV (342021)
UID:5bef32b2-99a7-44c1-88cd-34f6b6be432d
STATUS:CONFIRMED
LAST-MODIFIED:20251102T144637Z
DESCRIPTION:Regionsoberliga männliche C-Jugend\nBegegnungs-Nr: 342021\nHeim: Grün-Weiß Niederwiesa\nGast: Roßweiner SV\n
LOCATION:
CATEGORIES:Saison 2025/26
END:VEVENT
BEGIN:VEVENT
DTSTAMP:20260423T100721Z
DTSTART;TZID=Europe/Berlin:20250921T140000
DTEND;TZID=Europe/Berlin:20250921T150000
SUMMARY:ROL mJC Meisterrunde 1-6 Grün-Weiß Niederwiesa vs HSG Freiberg (342011)
UID:6666eb59-dcc5-4d75-bc09-7051eb71b167
STATUS:CONFIRMED
LAST-MODIFIED:20250921T173657Z
DESCRIPTION:Regionsoberliga männliche C-Jugend\nBegegnungs-Nr: 342011\nHeim: Grün-Weiß Niederwiesa\nGast: HSG Freiberg\n
LOCATION:
CATEGORIES:Saison 2025/26
END:VEVENT
BEGIN:VEVENT
DTSTAMP:20260423T100721Z
DTSTART;TZID=Europe/Berlin:20250914T120000
DTEND;TZID=Europe/Berlin:20250914T130000
SUMMARY:ROL mJC Ost HV Grüna vs Grün-Weiß Niederwiesa (342007)
UID:8cb89a15-4edd-4c7e-88aa-dd0fa4c1835a
STATUS:CONFIRMED
LAST-MODIFIED:20250914T154417Z
DESCRIPTION:Regionsoberliga männliche C-Jugend\nBegegnungs-Nr: 342007\nHeim: HV Grüna\nGast: Grün-Weiß Niederwiesa\nHalle: SH Dr.-Wilhelm-André-Gymnasium Chemnitz (32114)\nAdresse: Henriettenstraße 35\, 09112 Chemnitz\n
LOCATION:SH Dr.-Wilhelm-André-Gymnasium Chemnitz (32114): Henriettenstraße 35\, 09112 Chemnitz
CATEGORIES:Saison 2025/26
END:VEVENT
BEGIN:VEVENT
DTSTAMP:20260423T100721Z
DTSTART;TZID=Europe/Berlin:20250831T121500
DTEND;TZID=Europe/Berlin:20250831T131500
SUMMARY:ROL mJC Ost Rotation Weißenborn vs Grün-Weiß Niederwiesa (342001)
UID:20322557-5520-484c-8c48-83a4718d7331
STATUS:CONFIRMED
LAST-MODIFIED:20250831T163731Z
DESCRIPTION:Regionsoberliga männliche C-Jugend\nBegegnungs-Nr: 342001\nHeim: Rotation Weißenborn\nGast: Grün-Weiß Niederwiesa\nHalle: SH Schoeller Weißenborn (32415)\nAdresse: Lichtenberger Straße 8\, 09600 Weißenborn\n
LOCATION:SH Schoeller Weißenborn (32415): Lichtenberger Straße 8\, 09600 Weißenborn
CATEGORIES:Saison 2025/26
END:VEVENT
BEGIN:VEVENT
DTSTAMP:20260423T100721Z
DTSTART;TZID=Europe/Berlin:20260207T120000
DTEND;TZID=Europe/Berlin:20260207T130000
SUMMARY:ROL mJC Ost Roßweiner SV vs Grün-Weiß Niederwiesa (342042)
UID:4deb4d45-82a1-4f50-9bee-5043ec7cad80
STATUS:CONFIRMED
LAST-MODIFIED:20260207T142617Z
DESCRIPTION:Regionsoberliga männliche C-Jugend\nBegegnungs-Nr: 342042\nHeim: Roßweiner SV\nGast: Grün-Weiß Niederwiesa\nHalle: Stadt-SH Roßwein (31203)\nAdresse: Grafestraße 1\, 04741 Roßwein\n
LOCATION:Stadt-SH Roßwein (31203): Grafestraße 1\, 04741 Roßwein
CATEGORIES:Saison 2025/26
END:VEVENT
BEGIN:VEVENT
DTSTAMP:20260423T100721Z
DTSTART;TZID=Europe/Berlin:20251108T100000
DTEND;TZID=Europe/Berlin:20251108T110000
SUMMARY:ROL mJC Ost Union Chemnitz vs Grün-Weiß Niederwiesa (342025)
UID:633181bf-e063-46d1-8f9a-1f9be2ce3fe9
STATUS:CONFIRMED
LAST-MODIFIED:20251108T192911Z
DESCRIPTION:Regionsoberliga männliche C-Jugend\nBegegnungs-Nr: 342025\nHeim: Union Chemnitz\nGast: Grün-Weiß Niederwiesa\nHalle: SH Jakobstraße (32116)\nAdresse: Jakobstraße 20\, 09130 Chemnitz\n
LOCATION:SH Jakobstraße (32116): Jakobstraße 20\, 09130 Chemnitz
CATEGORIES:Saison 2025/26
END:VEVENT
BEGIN:VEVENT
DTSTAMP:20260423T100721Z
DTSTART;TZID=Europe/Berlin:20260110T100000
DTEND;TZID=Europe/Berlin:20260110T110000
SUMMARY:ROL mJC Ost HSG Freiberg vs Grün-Weiß Niederwiesa (342032)
UID:01211110-e505-4f60-8292-4f4997e35fce
STATUS:CONFIRMED
LAST-MODIFIED:20260110T155327Z
DESCRIPTION:Regionsoberliga männliche C-Jugend\nBegegnungs-Nr: 342032\nHeim: HSG Freiberg\nGast: Grün-Weiß Niederwiesa\nHalle: Ernst-Grube-Halle Freiberg (32401)\nAdresse: Tschaikowskistr. 2\, 09599 Freiberg\n
LOCATION:Ernst-Grube-Halle Freiberg (32401): Tschaikowskistr. 2\, 09599 Freiberg
CATEGORIES:Saison 2025/26
END:VEVENT
BEGIN:VEVENT
DTSTAMP:20260423T100721Z
DTSTART;TZID=Europe/Berlin:20260124T163000
DTEND;TZID=Europe/Berlin:20260124T173000
SUMMARY:ROL mJC Ost Burgstädter HC vs Grün-Weiß Niederwiesa (342035)
UID:37c7c1ba-35d7-4849-a8c2-d8174f7e74d2
STATUS:CONFIRMED
LAST-MODIFIED:20260124T171002Z
DESCRIPTION:Regionsoberliga männliche C-Jugend\nBegegnungs-Nr: 342035\nHeim: Burgstädter HC\nGast: Grün-Weiß Niederwiesa\nHalle: SH Burgstädt - Sportzentrum am Taurastein (32206)\nAdresse: Am Stadion 22\, 09217  Burgstädt\n
LOCATION:SH Burgstädt - Sportzentrum am Taurastein (32206): Am Stadion 22\, 09217  Burgstädt
CATEGORIES:Saison 2025/26
END:VEVENT
BEGIN:VEVENT
DTSTAMP:20260423T100721Z
DTSTART;TZID=Europe/Berlin:20260301T140000
DTEND;TZID=Europe/Berlin:20260301T150000
SUMMARY:ROL mJC Meisterrunde 1-6 ZHC Grubenlampe vs Grün-Weiß Niederwiesa (343001)
UID:5a1f6bfe-f6ff-483d-b7c1-2a270401a83c
STATUS:CONFIRMED
LAST-MODIFIED:20260301T163437Z
DESCRIPTION:Regionsoberliga männliche C-Jugend\nBegegnungs-Nr: 343001\nHeim: ZHC Grubenlampe\nGast: Grün-Weiß Niederwiesa\nHalle: SH Zwickau-Neuplanitz (32501)\nAdresse: Dortmunder Str. 7a\, 08062 Zwickau\n
LOCATION:SH Zwickau-Neuplanitz (32501): Dortmunder Str. 7a\, 08062 Zwickau
CATEGORIES:Saison 2025/26
END:VEVENT
BEGIN:VEVENT
DTSTAMP:20260423T100721Z
DTSTART;TZID=Europe/Berlin:20260321T113000
DTEND;TZID=Europe/Berlin:20260321T123000
SUMMARY:ROL mJC Meisterrunde 1-6 NSG Gc-Mee-LO vs Grün-Weiß Niederwiesa (343009)
UID:def0ccb1-a9e9-424e-a427-1c5d8540cd4f
STATUS:CONFIRMED
LAST-MODIFIED:20260407T174232Z
DESCRIPTION:Regionsoberliga männliche C-Jugend\nBegegnungs-Nr: 343009\nHeim: NSG Gc-Mee-LO\nGast: Grün-Weiß Niederwiesa\nHalle: Sachsenlandhalle Glauchau (32204)\nAdresse: An der Sachsenlandhalle 3\, 08371 Glauchau\n
LOCATION:Sachsenlandhalle Glauchau (32204): An der Sachsenlandhalle 3\, 08371 Glauchau
CATEGORIES:Saison 2025/26
END:VEVENT
BEGIN:VEVENT
DTSTAMP:20260423T100721Z
DTSTART;TZID=Europe/Berlin:20260418T100000
DTEND;TZID=Europe/Berlin:20260418T110000
SUMMARY:ROL mJC Meisterrunde 1-6 HC Fraureuth vs Grün-Weiß Niederwiesa (343014)
UID:72c80105-dcef-419c-b64e-5c6bae7d4941
STATUS:CONFIRMED
LAST-MODIFIED:20260418T163458Z
DESCRIPTION:Regionsoberliga männliche C-Jugend\nBegegnungs-Nr: 343014\nHeim: HC Fraureuth\nGast: Grün-Weiß Niederwiesa\nHalle: Mehrzweckhalle \"Erich Glowatzky\" Fraureuth (32509)\nAdresse: Zwickauer Str. 8a\, 08427 Fraureuth\n
LOCATION:Mehrzweckhalle \"Erich Glowatzky\" Fraureuth (32509): Zwickauer Str. 8a\, 08427 Fraureuth
CATEGORIES:Saison 2025/26
END:VEVENT
BEGIN:VEVENT
DTSTAMP:20260423T100721Z
DTSTART;TZID=Europe/Berlin:20260110T100000
DTEND;TZID=Europe/Berlin:20260110T110000
SUMMARY:ROL mJC Meisterrunde 1-6 HSG Freiberg vs Grün-Weiß Niederwiesa (342032)
UID:efd95337-92e5-4797-ad49-e84834a72dac
STATUS:CONFIRMED
LAST-MODIFIED:20260110T155327Z
DESCRIPTION:Regionsoberliga männliche C-Jugend\nBegegnungs-Nr: 342032\nHeim: HSG Freiberg\nGast: Grün-Weiß Niederwiesa\n
LOCATION:
CATEGORIES:Saison 2025/26
END:VEVENT
BEGIN:VEVENT
DTSTAMP:20260423T100721Z
DTSTART;TZID=Europe/Berlin:20260207T120000
DTEND;TZID=Europe/Berlin:20260207T130000
SUMMARY:ROL mJC Meisterrunde 1-6 Roßweiner SV vs Grün-Weiß Niederwiesa (342042)
UID:78b1db53-67a8-4c1c-8192-338d6d46c77f
STATUS:CONFIRMED
LAST-MODIFIED:20260207T142617Z
DESCRIPTION:Regionsoberliga männliche C-Jugend\nBegegnungs-Nr: 342042\nHeim: Roßweiner SV\nGast: Grün-Weiß Niederwiesa\n
LOCATION:
CATEGORIES:Saison 2025/26
END:VEVENT
END:VCALENDAR
