BEGIN:VCALENDAR
PRODID:-//nuDatenautomaten//framework iCal4j //DE
VERSION:2.0
CALSCALE:GREGORIAN
BEGIN:VTIMEZONE
TZID:Europe/Berlin
LAST-MODIFIED:20260306T231828Z
TZURL:https://www.tzurl.org/zoneinfo/Europe/Berlin
X-LIC-LOCATION:Europe/Berlin
X-PROLEPTIC-TZNAME:LMT
BEGIN:STANDARD
TZNAME:CET
TZOFFSETFROM:+005328
TZOFFSETTO:+0100
DTSTART:18930401T000000
END:STANDARD
BEGIN:DAYLIGHT
TZNAME:CEST
TZOFFSETFROM:+0100
TZOFFSETTO:+0200
DTSTART:19160430T230000
RDATE:19400401T020000
RDATE:19430329T020000
RDATE:19460414T020000
RDATE:19470406T030000
RDATE:19480418T020000
RDATE:19490410T020000
RDATE:19800406T020000
END:DAYLIGHT
BEGIN:STANDARD
TZNAME:CET
TZOFFSETFROM:+0200
TZOFFSETTO:+0100
DTSTART:19161001T010000
RDATE:19421102T030000
RDATE:19431004T030000
RDATE:19441002T030000
RDATE:19451118T030000
RDATE:19461007T030000
END:STANDARD
BEGIN:DAYLIGHT
TZNAME:CEST
TZOFFSETFROM:+0100
TZOFFSETTO:+0200
DTSTART:19170416T020000
RRULE:FREQ=YEARLY;UNTIL=19180415T010000Z;BYMONTH=4;BYDAY=3MO
END:DAYLIGHT
BEGIN:STANDARD
TZNAME:CET
TZOFFSETFROM:+0200
TZOFFSETTO:+0100
DTSTART:19170917T030000
RRULE:FREQ=YEARLY;UNTIL=19180916T010000Z;BYMONTH=9;BYDAY=3MO
END:STANDARD
BEGIN:DAYLIGHT
TZNAME:CEST
TZOFFSETFROM:+0100
TZOFFSETTO:+0200
DTSTART:19440403T020000
RRULE:FREQ=YEARLY;UNTIL=19450402T010000Z;BYMONTH=4;BYDAY=1MO
END:DAYLIGHT
BEGIN:DAYLIGHT
TZNAME:CEMT
TZOFFSETFROM:+0200
TZOFFSETTO:+0300
DTSTART:19450524T020000
RDATE:19470511T030000
END:DAYLIGHT
BEGIN:DAYLIGHT
TZNAME:CEST
TZOFFSETFROM:+0300
TZOFFSETTO:+0200
DTSTART:19450924T030000
RDATE:19470629T030000
END:DAYLIGHT
BEGIN:STANDARD
TZNAME:CET
TZOFFSETFROM:+0100
TZOFFSETTO:+0100
DTSTART:19460101T000000
RDATE:19800101T000000
END:STANDARD
BEGIN:STANDARD
TZNAME:CET
TZOFFSETFROM:+0200
TZOFFSETTO:+0100
DTSTART:19471005T030000
RRULE:FREQ=YEARLY;UNTIL=19491002T010000Z;BYMONTH=10;BYDAY=1SU
END:STANDARD
BEGIN:STANDARD
TZNAME:CET
TZOFFSETFROM:+0200
TZOFFSETTO:+0100
DTSTART:19800928T030000
RRULE:FREQ=YEARLY;UNTIL=19950924T010000Z;BYMONTH=9;BYDAY=-1SU
END:STANDARD
BEGIN:DAYLIGHT
TZNAME:CEST
TZOFFSETFROM:+0100
TZOFFSETTO:+0200
DTSTART:19810329T020000
RRULE:FREQ=YEARLY;BYMONTH=3;BYDAY=-1SU
END:DAYLIGHT
BEGIN:STANDARD
TZNAME:CET
TZOFFSETFROM:+0200
TZOFFSETTO:+0100
DTSTART:19961027T030000
RRULE:FREQ=YEARLY;BYMONTH=10;BYDAY=-1SU
END:STANDARD
END:VTIMEZONE
BEGIN:VEVENT
DTSTAMP:20260423T191527Z
DTSTART;TZID=Europe/Berlin:20260307T103000
DTEND;TZID=Europe/Berlin:20260307T113000
SUMMARY:Regionsoberliga S-M mJB S2 Motor Wilsdruff  vs SG Weixdorf (53038)
UID:260d3bb0-4d32-409d-b3be-a33eee00e090
STATUS:CONFIRMED
LAST-MODIFIED:20260311T210358Z
DESCRIPTION:Regionsoberliga S-M mJB Staffel 2\nBegegnungs-Nr: 53038\nHeim: Motor Wilsdruff \nGast: SG Weixdorf\nHalle: Saubach-SH Wilsdruff (33208)\nAdresse: Nossener Str. 21b\, 01723 Wilsdruff\n
LOCATION:Saubach-SH Wilsdruff (33208): Nossener Str. 21b\, 01723 Wilsdruff
CATEGORIES:Saison 2025/26
END:VEVENT
BEGIN:VEVENT
DTSTAMP:20260423T191527Z
DTSTART;TZID=Europe/Berlin:20260117T163000
DTEND;TZID=Europe/Berlin:20260117T173000
SUMMARY:Regionsoberliga S-M mJB S2 Motor Wilsdruff  vs SV Niederau (53027)
UID:25123398-cef3-4d08-949b-c3d1208ef8a0
STATUS:CONFIRMED
LAST-MODIFIED:20260119T125429Z
DESCRIPTION:Regionsoberliga S-M mJB Staffel 2\nBegegnungs-Nr: 53027\nHeim: Motor Wilsdruff \nGast: SV Niederau\nHalle: Saubach-SH Wilsdruff (33208)\nAdresse: Nossener Str. 21b\, 01723 Wilsdruff\n
LOCATION:Saubach-SH Wilsdruff (33208): Nossener Str. 21b\, 01723 Wilsdruff
CATEGORIES:Saison 2025/26
END:VEVENT
BEGIN:VEVENT
DTSTAMP:20260423T191527Z
DTSTART;TZID=Europe/Berlin:20251025T163000
DTEND;TZID=Europe/Berlin:20251025T173000
SUMMARY:Regionsoberliga S-M mJB S2 Motor Wilsdruff  vs SG Dippoldiswalde-Ruppendorf (53014)
UID:022fa566-ae7c-4789-9cda-6932babbc095
STATUS:CONFIRMED
LAST-MODIFIED:20251103T162405Z
DESCRIPTION:Regionsoberliga S-M mJB Staffel 2\nBegegnungs-Nr: 53014\nHeim: Motor Wilsdruff \nGast: SG Dippoldiswalde-Ruppendorf\nHalle: Saubach-SH Wilsdruff (33208)\nAdresse: Nossener Str. 21b\, 01723 Wilsdruff\n
LOCATION:Saubach-SH Wilsdruff (33208): Nossener Str. 21b\, 01723 Wilsdruff
CATEGORIES:Saison 2025/26
END:VEVENT
BEGIN:VEVENT
DTSTAMP:20260423T191527Z
DTSTART;TZID=Europe/Berlin:20251130T140000
DTEND;TZID=Europe/Berlin:20251130T150000
SUMMARY:Regionsoberliga S-M mJB S2 Motor Wilsdruff  vs HC Großenhain  II (53010)
UID:23f849eb-71c3-4bf5-812c-c918af0b24da
STATUS:CONFIRMED
LAST-MODIFIED:20251201T164110Z
DESCRIPTION:Regionsoberliga S-M mJB Staffel 2\nBegegnungs-Nr: 53010\nHeim: Motor Wilsdruff \nGast: HC Großenhain  II\nHalle: Saubach-SH Wilsdruff (33208)\nAdresse: Nossener Str. 21b\, 01723 Wilsdruff\n
LOCATION:Saubach-SH Wilsdruff (33208): Nossener Str. 21b\, 01723 Wilsdruff
CATEGORIES:Saison 2025/26
END:VEVENT
BEGIN:VEVENT
DTSTAMP:20260423T191527Z
DTSTART;TZID=Europe/Berlin:20260316T180000
DTEND;TZID=Europe/Berlin:20260316T190000
SUMMARY:Regionsoberliga S-M mJB S2 Motor Wilsdruff  vs Coswiger HSG (53029)
UID:b3beb5bf-23c4-4113-b59e-dd07b9163d15
STATUS:CONFIRMED
LAST-MODIFIED:20260323T160514Z
DESCRIPTION:Regionsoberliga S-M mJB Staffel 2\nBegegnungs-Nr: 53029\nHeim: Motor Wilsdruff \nGast: Coswiger HSG\nHalle: Saubach-SH Wilsdruff (33208)\nAdresse: Nossener Str. 21b\, 01723 Wilsdruff\n
LOCATION:Saubach-SH Wilsdruff (33208): Nossener Str. 21b\, 01723 Wilsdruff
CATEGORIES:Saison 2025/26
END:VEVENT
BEGIN:VEVENT
DTSTAMP:20260423T191527Z
DTSTART;TZID=Europe/Berlin:20260110T133000
DTEND;TZID=Europe/Berlin:20260110T143000
SUMMARY:Regionsoberliga S-M mJB S2 Motor Wilsdruff  vs SG Klotzsche (53002)
UID:e9b07615-34a2-4021-8247-4356dd651c78
STATUS:CONFIRMED
LAST-MODIFIED:20260113T163757Z
DESCRIPTION:Regionsoberliga S-M mJB Staffel 2\nBegegnungs-Nr: 53002\nHeim: Motor Wilsdruff \nGast: SG Klotzsche\nHalle: Saubach-SH Wilsdruff (33208)\nAdresse: Nossener Str. 21b\, 01723 Wilsdruff\n
LOCATION:Saubach-SH Wilsdruff (33208): Nossener Str. 21b\, 01723 Wilsdruff
CATEGORIES:Saison 2025/26
END:VEVENT
BEGIN:VEVENT
DTSTAMP:20260423T191527Z
DTSTART;TZID=Europe/Berlin:20260131T120000
DTEND;TZID=Europe/Berlin:20260131T130000
SUMMARY:Regionsoberliga S-M mJB S2 HC Großenhain  II vs Motor Wilsdruff  (53031)
UID:eb6c0164-a56f-4847-bcd4-436dbe093606
STATUS:CONFIRMED
LAST-MODIFIED:20260201T160732Z
DESCRIPTION:Regionsoberliga S-M mJB Staffel 2\nBegegnungs-Nr: 53031\nHeim: HC Großenhain  II\nGast: Motor Wilsdruff \nHalle: Rödertal-SH (33205)\nAdresse: Am Marstall 4\, 01558 Großenhain\n
LOCATION:Rödertal-SH (33205): Am Marstall 4\, 01558 Großenhain
CATEGORIES:Saison 2025/26
END:VEVENT
BEGIN:VEVENT
DTSTAMP:20260423T191527Z
DTSTART;TZID=Europe/Berlin:20250831T160000
DTEND;TZID=Europe/Berlin:20250831T170000
SUMMARY:Regionsoberliga S-M mJB S2 SG Klotzsche vs Motor Wilsdruff  (53023)
UID:b29d050f-7084-4395-8d0c-104b02f893eb
STATUS:CONFIRMED
LAST-MODIFIED:20250902T134625Z
DESCRIPTION:Regionsoberliga S-M mJB Staffel 2\nBegegnungs-Nr: 53023\nHeim: SG Klotzsche\nGast: Motor Wilsdruff \nHalle: SH Gymnasium Klotzsche (33126)\nAdresse: Karl-Marx-Straße 44\, 01109 Dresden\n
LOCATION:SH Gymnasium Klotzsche (33126): Karl-Marx-Straße 44\, 01109 Dresden
CATEGORIES:Saison 2025/26
END:VEVENT
BEGIN:VEVENT
DTSTAMP:20260423T191527Z
DTSTART;TZID=Europe/Berlin:20260301T100000
DTEND;TZID=Europe/Berlin:20260301T110000
SUMMARY:Regionsoberliga S-M mJB S2 SG Dippoldiswalde-Ruppendorf vs Motor Wilsdruff  (53035)
UID:7925ee39-f9d2-49a5-aca9-97ee1a10d06c
STATUS:CONFIRMED
LAST-MODIFIED:20260305T161218Z
DESCRIPTION:Regionsoberliga S-M mJB Staffel 2\nBegegnungs-Nr: 53035\nHeim: SG Dippoldiswalde-Ruppendorf\nGast: Motor Wilsdruff \nHalle: SH Glashütte (33225)\nAdresse: Prießnitztal 32\, 01768 Glashütte\n
LOCATION:SH Glashütte (33225): Prießnitztal 32\, 01768 Glashütte
CATEGORIES:Saison 2025/26
END:VEVENT
BEGIN:VEVENT
DTSTAMP:20260423T191527Z
DTSTART;TZID=Europe/Berlin:20251102T100000
DTEND;TZID=Europe/Berlin:20251102T110000
SUMMARY:Regionsoberliga S-M mJB S2 SG Weixdorf vs Motor Wilsdruff  (53017)
UID:f539dd67-a382-4583-8ab0-d5d740ad0907
STATUS:CONFIRMED
LAST-MODIFIED:20251103T163238Z
DESCRIPTION:Regionsoberliga S-M mJB Staffel 2\nBegegnungs-Nr: 53017\nHeim: SG Weixdorf\nGast: Motor Wilsdruff \nHalle: Gerhard-Grafe-SH Weixdorf (33116)\nAdresse: Weixdorfer Rathausplatz 2a\, 01108 Dresden\n
LOCATION:Gerhard-Grafe-SH Weixdorf (33116): Weixdorfer Rathausplatz 2a\, 01108 Dresden
CATEGORIES:Saison 2025/26
END:VEVENT
BEGIN:VEVENT
DTSTAMP:20260423T191527Z
DTSTART;TZID=Europe/Berlin:20250927T114500
DTEND;TZID=Europe/Berlin:20250927T124500
SUMMARY:Regionsoberliga S-M mJB S2 Coswiger HSG vs Motor Wilsdruff  (53008)
UID:65bd6b36-b6e8-47df-8882-10d899ef1542
STATUS:CONFIRMED
LAST-MODIFIED:20250928T161630Z
DESCRIPTION:Regionsoberliga S-M mJB Staffel 2\nBegegnungs-Nr: 53008\nHeim: Coswiger HSG\nGast: Motor Wilsdruff \nHalle: SH Gymnasium Coswig (33209)\nAdresse: Melanchthonstraße 8 - 10\, 01640 Coswig\n
LOCATION:SH Gymnasium Coswig (33209): Melanchthonstraße 8 - 10\, 01640 Coswig
CATEGORIES:Saison 2025/26
END:VEVENT
BEGIN:VEVENT
DTSTAMP:20260423T191527Z
DTSTART;TZID=Europe/Berlin:20250906T150000
DTEND;TZID=Europe/Berlin:20250906T160000
SUMMARY:Regionsoberliga S-M mJB S2 SV Niederau vs Motor Wilsdruff  (53006)
UID:6a1a69b7-0bc2-4737-b80c-7ec347fa8e55
STATUS:CONFIRMED
LAST-MODIFIED:20250912T161410Z
DESCRIPTION:Regionsoberliga S-M mJB Staffel 2\nBegegnungs-Nr: 53006\nHeim: SV Niederau\nGast: Motor Wilsdruff \nHalle: SH BSZ Meißen (33220)\nAdresse: Goethestraße 21\, 01662 Meißen\n
LOCATION:SH BSZ Meißen (33220): Goethestraße 21\, 01662 Meißen
CATEGORIES:Saison 2025/26
END:VEVENT
END:VCALENDAR
