BEGIN:VCALENDAR
PRODID:-//nuDatenautomaten//framework iCal4j //DE
VERSION:2.0
CALSCALE:GREGORIAN
BEGIN:VTIMEZONE
TZID:Europe/Berlin
LAST-MODIFIED:20260306T231828Z
TZURL:https://www.tzurl.org/zoneinfo/Europe/Berlin
X-LIC-LOCATION:Europe/Berlin
X-PROLEPTIC-TZNAME:LMT
BEGIN:STANDARD
TZNAME:CET
TZOFFSETFROM:+005328
TZOFFSETTO:+0100
DTSTART:18930401T000000
END:STANDARD
BEGIN:DAYLIGHT
TZNAME:CEST
TZOFFSETFROM:+0100
TZOFFSETTO:+0200
DTSTART:19160430T230000
RDATE:19400401T020000
RDATE:19430329T020000
RDATE:19460414T020000
RDATE:19470406T030000
RDATE:19480418T020000
RDATE:19490410T020000
RDATE:19800406T020000
END:DAYLIGHT
BEGIN:STANDARD
TZNAME:CET
TZOFFSETFROM:+0200
TZOFFSETTO:+0100
DTSTART:19161001T010000
RDATE:19421102T030000
RDATE:19431004T030000
RDATE:19441002T030000
RDATE:19451118T030000
RDATE:19461007T030000
END:STANDARD
BEGIN:DAYLIGHT
TZNAME:CEST
TZOFFSETFROM:+0100
TZOFFSETTO:+0200
DTSTART:19170416T020000
RRULE:FREQ=YEARLY;UNTIL=19180415T010000Z;BYMONTH=4;BYDAY=3MO
END:DAYLIGHT
BEGIN:STANDARD
TZNAME:CET
TZOFFSETFROM:+0200
TZOFFSETTO:+0100
DTSTART:19170917T030000
RRULE:FREQ=YEARLY;UNTIL=19180916T010000Z;BYMONTH=9;BYDAY=3MO
END:STANDARD
BEGIN:DAYLIGHT
TZNAME:CEST
TZOFFSETFROM:+0100
TZOFFSETTO:+0200
DTSTART:19440403T020000
RRULE:FREQ=YEARLY;UNTIL=19450402T010000Z;BYMONTH=4;BYDAY=1MO
END:DAYLIGHT
BEGIN:DAYLIGHT
TZNAME:CEMT
TZOFFSETFROM:+0200
TZOFFSETTO:+0300
DTSTART:19450524T020000
RDATE:19470511T030000
END:DAYLIGHT
BEGIN:DAYLIGHT
TZNAME:CEST
TZOFFSETFROM:+0300
TZOFFSETTO:+0200
DTSTART:19450924T030000
RDATE:19470629T030000
END:DAYLIGHT
BEGIN:STANDARD
TZNAME:CET
TZOFFSETFROM:+0100
TZOFFSETTO:+0100
DTSTART:19460101T000000
RDATE:19800101T000000
END:STANDARD
BEGIN:STANDARD
TZNAME:CET
TZOFFSETFROM:+0200
TZOFFSETTO:+0100
DTSTART:19471005T030000
RRULE:FREQ=YEARLY;UNTIL=19491002T010000Z;BYMONTH=10;BYDAY=1SU
END:STANDARD
BEGIN:STANDARD
TZNAME:CET
TZOFFSETFROM:+0200
TZOFFSETTO:+0100
DTSTART:19800928T030000
RRULE:FREQ=YEARLY;UNTIL=19950924T010000Z;BYMONTH=9;BYDAY=-1SU
END:STANDARD
BEGIN:DAYLIGHT
TZNAME:CEST
TZOFFSETFROM:+0100
TZOFFSETTO:+0200
DTSTART:19810329T020000
RRULE:FREQ=YEARLY;BYMONTH=3;BYDAY=-1SU
END:DAYLIGHT
BEGIN:STANDARD
TZNAME:CET
TZOFFSETFROM:+0200
TZOFFSETTO:+0100
DTSTART:19961027T030000
RRULE:FREQ=YEARLY;BYMONTH=10;BYDAY=-1SU
END:STANDARD
END:VTIMEZONE
BEGIN:VEVENT
DTSTAMP:20260424T053655Z
DTSTART;TZID=Europe/Berlin:20260328T170000
DTEND;TZID=Europe/Berlin:20260328T183000
SUMMARY:Regionsliga OS SG Oberlichtenau vs SG Sohland/Friedersdorf II (3118)
UID:cef2fbd5-04fb-4551-ae96-963c4ecb8d96
STATUS:CONFIRMED
LAST-MODIFIED:20260329T133103Z
DESCRIPTION:Regionsliga Ostsachsen Männer\nBegegnungs-Nr: 3118\nHeim: SG Oberlichtenau\nGast: SG Sohland/Friedersdorf II\nHalle: Sportkomplex Pulsnitz (34208)\nAdresse: Hempelstr. 8\, 01896 Pulsnitz\n
LOCATION:Sportkomplex Pulsnitz (34208): Hempelstr. 8\, 01896 Pulsnitz
CATEGORIES:Saison 2025/26
END:VEVENT
BEGIN:VEVENT
DTSTAMP:20260424T053655Z
DTSTART;TZID=Europe/Berlin:20250921T170000
DTEND;TZID=Europe/Berlin:20250921T183000
SUMMARY:Regionsliga OS SG Oberlichtenau vs Stahl Rietschen II (3023)
UID:55132ac0-a83a-4137-a993-44d352e4adc9
STATUS:CONFIRMED
LAST-MODIFIED:20250922T123841Z
DESCRIPTION:Regionsliga Ostsachsen Männer\nBegegnungs-Nr: 3023\nHeim: SG Oberlichtenau\nGast: Stahl Rietschen II\nHalle: Sportkomplex Pulsnitz (34208)\nAdresse: Hempelstr. 8\, 01896 Pulsnitz\n
LOCATION:Sportkomplex Pulsnitz (34208): Hempelstr. 8\, 01896 Pulsnitz
CATEGORIES:Saison 2025/26
END:VEVENT
BEGIN:VEVENT
DTSTAMP:20260424T053655Z
DTSTART;TZID=Europe/Berlin:20251026T170000
DTEND;TZID=Europe/Berlin:20251026T183000
SUMMARY:Regionsliga OS SG Oberlichtenau vs HSV 1923 Pulsnitz III (3031)
UID:98aa86cd-e9c9-416f-8a5b-feb94422eeb0
STATUS:CONFIRMED
LAST-MODIFIED:20251101T103231Z
DESCRIPTION:Regionsliga Ostsachsen Männer\nBegegnungs-Nr: 3031\nHeim: SG Oberlichtenau\nGast: HSV 1923 Pulsnitz III\nHalle: Sportkomplex Pulsnitz (34208)\nAdresse: Hempelstr. 8\, 01896 Pulsnitz\n
LOCATION:Sportkomplex Pulsnitz (34208): Hempelstr. 8\, 01896 Pulsnitz
CATEGORIES:Saison 2025/26
END:VEVENT
BEGIN:VEVENT
DTSTAMP:20260424T053655Z
DTSTART;TZID=Europe/Berlin:20251109T170000
DTEND;TZID=Europe/Berlin:20251109T183000
SUMMARY:Regionsliga OS SG Oberlichtenau vs HV Eibau (3045)
UID:c13749e4-be2d-4ab6-a9b8-5a5aa6fc821b
STATUS:CONFIRMED
LAST-MODIFIED:20251109T191213Z
DESCRIPTION:Regionsliga Ostsachsen Männer\nBegegnungs-Nr: 3045\nHeim: SG Oberlichtenau\nGast: HV Eibau\nHalle: Sportkomplex Pulsnitz (34208)\nAdresse: Hempelstr. 8\, 01896 Pulsnitz\n
LOCATION:Sportkomplex Pulsnitz (34208): Hempelstr. 8\, 01896 Pulsnitz
CATEGORIES:Saison 2025/26
END:VEVENT
BEGIN:VEVENT
DTSTAMP:20260424T053655Z
DTSTART;TZID=Europe/Berlin:20251129T170000
DTEND;TZID=Europe/Berlin:20251129T183000
SUMMARY:Regionsliga OS SG Oberlichtenau vs OSV Zittau (3059)
UID:1cbc3a41-a697-471f-8e3f-9588088e6abc
STATUS:CONFIRMED
LAST-MODIFIED:20251130T174842Z
DESCRIPTION:Regionsliga Ostsachsen Männer\nBegegnungs-Nr: 3059\nHeim: SG Oberlichtenau\nGast: OSV Zittau\nHalle: Sportkomplex Pulsnitz (34208)\nAdresse: Hempelstr. 8\, 01896 Pulsnitz\n
LOCATION:Sportkomplex Pulsnitz (34208): Hempelstr. 8\, 01896 Pulsnitz
CATEGORIES:Saison 2025/26
END:VEVENT
BEGIN:VEVENT
DTSTAMP:20260424T053655Z
DTSTART;TZID=Europe/Berlin:20260110T190000
DTEND;TZID=Europe/Berlin:20260110T203000
SUMMARY:Regionsliga OS SG Oberlichtenau vs Koweg Görlitz III (3132)
UID:74ffc39d-92f6-4c56-912c-7d4fa207ac92
STATUS:CONFIRMED
LAST-MODIFIED:20260110T235254Z
DESCRIPTION:Regionsliga Ostsachsen Männer\nBegegnungs-Nr: 3132\nHeim: SG Oberlichtenau\nGast: Koweg Görlitz III\nHalle: Sportkomplex Pulsnitz (34208)\nAdresse: Hempelstr. 8\, 01896 Pulsnitz\n
LOCATION:Sportkomplex Pulsnitz (34208): Hempelstr. 8\, 01896 Pulsnitz
CATEGORIES:Saison 2025/26
END:VEVENT
BEGIN:VEVENT
DTSTAMP:20260424T053655Z
DTSTART;TZID=Europe/Berlin:20260125T170000
DTEND;TZID=Europe/Berlin:20260125T183000
SUMMARY:Regionsliga OS SG Oberlichtenau vs TBSV Neugersdorf II (3083)
UID:e2144dfe-cbb9-481a-a54d-c73fe7271566
STATUS:CONFIRMED
LAST-MODIFIED:20260126T073707Z
DESCRIPTION:Regionsliga Ostsachsen Männer\nBegegnungs-Nr: 3083\nHeim: SG Oberlichtenau\nGast: TBSV Neugersdorf II\nHalle: Sportkomplex Pulsnitz (34208)\nAdresse: Hempelstr. 8\, 01896 Pulsnitz\n
LOCATION:Sportkomplex Pulsnitz (34208): Hempelstr. 8\, 01896 Pulsnitz
CATEGORIES:Saison 2025/26
END:VEVENT
BEGIN:VEVENT
DTSTAMP:20260424T053655Z
DTSTART;TZID=Europe/Berlin:20260208T170000
DTEND;TZID=Europe/Berlin:20260208T183000
SUMMARY:Regionsliga OS SG Oberlichtenau vs SV Lok Königsbrück  (3094)
UID:d47661be-4189-4c00-a289-660392b141fa
STATUS:CONFIRMED
LAST-MODIFIED:20260209T052816Z
DESCRIPTION:Regionsliga Ostsachsen Männer\nBegegnungs-Nr: 3094\nHeim: SG Oberlichtenau\nGast: SV Lok Königsbrück \nHalle: Sportkomplex Pulsnitz (34208)\nAdresse: Hempelstr. 8\, 01896 Pulsnitz\n
LOCATION:Sportkomplex Pulsnitz (34208): Hempelstr. 8\, 01896 Pulsnitz
CATEGORIES:Saison 2025/26
END:VEVENT
BEGIN:VEVENT
DTSTAMP:20260424T053655Z
DTSTART;TZID=Europe/Berlin:20260308T170000
DTEND;TZID=Europe/Berlin:20260308T183000
SUMMARY:Regionsliga OS SG Oberlichtenau vs Radeberger SV III (3104)
UID:51e3b967-ae17-4286-83d0-1662203d0aef
STATUS:CONFIRMED
LAST-MODIFIED:20260320T110546Z
DESCRIPTION:Regionsliga Ostsachsen Männer\nBegegnungs-Nr: 3104\nHeim: SG Oberlichtenau\nGast: Radeberger SV III\nHalle: Sportkomplex Pulsnitz (34208)\nAdresse: Hempelstr. 8\, 01896 Pulsnitz\n
LOCATION:Sportkomplex Pulsnitz (34208): Hempelstr. 8\, 01896 Pulsnitz
CATEGORIES:Saison 2025/26
END:VEVENT
BEGIN:VEVENT
DTSTAMP:20260424T053655Z
DTSTART;TZID=Europe/Berlin:20260418T180000
DTEND;TZID=Europe/Berlin:20260418T193000
SUMMARY:Regionsliga OS OSV Zittau vs SG Oberlichtenau (3125)
UID:f06bb461-b035-4cd7-973a-6d14bc8dfbc7
STATUS:CONFIRMED
LAST-MODIFIED:20260423T082623Z
DESCRIPTION:Regionsliga Ostsachsen Männer\nBegegnungs-Nr: 3125\nHeim: OSV Zittau\nGast: SG Oberlichtenau\nHalle: SH Zittau (34107)\nAdresse: Lisa - Tetzner - Str.\, 02763 Zittau\n
LOCATION:SH Zittau (34107): Lisa - Tetzner - Str.\, 02763 Zittau
CATEGORIES:Saison 2025/26
END:VEVENT
BEGIN:VEVENT
DTSTAMP:20260424T053655Z
DTSTART;TZID=Europe/Berlin:20250913T140000
DTEND;TZID=Europe/Berlin:20250913T153000
SUMMARY:Regionsliga OS TBSV Neugersdorf II vs SG Oberlichtenau (3017)
UID:1cf70324-6649-4a53-8438-e92fb9af5eaa
STATUS:CONFIRMED
LAST-MODIFIED:20250913T135925Z
DESCRIPTION:Regionsliga Ostsachsen Männer\nBegegnungs-Nr: 3017\nHeim: TBSV Neugersdorf II\nGast: SG Oberlichtenau\nHalle: SH Gymnasium Seifhennersdorf (34104)\nAdresse: Albertstraße 2\, 02782 Seifhennersdorf\n
LOCATION:SH Gymnasium Seifhennersdorf (34104): Albertstraße 2\, 02782 Seifhennersdorf
CATEGORIES:Saison 2025/26
END:VEVENT
BEGIN:VEVENT
DTSTAMP:20260424T053655Z
DTSTART;TZID=Europe/Berlin:20250927T170000
DTEND;TZID=Europe/Berlin:20250927T183000
SUMMARY:Regionsliga OS SV Lok Königsbrück  vs SG Oberlichtenau (3028)
UID:5466fa45-7540-4773-804f-ac4537256a66
STATUS:CONFIRMED
LAST-MODIFIED:20250928T055721Z
DESCRIPTION:Regionsliga Ostsachsen Männer\nBegegnungs-Nr: 3028\nHeim: SV Lok Königsbrück \nGast: SG Oberlichtenau\nHalle: 2-Feld-Halle- OS Königsbrück (34513)\nAdresse: An der Schule 3\, 01936 Königsbrück\n
LOCATION:2-Feld-Halle- OS Königsbrück (34513): An der Schule 3\, 01936 Königsbrück
CATEGORIES:Saison 2025/26
END:VEVENT
BEGIN:VEVENT
DTSTAMP:20260424T053655Z
DTSTART;TZID=Europe/Berlin:20251101T140000
DTEND;TZID=Europe/Berlin:20251101T153000
SUMMARY:Regionsliga OS Radeberger SV III vs SG Oberlichtenau (3038)
UID:dba403c7-e270-4e8c-afc8-44598304b741
STATUS:CONFIRMED
LAST-MODIFIED:20251101T182518Z
DESCRIPTION:Regionsliga Ostsachsen Männer\nBegegnungs-Nr: 3038\nHeim: Radeberger SV III\nGast: SG Oberlichtenau\nHalle: 3-Feld-Halle-BSZ Radeberg (34209)\nAdresse: Robert-Blum-Weg 5\, 01454 Radeberg\n
LOCATION:3-Feld-Halle-BSZ Radeberg (34209): Robert-Blum-Weg 5\, 01454 Radeberg
CATEGORIES:Saison 2025/26
END:VEVENT
BEGIN:VEVENT
DTSTAMP:20260424T053655Z
DTSTART;TZID=Europe/Berlin:20251123T113000
DTEND;TZID=Europe/Berlin:20251123T130000
SUMMARY:Regionsliga OS SG Sohland/Friedersdorf II vs SG Oberlichtenau (3052)
UID:b41b0978-a359-4804-bece-6e8f30189512
STATUS:CONFIRMED
LAST-MODIFIED:20251130T174521Z
DESCRIPTION:Regionsliga Ostsachsen Männer\nBegegnungs-Nr: 3052\nHeim: SG Sohland/Friedersdorf II\nGast: SG Oberlichtenau\nHalle: \"Oberland-Sporthalle\" Sohland (34501)\nAdresse: G. - Hauptmann - Str. 4 A\, 02689 Sohland\n
LOCATION:\"Oberland-Sporthalle\" Sohland (34501): G. - Hauptmann - Str. 4 A\, 02689 Sohland
CATEGORIES:Saison 2025/26
END:VEVENT
BEGIN:VEVENT
DTSTAMP:20260424T053655Z
DTSTART;TZID=Europe/Berlin:20251207T130000
DTEND;TZID=Europe/Berlin:20251207T143000
SUMMARY:Regionsliga OS Koweg Görlitz III vs SG Oberlichtenau (3066)
UID:a41e086d-f120-4725-b5ad-d7d5364079cb
STATUS:CONFIRMED
LAST-MODIFIED:20251208T075201Z
DESCRIPTION:Regionsliga Ostsachsen Männer\nBegegnungs-Nr: 3066\nHeim: Koweg Görlitz III\nGast: SG Oberlichtenau\nHalle: SH Rauschwalde (34301)\nAdresse: Diesterwegplatz 8\, 02827 Görlitz\n
LOCATION:SH Rauschwalde (34301): Diesterwegplatz 8\, 02827 Görlitz
CATEGORIES:Saison 2025/26
END:VEVENT
BEGIN:VEVENT
DTSTAMP:20260424T053655Z
DTSTART;TZID=Europe/Berlin:20260131T193000
DTEND;TZID=Europe/Berlin:20260131T210000
SUMMARY:Regionsliga OS Stahl Rietschen II vs SG Oberlichtenau (3089)
UID:9d62ccd6-0ba1-4bfb-a1a9-95323c32c7e6
STATUS:CONFIRMED
LAST-MODIFIED:20260131T203826Z
DESCRIPTION:Regionsliga Ostsachsen Männer\nBegegnungs-Nr: 3089\nHeim: Stahl Rietschen II\nGast: SG Oberlichtenau\nHalle: Oberlausitz-SH Rietschen (34403)\nAdresse: Am Festplatz 1\, 02956 Rietschen\n
LOCATION:Oberlausitz-SH Rietschen (34403): Am Festplatz 1\, 02956 Rietschen
CATEGORIES:Saison 2025/26
END:VEVENT
BEGIN:VEVENT
DTSTAMP:20260424T053655Z
DTSTART;TZID=Europe/Berlin:20260228T150000
DTEND;TZID=Europe/Berlin:20260228T163000
SUMMARY:Regionsliga OS HSV 1923 Pulsnitz III vs SG Oberlichtenau (3097)
UID:477217de-a1bd-4370-819b-fedc4053eb80
STATUS:CONFIRMED
LAST-MODIFIED:20260301T094524Z
DESCRIPTION:Regionsliga Ostsachsen Männer\nBegegnungs-Nr: 3097\nHeim: HSV 1923 Pulsnitz III\nGast: SG Oberlichtenau\nHalle: Sportkomplex Pulsnitz (34208)\nAdresse: Hempelstr. 8\, 01896 Pulsnitz\n
LOCATION:Sportkomplex Pulsnitz (34208): Hempelstr. 8\, 01896 Pulsnitz
CATEGORIES:Saison 2025/26
END:VEVENT
BEGIN:VEVENT
DTSTAMP:20260424T053655Z
DTSTART;TZID=Europe/Berlin:20260321T150000
DTEND;TZID=Europe/Berlin:20260321T163000
SUMMARY:Regionsliga OS HV Eibau vs SG Oberlichtenau (3111)
UID:a19d968a-e19d-4986-bbc4-a49550d0fb5b
STATUS:CONFIRMED
LAST-MODIFIED:20260322T091302Z
DESCRIPTION:Regionsliga Ostsachsen Männer\nBegegnungs-Nr: 3111\nHeim: HV Eibau\nGast: SG Oberlichtenau\nHalle: SH Am Kottmar Eibau (34105)\nAdresse: Jahnstr. 20 a\, 02739 Eibau\n
LOCATION:SH Am Kottmar Eibau (34105): Jahnstr. 20 a\, 02739 Eibau
CATEGORIES:Saison 2025/26
END:VEVENT
END:VCALENDAR
