BEGIN:VCALENDAR
PRODID:-//nuDatenautomaten//framework iCal4j //DE
VERSION:2.0
CALSCALE:GREGORIAN
BEGIN:VTIMEZONE
TZID:Europe/Berlin
LAST-MODIFIED:20260306T231828Z
TZURL:https://www.tzurl.org/zoneinfo/Europe/Berlin
X-LIC-LOCATION:Europe/Berlin
X-PROLEPTIC-TZNAME:LMT
BEGIN:STANDARD
TZNAME:CET
TZOFFSETFROM:+005328
TZOFFSETTO:+0100
DTSTART:18930401T000000
END:STANDARD
BEGIN:DAYLIGHT
TZNAME:CEST
TZOFFSETFROM:+0100
TZOFFSETTO:+0200
DTSTART:19160430T230000
RDATE:19400401T020000
RDATE:19430329T020000
RDATE:19460414T020000
RDATE:19470406T030000
RDATE:19480418T020000
RDATE:19490410T020000
RDATE:19800406T020000
END:DAYLIGHT
BEGIN:STANDARD
TZNAME:CET
TZOFFSETFROM:+0200
TZOFFSETTO:+0100
DTSTART:19161001T010000
RDATE:19421102T030000
RDATE:19431004T030000
RDATE:19441002T030000
RDATE:19451118T030000
RDATE:19461007T030000
END:STANDARD
BEGIN:DAYLIGHT
TZNAME:CEST
TZOFFSETFROM:+0100
TZOFFSETTO:+0200
DTSTART:19170416T020000
RRULE:FREQ=YEARLY;UNTIL=19180415T010000Z;BYMONTH=4;BYDAY=3MO
END:DAYLIGHT
BEGIN:STANDARD
TZNAME:CET
TZOFFSETFROM:+0200
TZOFFSETTO:+0100
DTSTART:19170917T030000
RRULE:FREQ=YEARLY;UNTIL=19180916T010000Z;BYMONTH=9;BYDAY=3MO
END:STANDARD
BEGIN:DAYLIGHT
TZNAME:CEST
TZOFFSETFROM:+0100
TZOFFSETTO:+0200
DTSTART:19440403T020000
RRULE:FREQ=YEARLY;UNTIL=19450402T010000Z;BYMONTH=4;BYDAY=1MO
END:DAYLIGHT
BEGIN:DAYLIGHT
TZNAME:CEMT
TZOFFSETFROM:+0200
TZOFFSETTO:+0300
DTSTART:19450524T020000
RDATE:19470511T030000
END:DAYLIGHT
BEGIN:DAYLIGHT
TZNAME:CEST
TZOFFSETFROM:+0300
TZOFFSETTO:+0200
DTSTART:19450924T030000
RDATE:19470629T030000
END:DAYLIGHT
BEGIN:STANDARD
TZNAME:CET
TZOFFSETFROM:+0100
TZOFFSETTO:+0100
DTSTART:19460101T000000
RDATE:19800101T000000
END:STANDARD
BEGIN:STANDARD
TZNAME:CET
TZOFFSETFROM:+0200
TZOFFSETTO:+0100
DTSTART:19471005T030000
RRULE:FREQ=YEARLY;UNTIL=19491002T010000Z;BYMONTH=10;BYDAY=1SU
END:STANDARD
BEGIN:STANDARD
TZNAME:CET
TZOFFSETFROM:+0200
TZOFFSETTO:+0100
DTSTART:19800928T030000
RRULE:FREQ=YEARLY;UNTIL=19950924T010000Z;BYMONTH=9;BYDAY=-1SU
END:STANDARD
BEGIN:DAYLIGHT
TZNAME:CEST
TZOFFSETFROM:+0100
TZOFFSETTO:+0200
DTSTART:19810329T020000
RRULE:FREQ=YEARLY;BYMONTH=3;BYDAY=-1SU
END:DAYLIGHT
BEGIN:STANDARD
TZNAME:CET
TZOFFSETFROM:+0200
TZOFFSETTO:+0100
DTSTART:19961027T030000
RRULE:FREQ=YEARLY;BYMONTH=10;BYDAY=-1SU
END:STANDARD
END:VTIMEZONE
BEGIN:VEVENT
DTSTAMP:20260424T130124Z
DTSTART;TZID=Europe/Berlin:20260419T103000
DTEND;TZID=Europe/Berlin:20260419T110000
SUMMARY:2025 West Jg 2018 HC Großenhain  II vs TSV 1862 Radeburg II (41)
UID:87c720e7-cc61-477c-a16f-573e09d91202
STATUS:CONFIRMED
LAST-MODIFIED:20260420T190248Z
DESCRIPTION:2025 West Jg. 2018 und jünger\nBegegnungs-Nr: 41\nHeim: HC Großenhain  II\nGast: TSV 1862 Radeburg II\nHalle: Rosental-SH Oschatz (31604)\nAdresse: Berufsschulstraße 8\, 04758 Oschatz\n
LOCATION:Rosental-SH Oschatz (31604): Berufsschulstraße 8\, 04758 Oschatz
CATEGORIES:Saison 2025/26
END:VEVENT
BEGIN:VEVENT
DTSTAMP:20260424T130124Z
DTSTART;TZID=Europe/Berlin:20260228T153000
DTEND;TZID=Europe/Berlin:20260228T160000
SUMMARY:2025 West Jg 2018 HC Großenhain  II vs HSV Weinböhla III (26)
UID:4a6d3369-c71c-4db4-8d38-003e2a7c13fc
STATUS:CONFIRMED
LAST-MODIFIED:20260420T185758Z
DESCRIPTION:2025 West Jg. 2018 und jünger\nBegegnungs-Nr: 26\nHeim: HC Großenhain  II\nGast: HSV Weinböhla III\nHalle: Rödertal-SH (33205)\nAdresse: Am Marstall 4\, 01558 Großenhain\n
LOCATION:Rödertal-SH (33205): Am Marstall 4\, 01558 Großenhain
CATEGORIES:Saison 2025/26
END:VEVENT
BEGIN:VEVENT
DTSTAMP:20260424T130124Z
DTSTART;TZID=Europe/Berlin:20260228T150000
DTEND;TZID=Europe/Berlin:20260228T153000
SUMMARY:2025 West Jg 2018 HC Großenhain  II vs VfL Meißen II (24)
UID:850eccea-dde4-4117-911e-448529e6349f
STATUS:CONFIRMED
LAST-MODIFIED:20260420T185715Z
DESCRIPTION:2025 West Jg. 2018 und jünger\nBegegnungs-Nr: 24\nHeim: HC Großenhain  II\nGast: VfL Meißen II\nHalle: Rödertal-SH (33205)\nAdresse: Am Marstall 4\, 01558 Großenhain\n
LOCATION:Rödertal-SH (33205): Am Marstall 4\, 01558 Großenhain
CATEGORIES:Saison 2025/26
END:VEVENT
BEGIN:VEVENT
DTSTAMP:20260424T130124Z
DTSTART;TZID=Europe/Berlin:20260201T123000
DTEND;TZID=Europe/Berlin:20260201T130000
SUMMARY:2025 West Jg 2018 HC Großenhain  II vs SV Niederau II (18)
UID:4b12a385-3e67-465e-9413-d6a26ee9aa9f
STATUS:CONFIRMED
LAST-MODIFIED:20260209T142232Z
DESCRIPTION:2025 West Jg. 2018 und jünger\nBegegnungs-Nr: 18\nHeim: HC Großenhain  II\nGast: SV Niederau II\nHalle: SH Niederau (33222)\nAdresse: Meißner Straße 65\, 01689 Niederau\n
LOCATION:SH Niederau (33222): Meißner Straße 65\, 01689 Niederau
CATEGORIES:Saison 2025/26
END:VEVENT
BEGIN:VEVENT
DTSTAMP:20260424T130124Z
DTSTART;TZID=Europe/Berlin:20260201T110000
DTEND;TZID=Europe/Berlin:20260201T113000
SUMMARY:2025 West Jg 2018 HC Großenhain  II vs SHV Oschatz II (15)
UID:ff080d92-ce79-4917-8ecf-b63fef3c4fca
STATUS:CONFIRMED
LAST-MODIFIED:20260209T142107Z
DESCRIPTION:2025 West Jg. 2018 und jünger\nBegegnungs-Nr: 15\nHeim: HC Großenhain  II\nGast: SHV Oschatz II\nHalle: SH Niederau (33222)\nAdresse: Meißner Straße 65\, 01689 Niederau\n
LOCATION:SH Niederau (33222): Meißner Straße 65\, 01689 Niederau
CATEGORIES:Saison 2025/26
END:VEVENT
BEGIN:VEVENT
DTSTAMP:20260424T130124Z
DTSTART;TZID=Europe/Berlin:20260125T103000
DTEND;TZID=Europe/Berlin:20260125T110000
SUMMARY:2025 West Jg 2018 HC Großenhain  II vs SSV Lommatzsch II (8)
UID:efd68629-9fd8-43ff-90a0-807a2e93c27e
STATUS:CONFIRMED
LAST-MODIFIED:20260209T140958Z
DESCRIPTION:2025 West Jg. 2018 und jünger\nBegegnungs-Nr: 8\nHeim: HC Großenhain  II\nGast: SSV Lommatzsch II\nHalle: SH Weinböhla (33223)\nAdresse: Köhlerstraße\, 01689 Weinböhla\n
LOCATION:SH Weinböhla (33223): Köhlerstraße\, 01689 Weinböhla
CATEGORIES:Saison 2025/26
END:VEVENT
BEGIN:VEVENT
DTSTAMP:20260424T130124Z
DTSTART;TZID=Europe/Berlin:20260419T093000
DTEND;TZID=Europe/Berlin:20260419T100000
SUMMARY:2025 West Jg 2018 SHV Oschatz II vs HC Großenhain  II (37)
UID:a2a466fb-de1f-490e-af71-1bcc27cf56b6
STATUS:CONFIRMED
LAST-MODIFIED:20260420T190121Z
DESCRIPTION:2025 West Jg. 2018 und jünger\nBegegnungs-Nr: 37\nHeim: SHV Oschatz II\nGast: HC Großenhain  II\nHalle: Rosental-SH Oschatz (31604)\nAdresse: Berufsschulstraße 8\, 04758 Oschatz\n
LOCATION:Rosental-SH Oschatz (31604): Berufsschulstraße 8\, 04758 Oschatz
CATEGORIES:Saison 2025/26
END:VEVENT
BEGIN:VEVENT
DTSTAMP:20260424T130124Z
DTSTART;TZID=Europe/Berlin:20260228T140000
DTEND;TZID=Europe/Berlin:20260228T143000
SUMMARY:2025 West Jg 2018 SSV Lommatzsch II vs HC Großenhain  II (23)
UID:8a7c6ab4-518a-4fcd-aea8-a910c1609d60
STATUS:CONFIRMED
LAST-MODIFIED:20260420T185541Z
DESCRIPTION:2025 West Jg. 2018 und jünger\nBegegnungs-Nr: 23\nHeim: SSV Lommatzsch II\nGast: HC Großenhain  II\nHalle: Rödertal-SH (33205)\nAdresse: Am Marstall 4\, 01558 Großenhain\n
LOCATION:Rödertal-SH (33205): Am Marstall 4\, 01558 Großenhain
CATEGORIES:Saison 2025/26
END:VEVENT
BEGIN:VEVENT
DTSTAMP:20260424T130124Z
DTSTART;TZID=Europe/Berlin:20260419T110000
DTEND;TZID=Europe/Berlin:20260419T113000
SUMMARY:2025 West Jg 2018 SV Niederau II vs HC Großenhain  II (42)
UID:e01670ea-1630-408e-812e-97c34784d8da
STATUS:CONFIRMED
LAST-MODIFIED:20260420T190334Z
DESCRIPTION:2025 West Jg. 2018 und jünger\nBegegnungs-Nr: 42\nHeim: SV Niederau II\nGast: HC Großenhain  II\nHalle: Rosental-SH Oschatz (31604)\nAdresse: Berufsschulstraße 8\, 04758 Oschatz\n
LOCATION:Rosental-SH Oschatz (31604): Berufsschulstraße 8\, 04758 Oschatz
CATEGORIES:Saison 2025/26
END:VEVENT
BEGIN:VEVENT
DTSTAMP:20260424T130124Z
DTSTART;TZID=Europe/Berlin:20260201T103000
DTEND;TZID=Europe/Berlin:20260201T110000
SUMMARY:2025 West Jg 2018 TSV 1862 Radeburg II vs HC Großenhain  II (14)
UID:8f5769ae-3c90-49fc-bd00-708d9f1408ee
STATUS:CONFIRMED
LAST-MODIFIED:20260209T142035Z
DESCRIPTION:2025 West Jg. 2018 und jünger\nBegegnungs-Nr: 14\nHeim: TSV 1862 Radeburg II\nGast: HC Großenhain  II\nHalle: SH Niederau (33222)\nAdresse: Meißner Straße 65\, 01689 Niederau\n
LOCATION:SH Niederau (33222): Meißner Straße 65\, 01689 Niederau
CATEGORIES:Saison 2025/26
END:VEVENT
BEGIN:VEVENT
DTSTAMP:20260424T130124Z
DTSTART;TZID=Europe/Berlin:20260125T123000
DTEND;TZID=Europe/Berlin:20260125T130000
SUMMARY:2025 West Jg 2018 VfL Meißen II vs HC Großenhain  II (12)
UID:1a8c870c-bdc9-4d4d-8155-da983933e5a7
STATUS:CONFIRMED
LAST-MODIFIED:20260419T083738Z
DESCRIPTION:2025 West Jg. 2018 und jünger\nBegegnungs-Nr: 12\nHeim: VfL Meißen II\nGast: HC Großenhain  II\nHalle: SH Weinböhla (33223)\nAdresse: Köhlerstraße\, 01689 Weinböhla\n
LOCATION:SH Weinböhla (33223): Köhlerstraße\, 01689 Weinböhla
CATEGORIES:Saison 2025/26
END:VEVENT
BEGIN:VEVENT
DTSTAMP:20260424T130124Z
DTSTART;TZID=Europe/Berlin:20260125T110000
DTEND;TZID=Europe/Berlin:20260125T113000
SUMMARY:2025 West Jg 2018 HSV Weinböhla III vs HC Großenhain  II (9)
UID:dcb7f49d-695d-4a05-89d2-80b61d71e807
STATUS:CONFIRMED
LAST-MODIFIED:20260209T141801Z
DESCRIPTION:2025 West Jg. 2018 und jünger\nBegegnungs-Nr: 9\nHeim: HSV Weinböhla III\nGast: HC Großenhain  II\nHalle: SH Weinböhla (33223)\nAdresse: Köhlerstraße\, 01689 Weinböhla\n
LOCATION:SH Weinböhla (33223): Köhlerstraße\, 01689 Weinböhla
CATEGORIES:Saison 2025/26
END:VEVENT
END:VCALENDAR
