BEGIN:VCALENDAR
PRODID:-//nuDatenautomaten//framework iCal4j //DE
VERSION:2.0
CALSCALE:GREGORIAN
BEGIN:VTIMEZONE
TZID:Europe/Berlin
LAST-MODIFIED:20260306T231828Z
TZURL:https://www.tzurl.org/zoneinfo/Europe/Berlin
X-LIC-LOCATION:Europe/Berlin
X-PROLEPTIC-TZNAME:LMT
BEGIN:STANDARD
TZNAME:CET
TZOFFSETFROM:+005328
TZOFFSETTO:+0100
DTSTART:18930401T000000
END:STANDARD
BEGIN:DAYLIGHT
TZNAME:CEST
TZOFFSETFROM:+0100
TZOFFSETTO:+0200
DTSTART:19160430T230000
RDATE:19400401T020000
RDATE:19430329T020000
RDATE:19460414T020000
RDATE:19470406T030000
RDATE:19480418T020000
RDATE:19490410T020000
RDATE:19800406T020000
END:DAYLIGHT
BEGIN:STANDARD
TZNAME:CET
TZOFFSETFROM:+0200
TZOFFSETTO:+0100
DTSTART:19161001T010000
RDATE:19421102T030000
RDATE:19431004T030000
RDATE:19441002T030000
RDATE:19451118T030000
RDATE:19461007T030000
END:STANDARD
BEGIN:DAYLIGHT
TZNAME:CEST
TZOFFSETFROM:+0100
TZOFFSETTO:+0200
DTSTART:19170416T020000
RRULE:FREQ=YEARLY;UNTIL=19180415T010000Z;BYMONTH=4;BYDAY=3MO
END:DAYLIGHT
BEGIN:STANDARD
TZNAME:CET
TZOFFSETFROM:+0200
TZOFFSETTO:+0100
DTSTART:19170917T030000
RRULE:FREQ=YEARLY;UNTIL=19180916T010000Z;BYMONTH=9;BYDAY=3MO
END:STANDARD
BEGIN:DAYLIGHT
TZNAME:CEST
TZOFFSETFROM:+0100
TZOFFSETTO:+0200
DTSTART:19440403T020000
RRULE:FREQ=YEARLY;UNTIL=19450402T010000Z;BYMONTH=4;BYDAY=1MO
END:DAYLIGHT
BEGIN:DAYLIGHT
TZNAME:CEMT
TZOFFSETFROM:+0200
TZOFFSETTO:+0300
DTSTART:19450524T020000
RDATE:19470511T030000
END:DAYLIGHT
BEGIN:DAYLIGHT
TZNAME:CEST
TZOFFSETFROM:+0300
TZOFFSETTO:+0200
DTSTART:19450924T030000
RDATE:19470629T030000
END:DAYLIGHT
BEGIN:STANDARD
TZNAME:CET
TZOFFSETFROM:+0100
TZOFFSETTO:+0100
DTSTART:19460101T000000
RDATE:19800101T000000
END:STANDARD
BEGIN:STANDARD
TZNAME:CET
TZOFFSETFROM:+0200
TZOFFSETTO:+0100
DTSTART:19471005T030000
RRULE:FREQ=YEARLY;UNTIL=19491002T010000Z;BYMONTH=10;BYDAY=1SU
END:STANDARD
BEGIN:STANDARD
TZNAME:CET
TZOFFSETFROM:+0200
TZOFFSETTO:+0100
DTSTART:19800928T030000
RRULE:FREQ=YEARLY;UNTIL=19950924T010000Z;BYMONTH=9;BYDAY=-1SU
END:STANDARD
BEGIN:DAYLIGHT
TZNAME:CEST
TZOFFSETFROM:+0100
TZOFFSETTO:+0200
DTSTART:19810329T020000
RRULE:FREQ=YEARLY;BYMONTH=3;BYDAY=-1SU
END:DAYLIGHT
BEGIN:STANDARD
TZNAME:CET
TZOFFSETFROM:+0200
TZOFFSETTO:+0100
DTSTART:19961027T030000
RRULE:FREQ=YEARLY;BYMONTH=10;BYDAY=-1SU
END:STANDARD
END:VTIMEZONE
BEGIN:VEVENT
DTSTAMP:20260424T180045Z
DTSTART;TZID=Europe/Berlin:20251025T170000
DTEND;TZID=Europe/Berlin:20251025T180000
SUMMARY:Regionalliga Sachsen West SG Zschorlau/Schneeberg vs BSV Sa. Zwickau (23023)
UID:4adb8ca9-1840-43e2-9895-3d8e1e421134
STATUS:CONFIRMED
LAST-MODIFIED:20251026T192500Z
DESCRIPTION:Regionalliga Sachsen weibliche D-Jugend West (VR)\nBegegnungs-Nr: 23023\nHeim: SG Zschorlau/Schneeberg\nGast: BSV Sa. Zwickau\nHalle: Silberstrom-Halle Schneeberg (32307)\nAdresse: Keilbergring 20\, 08289 Schneeberg\n
LOCATION:Silberstrom-Halle Schneeberg (32307): Keilbergring 20\, 08289 Schneeberg
CATEGORIES:Saison 2025/26
END:VEVENT
BEGIN:VEVENT
DTSTAMP:20260424T180045Z
DTSTART;TZID=Europe/Berlin:20250920T170000
DTEND;TZID=Europe/Berlin:20250920T180000
SUMMARY:Regionalliga Sachsen West SG Zschorlau/Schneeberg vs SC Markranstädt (23013)
UID:6f7f7fef-097b-47c9-91ed-c527292478b1
STATUS:CONFIRMED
LAST-MODIFIED:20250922T073740Z
DESCRIPTION:Regionalliga Sachsen weibliche D-Jugend West (VR)\nBegegnungs-Nr: 23013\nHeim: SG Zschorlau/Schneeberg\nGast: SC Markranstädt\nHalle: Silberstrom-Halle Schneeberg (32307)\nAdresse: Keilbergring 20\, 08289 Schneeberg\n
LOCATION:Silberstrom-Halle Schneeberg (32307): Keilbergring 20\, 08289 Schneeberg
CATEGORIES:Saison 2025/26
END:VEVENT
BEGIN:VEVENT
DTSTAMP:20260424T180045Z
DTSTART;TZID=Europe/Berlin:20250906T170000
DTEND;TZID=Europe/Berlin:20250906T180000
SUMMARY:Regionalliga Sachsen West SG Zschorlau/Schneeberg vs HSV Marienberg (23008)
UID:d44b6cad-930a-4f33-9276-21540aeca147
STATUS:CONFIRMED
LAST-MODIFIED:20250907T100817Z
DESCRIPTION:Regionalliga Sachsen weibliche D-Jugend West (VR)\nBegegnungs-Nr: 23008\nHeim: SG Zschorlau/Schneeberg\nGast: HSV Marienberg\nHalle: Silberstrom-Halle Schneeberg (32307)\nAdresse: Keilbergring 20\, 08289 Schneeberg\n
LOCATION:Silberstrom-Halle Schneeberg (32307): Keilbergring 20\, 08289 Schneeberg
CATEGORIES:Saison 2025/26
END:VEVENT
BEGIN:VEVENT
DTSTAMP:20260424T180045Z
DTSTART;TZID=Europe/Berlin:20251122T170000
DTEND;TZID=Europe/Berlin:20251122T180000
SUMMARY:Regionalliga Sachsen Pokal SG Zschorlau/Schneeberg vs HSV Marienberg (23114)
UID:6ce6bbcf-f871-442d-9623-94187dba7da5
STATUS:CONFIRMED
LAST-MODIFIED:20251122T201122Z
DESCRIPTION:Regionalliga Sachsen weibliche D-Jugend Pokal\nBegegnungs-Nr: 23114\nHeim: SG Zschorlau/Schneeberg\nGast: HSV Marienberg\nHalle: Silberstrom-Halle Schneeberg (32307)\nAdresse: Keilbergring 20\, 08289 Schneeberg\n
LOCATION:Silberstrom-Halle Schneeberg (32307): Keilbergring 20\, 08289 Schneeberg
CATEGORIES:Saison 2025/26
END:VEVENT
BEGIN:VEVENT
DTSTAMP:20260424T180045Z
DTSTART;TZID=Europe/Berlin:20251206T170000
DTEND;TZID=Europe/Berlin:20251206T180000
SUMMARY:Regionalliga Sachsen Pokal SG Zschorlau/Schneeberg vs HC Leipzig II (23123)
UID:f6989b3f-884a-460f-8c39-0b034e35e59a
STATUS:CONFIRMED
LAST-MODIFIED:20251208T194247Z
DESCRIPTION:Regionalliga Sachsen weibliche D-Jugend Pokal\nBegegnungs-Nr: 23123\nHeim: SG Zschorlau/Schneeberg\nGast: HC Leipzig II\nHalle: Silberstrom-Halle Schneeberg (32307)\nAdresse: Keilbergring 20\, 08289 Schneeberg\n
LOCATION:Silberstrom-Halle Schneeberg (32307): Keilbergring 20\, 08289 Schneeberg
CATEGORIES:Saison 2025/26
END:VEVENT
BEGIN:VEVENT
DTSTAMP:20260424T180045Z
DTSTART;TZID=Europe/Berlin:20251213T150000
DTEND;TZID=Europe/Berlin:20251213T160000
SUMMARY:Regionalliga Sachsen Pokal SG Zschorlau/Schneeberg vs MSV Dresden (23128)
UID:73f88241-a451-4a23-ae86-9637e683a0d0
STATUS:CONFIRMED
LAST-MODIFIED:20251218T110541Z
DESCRIPTION:Regionalliga Sachsen weibliche D-Jugend Pokal\nBegegnungs-Nr: 23128\nHeim: SG Zschorlau/Schneeberg\nGast: MSV Dresden\nHalle: Silberstrom-Halle Schneeberg (32307)\nAdresse: Keilbergring 20\, 08289 Schneeberg\n
LOCATION:Silberstrom-Halle Schneeberg (32307): Keilbergring 20\, 08289 Schneeberg
CATEGORIES:Saison 2025/26
END:VEVENT
BEGIN:VEVENT
DTSTAMP:20260424T180045Z
DTSTART;TZID=Europe/Berlin:20260110T170000
DTEND;TZID=Europe/Berlin:20260110T180000
SUMMARY:Regionalliga Sachsen Pokal SG Zschorlau/Schneeberg vs Radeberger SV (23132)
UID:2d4ed47b-1df9-43fc-ade6-d6d502497b26
STATUS:CONFIRMED
LAST-MODIFIED:20260110T185523Z
DESCRIPTION:Regionalliga Sachsen weibliche D-Jugend Pokal\nBegegnungs-Nr: 23132\nHeim: SG Zschorlau/Schneeberg\nGast: Radeberger SV\nHalle: Silberstrom-Halle Schneeberg (32307)\nAdresse: Keilbergring 20\, 08289 Schneeberg\n
LOCATION:Silberstrom-Halle Schneeberg (32307): Keilbergring 20\, 08289 Schneeberg
CATEGORIES:Saison 2025/26
END:VEVENT
BEGIN:VEVENT
DTSTAMP:20260424T180045Z
DTSTART;TZID=Europe/Berlin:20260117T160000
DTEND;TZID=Europe/Berlin:20260117T170000
SUMMARY:Regionalliga Sachsen Pokal SG Zschorlau/Schneeberg vs BSV Sa. Zwickau II (23133)
UID:d48f6705-c6a4-4314-9a5b-f487afeb2daf
STATUS:CONFIRMED
LAST-MODIFIED:20260119T104834Z
DESCRIPTION:Regionalliga Sachsen weibliche D-Jugend Pokal\nBegegnungs-Nr: 23133\nHeim: SG Zschorlau/Schneeberg\nGast: BSV Sa. Zwickau II\nHalle: Silberstrom-Halle Schneeberg (32307)\nAdresse: Keilbergring 20\, 08289 Schneeberg\n
LOCATION:Silberstrom-Halle Schneeberg (32307): Keilbergring 20\, 08289 Schneeberg
CATEGORIES:Saison 2025/26
END:VEVENT
BEGIN:VEVENT
DTSTAMP:20260424T180045Z
DTSTART;TZID=Europe/Berlin:20260301T110000
DTEND;TZID=Europe/Berlin:20260301T120000
SUMMARY:Regionalliga Sachsen Pokal SG Zschorlau/Schneeberg vs VfB Bischofswerda (23147)
UID:8fa62157-340c-47ce-ad30-7c2c555ca6e5
STATUS:CONFIRMED
LAST-MODIFIED:20260309T082625Z
DESCRIPTION:Regionalliga Sachsen weibliche D-Jugend Pokal\nBegegnungs-Nr: 23147\nHeim: SG Zschorlau/Schneeberg\nGast: VfB Bischofswerda\nHalle: Silberstrom-Halle Schneeberg (32307)\nAdresse: Keilbergring 20\, 08289 Schneeberg\n
LOCATION:Silberstrom-Halle Schneeberg (32307): Keilbergring 20\, 08289 Schneeberg
CATEGORIES:Saison 2025/26
END:VEVENT
BEGIN:VEVENT
DTSTAMP:20260424T180045Z
DTSTART;TZID=Europe/Berlin:20260418T170000
DTEND;TZID=Europe/Berlin:20260418T180000
SUMMARY:Regionalliga Sachsen Pokal SG Zschorlau/Schneeberg vs HV Chemnitz (23166)
UID:5bb12956-978c-40ce-962d-1d41ff310d44
STATUS:CONFIRMED
LAST-MODIFIED:20260420T175447Z
DESCRIPTION:Regionalliga Sachsen weibliche D-Jugend Pokal\nBegegnungs-Nr: 23166\nHeim: SG Zschorlau/Schneeberg\nGast: HV Chemnitz\nHalle: Silberstrom-Halle Schneeberg (32307)\nAdresse: Keilbergring 20\, 08289 Schneeberg\n
LOCATION:Silberstrom-Halle Schneeberg (32307): Keilbergring 20\, 08289 Schneeberg
CATEGORIES:Saison 2025/26
END:VEVENT
BEGIN:VEVENT
DTSTAMP:20260424T180045Z
DTSTART;TZID=Europe/Berlin:20250927T110000
DTEND;TZID=Europe/Berlin:20250927T120000
SUMMARY:Regionalliga Sachsen West HC Leipzig vs SG Zschorlau/Schneeberg (23018)
UID:9f45ce27-b409-4bcd-807e-7c80f4ff9d70
STATUS:CONFIRMED
LAST-MODIFIED:20250929T073822Z
DESCRIPTION:Regionalliga Sachsen weibliche D-Jugend West (VR)\nBegegnungs-Nr: 23018\nHeim: HC Leipzig\nGast: SG Zschorlau/Schneeberg\nHalle: SH Sportoberschule (31132)\nAdresse: Max -Planck-Str. 53-55\, 04105 Leipzig\n
LOCATION:SH Sportoberschule (31132): Max -Planck-Str. 53-55\, 04105 Leipzig
CATEGORIES:Saison 2025/26
END:VEVENT
BEGIN:VEVENT
DTSTAMP:20260424T180045Z
DTSTART;TZID=Europe/Berlin:20251101T120000
DTEND;TZID=Europe/Berlin:20251101T130000
SUMMARY:Regionalliga Sachsen West BSV Limbach-O. vs SG Zschorlau/Schneeberg (23028)
UID:1da4921f-f336-4e68-92ff-5eed25860018
STATUS:CONFIRMED
LAST-MODIFIED:20251101T193235Z
DESCRIPTION:Regionalliga Sachsen weibliche D-Jugend West (VR)\nBegegnungs-Nr: 23028\nHeim: BSV Limbach-O.\nGast: SG Zschorlau/Schneeberg\nHalle: GSH Limbach-Oberfrohna (32201)\nAdresse: Anna-Esche-Gäßchen 1\, 09212 Limbach-Oberfrohna\n
LOCATION:GSH Limbach-Oberfrohna (32201): Anna-Esche-Gäßchen 1\, 09212 Limbach-Oberfrohna
CATEGORIES:Saison 2025/26
END:VEVENT
BEGIN:VEVENT
DTSTAMP:20260424T180045Z
DTSTART;TZID=Europe/Berlin:20250914T120000
DTEND;TZID=Europe/Berlin:20250914T130000
SUMMARY:Regionalliga Sachsen West BSV Sa. Zwickau II vs SG Zschorlau/Schneeberg (23011)
UID:1db58058-387c-48de-8833-4649b180c06c
STATUS:CONFIRMED
LAST-MODIFIED:20250914T183726Z
DESCRIPTION:Regionalliga Sachsen weibliche D-Jugend West (VR)\nBegegnungs-Nr: 23011\nHeim: BSV Sa. Zwickau II\nGast: SG Zschorlau/Schneeberg\nHalle: SH Zwickau-Neuplanitz (32501)\nAdresse: Dortmunder Str. 7a\, 08062 Zwickau\n
LOCATION:SH Zwickau-Neuplanitz (32501): Dortmunder Str. 7a\, 08062 Zwickau
CATEGORIES:Saison 2025/26
END:VEVENT
BEGIN:VEVENT
DTSTAMP:20260424T180045Z
DTSTART;TZID=Europe/Berlin:20250831T131500
DTEND;TZID=Europe/Berlin:20250831T141500
SUMMARY:Regionalliga Sachsen West HC Leipzig II vs SG Zschorlau/Schneeberg (23004)
UID:6a8d87a0-02d4-4af9-b2c8-82eb6f6c3f22
STATUS:CONFIRMED
LAST-MODIFIED:20250831T181935Z
DESCRIPTION:Regionalliga Sachsen weibliche D-Jugend West (VR)\nBegegnungs-Nr: 23004\nHeim: HC Leipzig II\nGast: SG Zschorlau/Schneeberg\nHalle: SH Sportoberschule (31132)\nAdresse: Max -Planck-Str. 53-55\, 04105 Leipzig\n
LOCATION:SH Sportoberschule (31132): Max -Planck-Str. 53-55\, 04105 Leipzig
CATEGORIES:Saison 2025/26
END:VEVENT
BEGIN:VEVENT
DTSTAMP:20260424T180045Z
DTSTART;TZID=Europe/Berlin:20251130T110000
DTEND;TZID=Europe/Berlin:20251130T120000
SUMMARY:Regionalliga Sachsen Pokal VfB Bischofswerda vs SG Zschorlau/Schneeberg (23119)
UID:b7c4468c-07ad-401c-a167-04d56a3e95b8
STATUS:CONFIRMED
LAST-MODIFIED:20251130T123445Z
DESCRIPTION:Regionalliga Sachsen weibliche D-Jugend Pokal\nBegegnungs-Nr: 23119\nHeim: VfB Bischofswerda\nGast: SG Zschorlau/Schneeberg\nHalle: SH Wesenitzsportpark Bischofswerda (34505)\nAdresse: Clara-Zetkin-Str. 4\, 01877  Bischofswerda\n
LOCATION:SH Wesenitzsportpark Bischofswerda (34505): Clara-Zetkin-Str. 4\, 01877  Bischofswerda
CATEGORIES:Saison 2025/26
END:VEVENT
BEGIN:VEVENT
DTSTAMP:20260424T180045Z
DTSTART;TZID=Europe/Berlin:20260124T100000
DTEND;TZID=Europe/Berlin:20260124T110000
SUMMARY:Regionalliga Sachsen Pokal HV Chemnitz vs SG Zschorlau/Schneeberg (23138)
UID:ae5f2810-c7d9-497b-9023-59c3228d9830
STATUS:CONFIRMED
LAST-MODIFIED:20260126T192258Z
DESCRIPTION:Regionalliga Sachsen weibliche D-Jugend Pokal\nBegegnungs-Nr: 23138\nHeim: HV Chemnitz\nGast: SG Zschorlau/Schneeberg\nHalle: SH Jakobstraße (32116)\nAdresse: Jakobstraße 20\, 09130 Chemnitz\n
LOCATION:SH Jakobstraße (32116): Jakobstraße 20\, 09130 Chemnitz
CATEGORIES:Saison 2025/26
END:VEVENT
BEGIN:VEVENT
DTSTAMP:20260424T180045Z
DTSTART;TZID=Europe/Berlin:20260131T160000
DTEND;TZID=Europe/Berlin:20260131T170000
SUMMARY:Regionalliga Sachsen Pokal HSV Marienberg vs SG Zschorlau/Schneeberg (23142)
UID:4e3b90b6-fb34-4abd-8ea1-aa15ebac68f3
STATUS:CONFIRMED
LAST-MODIFIED:20260131T185129Z
DESCRIPTION:Regionalliga Sachsen weibliche D-Jugend Pokal\nBegegnungs-Nr: 23142\nHeim: HSV Marienberg\nGast: SG Zschorlau/Schneeberg\nHalle: SH am Goldkindstein Marienberg (32416)\nAdresse: Dr.-Wilhelm-Külz-Allee 23\, 09496 Marienberg\n
LOCATION:SH am Goldkindstein Marienberg (32416): Dr.-Wilhelm-Külz-Allee 23\, 09496 Marienberg
CATEGORIES:Saison 2025/26
END:VEVENT
BEGIN:VEVENT
DTSTAMP:20260424T180045Z
DTSTART;TZID=Europe/Berlin:20260308T163000
DTEND;TZID=Europe/Berlin:20260308T173000
SUMMARY:Regionalliga Sachsen Pokal HC Leipzig II vs SG Zschorlau/Schneeberg (23151)
UID:c18ece7c-f01d-48e8-9e2b-a98eeabea2e4
STATUS:CONFIRMED
LAST-MODIFIED:20260309T083149Z
DESCRIPTION:Regionalliga Sachsen weibliche D-Jugend Pokal\nBegegnungs-Nr: 23151\nHeim: HC Leipzig II\nGast: SG Zschorlau/Schneeberg\nHalle: SH Sportoberschule (31132)\nAdresse: Max -Planck-Str. 53-55\, 04105 Leipzig\n
LOCATION:SH Sportoberschule (31132): Max -Planck-Str. 53-55\, 04105 Leipzig
CATEGORIES:Saison 2025/26
END:VEVENT
BEGIN:VEVENT
DTSTAMP:20260424T180045Z
DTSTART;TZID=Europe/Berlin:20260315T110000
DTEND;TZID=Europe/Berlin:20260315T120000
SUMMARY:Regionalliga Sachsen Pokal MSV Dresden vs SG Zschorlau/Schneeberg (23156)
UID:dbcf358b-9913-4c72-bcdd-fbd28dc03c8f
STATUS:CONFIRMED
LAST-MODIFIED:20260315T212234Z
DESCRIPTION:Regionalliga Sachsen weibliche D-Jugend Pokal\nBegegnungs-Nr: 23156\nHeim: MSV Dresden\nGast: SG Zschorlau/Schneeberg\nHalle: SH 117. Grundschule Dresden (33132)\nAdresse: Reichenbachstr. 12\, 01069 Dresden\n
LOCATION:SH 117. Grundschule Dresden (33132): Reichenbachstr. 12\, 01069 Dresden
CATEGORIES:Saison 2025/26
END:VEVENT
BEGIN:VEVENT
DTSTAMP:20260424T180045Z
DTSTART;TZID=Europe/Berlin:20260321T121500
DTEND;TZID=Europe/Berlin:20260321T131500
SUMMARY:Regionalliga Sachsen Pokal Radeberger SV vs SG Zschorlau/Schneeberg (23160)
UID:355e71f7-ce28-40be-8c9f-ecf98f2f9970
STATUS:CONFIRMED
LAST-MODIFIED:20260323T090558Z
DESCRIPTION:Regionalliga Sachsen weibliche D-Jugend Pokal\nBegegnungs-Nr: 23160\nHeim: Radeberger SV\nGast: SG Zschorlau/Schneeberg\nHalle: 3-Feld-Halle-BSZ Radeberg (34209)\nAdresse: Robert-Blum-Weg 5\, 01454 Radeberg\n
LOCATION:3-Feld-Halle-BSZ Radeberg (34209): Robert-Blum-Weg 5\, 01454 Radeberg
CATEGORIES:Saison 2025/26
END:VEVENT
BEGIN:VEVENT
DTSTAMP:20260424T180045Z
DTSTART;TZID=Europe/Berlin:20260329T100000
DTEND;TZID=Europe/Berlin:20260329T110000
SUMMARY:Regionalliga Sachsen Pokal BSV Sa. Zwickau II vs SG Zschorlau/Schneeberg (23161)
UID:eb89fbb9-c383-4145-983d-ea3b33990638
STATUS:CONFIRMED
LAST-MODIFIED:20260330T102220Z
DESCRIPTION:Regionalliga Sachsen weibliche D-Jugend Pokal\nBegegnungs-Nr: 23161\nHeim: BSV Sa. Zwickau II\nGast: SG Zschorlau/Schneeberg\nHalle: SH Zwickau-Neuplanitz (32501)\nAdresse: Dortmunder Str. 7a\, 08062 Zwickau\n
LOCATION:SH Zwickau-Neuplanitz (32501): Dortmunder Str. 7a\, 08062 Zwickau
CATEGORIES:Saison 2025/26
END:VEVENT
END:VCALENDAR
