BEGIN:VCALENDAR
PRODID:-//nuDatenautomaten//framework iCal4j //DE
VERSION:2.0
CALSCALE:GREGORIAN
BEGIN:VTIMEZONE
TZID:Europe/Berlin
LAST-MODIFIED:20260306T231828Z
TZURL:https://www.tzurl.org/zoneinfo/Europe/Berlin
X-LIC-LOCATION:Europe/Berlin
X-PROLEPTIC-TZNAME:LMT
BEGIN:STANDARD
TZNAME:CET
TZOFFSETFROM:+005328
TZOFFSETTO:+0100
DTSTART:18930401T000000
END:STANDARD
BEGIN:DAYLIGHT
TZNAME:CEST
TZOFFSETFROM:+0100
TZOFFSETTO:+0200
DTSTART:19160430T230000
RDATE:19400401T020000
RDATE:19430329T020000
RDATE:19460414T020000
RDATE:19470406T030000
RDATE:19480418T020000
RDATE:19490410T020000
RDATE:19800406T020000
END:DAYLIGHT
BEGIN:STANDARD
TZNAME:CET
TZOFFSETFROM:+0200
TZOFFSETTO:+0100
DTSTART:19161001T010000
RDATE:19421102T030000
RDATE:19431004T030000
RDATE:19441002T030000
RDATE:19451118T030000
RDATE:19461007T030000
END:STANDARD
BEGIN:DAYLIGHT
TZNAME:CEST
TZOFFSETFROM:+0100
TZOFFSETTO:+0200
DTSTART:19170416T020000
RRULE:FREQ=YEARLY;UNTIL=19180415T010000Z;BYMONTH=4;BYDAY=3MO
END:DAYLIGHT
BEGIN:STANDARD
TZNAME:CET
TZOFFSETFROM:+0200
TZOFFSETTO:+0100
DTSTART:19170917T030000
RRULE:FREQ=YEARLY;UNTIL=19180916T010000Z;BYMONTH=9;BYDAY=3MO
END:STANDARD
BEGIN:DAYLIGHT
TZNAME:CEST
TZOFFSETFROM:+0100
TZOFFSETTO:+0200
DTSTART:19440403T020000
RRULE:FREQ=YEARLY;UNTIL=19450402T010000Z;BYMONTH=4;BYDAY=1MO
END:DAYLIGHT
BEGIN:DAYLIGHT
TZNAME:CEMT
TZOFFSETFROM:+0200
TZOFFSETTO:+0300
DTSTART:19450524T020000
RDATE:19470511T030000
END:DAYLIGHT
BEGIN:DAYLIGHT
TZNAME:CEST
TZOFFSETFROM:+0300
TZOFFSETTO:+0200
DTSTART:19450924T030000
RDATE:19470629T030000
END:DAYLIGHT
BEGIN:STANDARD
TZNAME:CET
TZOFFSETFROM:+0100
TZOFFSETTO:+0100
DTSTART:19460101T000000
RDATE:19800101T000000
END:STANDARD
BEGIN:STANDARD
TZNAME:CET
TZOFFSETFROM:+0200
TZOFFSETTO:+0100
DTSTART:19471005T030000
RRULE:FREQ=YEARLY;UNTIL=19491002T010000Z;BYMONTH=10;BYDAY=1SU
END:STANDARD
BEGIN:STANDARD
TZNAME:CET
TZOFFSETFROM:+0200
TZOFFSETTO:+0100
DTSTART:19800928T030000
RRULE:FREQ=YEARLY;UNTIL=19950924T010000Z;BYMONTH=9;BYDAY=-1SU
END:STANDARD
BEGIN:DAYLIGHT
TZNAME:CEST
TZOFFSETFROM:+0100
TZOFFSETTO:+0200
DTSTART:19810329T020000
RRULE:FREQ=YEARLY;BYMONTH=3;BYDAY=-1SU
END:DAYLIGHT
BEGIN:STANDARD
TZNAME:CET
TZOFFSETFROM:+0200
TZOFFSETTO:+0100
DTSTART:19961027T030000
RRULE:FREQ=YEARLY;BYMONTH=10;BYDAY=-1SU
END:STANDARD
END:VTIMEZONE
BEGIN:VEVENT
DTSTAMP:20260423T134022Z
DTSTART;TZID=Europe/Berlin:20260301T140000
DTEND;TZID=Europe/Berlin:20260301T153000
SUMMARY:2. Regionsklasse Leipzig Leipziger SV Südwest II vs TuS Leipzig-Mockau (14022)
UID:48381665-4744-4f3d-8e83-e4b4f175d736
STATUS:CONFIRMED
LAST-MODIFIED:20260302T163115Z
DESCRIPTION:2. Regionsklasse Leipzig\nBegegnungs-Nr: 14022\nHeim: Leipziger SV Südwest II\nGast: TuS Leipzig-Mockau\nHalle: SH An der Radrennbahn Leipzig (31128)\nAdresse: Windorfer Straße 63\, 04229 Leipzig\n
LOCATION:SH An der Radrennbahn Leipzig (31128): Windorfer Straße 63\, 04229 Leipzig
CATEGORIES:Saison 2025/26
END:VEVENT
BEGIN:VEVENT
DTSTAMP:20260423T134022Z
DTSTART;TZID=Europe/Berlin:20250928T140000
DTEND;TZID=Europe/Berlin:20250928T153000
SUMMARY:2. Regionsklasse Leipzig Leipziger SV Südwest II vs TSG 1861 Taucha II (14006)
UID:efa224f3-672d-4bf0-b2d2-4ac9f0e0858d
STATUS:CONFIRMED
LAST-MODIFIED:20250930T080944Z
DESCRIPTION:2. Regionsklasse Leipzig\nBegegnungs-Nr: 14006\nHeim: Leipziger SV Südwest II\nGast: TSG 1861 Taucha II\nHalle: SH An der Radrennbahn Leipzig (31128)\nAdresse: Windorfer Straße 63\, 04229 Leipzig\n
LOCATION:SH An der Radrennbahn Leipzig (31128): Windorfer Straße 63\, 04229 Leipzig
CATEGORIES:Saison 2025/26
END:VEVENT
BEGIN:VEVENT
DTSTAMP:20260423T134022Z
DTSTART;TZID=Europe/Berlin:20251130T120000
DTEND;TZID=Europe/Berlin:20251130T133000
SUMMARY:2. Regionsklasse Leipzig Leipziger SV Südwest II vs SG MoGoNo Leipzig III (14014)
UID:465a5187-baeb-4907-81fa-b1bd749d77f3
STATUS:CONFIRMED
LAST-MODIFIED:20251202T121313Z
DESCRIPTION:2. Regionsklasse Leipzig\nBegegnungs-Nr: 14014\nHeim: Leipziger SV Südwest II\nGast: SG MoGoNo Leipzig III\nHalle: SH An der Radrennbahn Leipzig (31128)\nAdresse: Windorfer Straße 63\, 04229 Leipzig\n
LOCATION:SH An der Radrennbahn Leipzig (31128): Windorfer Straße 63\, 04229 Leipzig
CATEGORIES:Saison 2025/26
END:VEVENT
BEGIN:VEVENT
DTSTAMP:20260423T134022Z
DTSTART;TZID=Europe/Berlin:20260329T140000
DTEND;TZID=Europe/Berlin:20260329T153000
SUMMARY:2. Regionsklasse Leipzig Leipziger SV Südwest II vs Roter Stern Leipzig II (14028)
UID:28919797-fe14-4e97-878f-5ead0444ba1d
STATUS:CONFIRMED
LAST-MODIFIED:20260417T073743Z
DESCRIPTION:2. Regionsklasse Leipzig\nBegegnungs-Nr: 14028\nHeim: Leipziger SV Südwest II\nGast: Roter Stern Leipzig II\nHalle: SH An der Radrennbahn Leipzig (31128)\nAdresse: Windorfer Straße 63\, 04229 Leipzig\n
LOCATION:SH An der Radrennbahn Leipzig (31128): Windorfer Straße 63\, 04229 Leipzig
CATEGORIES:Saison 2025/26
END:VEVENT
BEGIN:VEVENT
DTSTAMP:20260423T134022Z
DTSTART;TZID=Europe/Berlin:20260308T120000
DTEND;TZID=Europe/Berlin:20260308T133000
SUMMARY:2. Regionsklasse Leipzig Leipziger SV Südwest II vs Roter Stern Leipzig III (14024)
UID:b71ffa7b-1006-4bc5-a718-bd7f7684a6d2
STATUS:CONFIRMED
LAST-MODIFIED:20260311T094852Z
DESCRIPTION:2. Regionsklasse Leipzig\nBegegnungs-Nr: 14024\nHeim: Leipziger SV Südwest II\nGast: Roter Stern Leipzig III\nHalle: SH An der Radrennbahn Leipzig (31128)\nAdresse: Windorfer Straße 63\, 04229 Leipzig\n
LOCATION:SH An der Radrennbahn Leipzig (31128): Windorfer Straße 63\, 04229 Leipzig
CATEGORIES:Saison 2025/26
END:VEVENT
BEGIN:VEVENT
DTSTAMP:20260423T134022Z
DTSTART;TZID=Europe/Berlin:20260314T170000
DTEND;TZID=Europe/Berlin:20260314T183000
SUMMARY:2. Regionsklasse Leipzig TSG 1861 Taucha II vs Leipziger SV Südwest II (14021)
UID:f599d997-a41b-46b3-ad12-fa280fb14047
STATUS:CONFIRMED
LAST-MODIFIED:20260315T065750Z
DESCRIPTION:2. Regionsklasse Leipzig\nBegegnungs-Nr: 14021\nHeim: TSG 1861 Taucha II\nGast: Leipziger SV Südwest II\nHalle: Mehrzweckhalle Taucha (31112)\nAdresse: Geschwister-Scholl-Str. 6\, 04425 Taucha\n
LOCATION:Mehrzweckhalle Taucha (31112): Geschwister-Scholl-Str. 6\, 04425 Taucha
CATEGORIES:Saison 2025/26
END:VEVENT
BEGIN:VEVENT
DTSTAMP:20260423T134022Z
DTSTART;TZID=Europe/Berlin:20251122T110000
DTEND;TZID=Europe/Berlin:20251122T123000
SUMMARY:2. Regionsklasse Leipzig Roter Stern Leipzig II vs Leipziger SV Südwest II (14012)
UID:065d71ae-58ec-4482-8bd0-e0308d12b74e
STATUS:CONFIRMED
LAST-MODIFIED:20251125T164333Z
DESCRIPTION:2. Regionsklasse Leipzig\nBegegnungs-Nr: 14012\nHeim: Roter Stern Leipzig II\nGast: Leipziger SV Südwest II\nHalle: SH Ostwald Gymnasium Leipzig-Lößnig (31105)\nAdresse: Willi-Bredel-Str. 13\, 04279 Leipzig\n
LOCATION:SH Ostwald Gymnasium Leipzig-Lößnig (31105): Willi-Bredel-Str. 13\, 04279 Leipzig
CATEGORIES:Saison 2025/26
END:VEVENT
BEGIN:VEVENT
DTSTAMP:20260423T134022Z
DTSTART;TZID=Europe/Berlin:20251101T150000
DTEND;TZID=Europe/Berlin:20251101T163000
SUMMARY:2. Regionsklasse Leipzig Roter Stern Leipzig III vs Leipziger SV Südwest II (14008)
UID:935a5f46-fab2-499f-bab2-619cd06939cf
STATUS:CONFIRMED
LAST-MODIFIED:20251124T170427Z
DESCRIPTION:2. Regionsklasse Leipzig\nBegegnungs-Nr: 14008\nHeim: Roter Stern Leipzig III\nGast: Leipziger SV Südwest II\nHalle: SH Ostwald Gymnasium Leipzig-Lößnig (31105)\nAdresse: Willi-Bredel-Str. 13\, 04279 Leipzig\n
LOCATION:SH Ostwald Gymnasium Leipzig-Lößnig (31105): Willi-Bredel-Str. 13\, 04279 Leipzig
CATEGORIES:Saison 2025/26
END:VEVENT
BEGIN:VEVENT
DTSTAMP:20260423T134022Z
DTSTART;TZID=Europe/Berlin:20251026T170000
DTEND;TZID=Europe/Berlin:20251026T183000
SUMMARY:2. Regionsklasse Leipzig TuS Leipzig-Mockau vs Leipziger SV Südwest II (14007)
UID:75741279-1e8c-46c1-94ba-cbdbb252f83e
STATUS:CONFIRMED
LAST-MODIFIED:20251108T092831Z
DESCRIPTION:2. Regionsklasse Leipzig\nBegegnungs-Nr: 14007\nHeim: TuS Leipzig-Mockau\nGast: Leipziger SV Südwest II\nHalle: Sporthalle Marie-Curie-Gymnasium Wiederitzsch (31137)\nAdresse: Messeallee 19\, 04158 Leipzig (OT Wiederitzsch)\n
LOCATION:Sporthalle Marie-Curie-Gymnasium Wiederitzsch (31137): Messeallee 19\, 04158 Leipzig (OT Wiederitzsch)
CATEGORIES:Saison 2025/26
END:VEVENT
BEGIN:VEVENT
DTSTAMP:20260423T134022Z
DTSTART;TZID=Europe/Berlin:20260418T150000
DTEND;TZID=Europe/Berlin:20260418T163000
SUMMARY:2. Regionsklasse Leipzig SG MoGoNo Leipzig III vs Leipziger SV Südwest II (14029)
UID:b826eef2-b9b9-4383-9f6e-81dcbf126134
STATUS:CONFIRMED
DESCRIPTION:2. Regionsklasse Leipzig\nBegegnungs-Nr: 14029\nHeim: SG MoGoNo Leipzig III\nGast: Leipziger SV Südwest II\nHalle: SH Kästner-Grundschule Leipzig (31131)\nAdresse: Erfurter Str\, 04155 Leipzig\n
LOCATION:SH Kästner-Grundschule Leipzig (31131): Erfurter Str\, 04155 Leipzig
CATEGORIES:Saison 2025/26
END:VEVENT
END:VCALENDAR
