BEGIN:VCALENDAR
PRODID:-//nuDatenautomaten//framework iCal4j //DE
VERSION:2.0
CALSCALE:GREGORIAN
BEGIN:VTIMEZONE
TZID:Europe/Berlin
LAST-MODIFIED:20260306T231828Z
TZURL:https://www.tzurl.org/zoneinfo/Europe/Berlin
X-LIC-LOCATION:Europe/Berlin
X-PROLEPTIC-TZNAME:LMT
BEGIN:STANDARD
TZNAME:CET
TZOFFSETFROM:+005328
TZOFFSETTO:+0100
DTSTART:18930401T000000
END:STANDARD
BEGIN:DAYLIGHT
TZNAME:CEST
TZOFFSETFROM:+0100
TZOFFSETTO:+0200
DTSTART:19160430T230000
RDATE:19400401T020000
RDATE:19430329T020000
RDATE:19460414T020000
RDATE:19470406T030000
RDATE:19480418T020000
RDATE:19490410T020000
RDATE:19800406T020000
END:DAYLIGHT
BEGIN:STANDARD
TZNAME:CET
TZOFFSETFROM:+0200
TZOFFSETTO:+0100
DTSTART:19161001T010000
RDATE:19421102T030000
RDATE:19431004T030000
RDATE:19441002T030000
RDATE:19451118T030000
RDATE:19461007T030000
END:STANDARD
BEGIN:DAYLIGHT
TZNAME:CEST
TZOFFSETFROM:+0100
TZOFFSETTO:+0200
DTSTART:19170416T020000
RRULE:FREQ=YEARLY;UNTIL=19180415T010000Z;BYMONTH=4;BYDAY=3MO
END:DAYLIGHT
BEGIN:STANDARD
TZNAME:CET
TZOFFSETFROM:+0200
TZOFFSETTO:+0100
DTSTART:19170917T030000
RRULE:FREQ=YEARLY;UNTIL=19180916T010000Z;BYMONTH=9;BYDAY=3MO
END:STANDARD
BEGIN:DAYLIGHT
TZNAME:CEST
TZOFFSETFROM:+0100
TZOFFSETTO:+0200
DTSTART:19440403T020000
RRULE:FREQ=YEARLY;UNTIL=19450402T010000Z;BYMONTH=4;BYDAY=1MO
END:DAYLIGHT
BEGIN:DAYLIGHT
TZNAME:CEMT
TZOFFSETFROM:+0200
TZOFFSETTO:+0300
DTSTART:19450524T020000
RDATE:19470511T030000
END:DAYLIGHT
BEGIN:DAYLIGHT
TZNAME:CEST
TZOFFSETFROM:+0300
TZOFFSETTO:+0200
DTSTART:19450924T030000
RDATE:19470629T030000
END:DAYLIGHT
BEGIN:STANDARD
TZNAME:CET
TZOFFSETFROM:+0100
TZOFFSETTO:+0100
DTSTART:19460101T000000
RDATE:19800101T000000
END:STANDARD
BEGIN:STANDARD
TZNAME:CET
TZOFFSETFROM:+0200
TZOFFSETTO:+0100
DTSTART:19471005T030000
RRULE:FREQ=YEARLY;UNTIL=19491002T010000Z;BYMONTH=10;BYDAY=1SU
END:STANDARD
BEGIN:STANDARD
TZNAME:CET
TZOFFSETFROM:+0200
TZOFFSETTO:+0100
DTSTART:19800928T030000
RRULE:FREQ=YEARLY;UNTIL=19950924T010000Z;BYMONTH=9;BYDAY=-1SU
END:STANDARD
BEGIN:DAYLIGHT
TZNAME:CEST
TZOFFSETFROM:+0100
TZOFFSETTO:+0200
DTSTART:19810329T020000
RRULE:FREQ=YEARLY;BYMONTH=3;BYDAY=-1SU
END:DAYLIGHT
BEGIN:STANDARD
TZNAME:CET
TZOFFSETFROM:+0200
TZOFFSETTO:+0100
DTSTART:19961027T030000
RRULE:FREQ=YEARLY;BYMONTH=10;BYDAY=-1SU
END:STANDARD
END:VTIMEZONE
BEGIN:VEVENT
DTSTAMP:20260422T193130Z
DTSTART;TZID=Europe/Berlin:20251101T123000
DTEND;TZID=Europe/Berlin:20251101T133000
SUMMARY:Regionalliga Sachsen West BSV Sa. Zwickau vs HSV Marienberg (23027)
UID:5e6dec86-a939-4fff-8d59-3db5b6a978ac
STATUS:CONFIRMED
LAST-MODIFIED:20251101T194052Z
DESCRIPTION:Regionalliga Sachsen weibliche D-Jugend West (VR)\nBegegnungs-Nr: 23027\nHeim: BSV Sa. Zwickau\nGast: HSV Marienberg\nHalle: SH Zwickau-Neuplanitz (32501)\nAdresse: Dortmunder Str. 7a\, 08062 Zwickau\n
LOCATION:SH Zwickau-Neuplanitz (32501): Dortmunder Str. 7a\, 08062 Zwickau
CATEGORIES:Saison 2025/26
END:VEVENT
BEGIN:VEVENT
DTSTAMP:20260422T193130Z
DTSTART;TZID=Europe/Berlin:20250927T103000
DTEND;TZID=Europe/Berlin:20250927T113000
SUMMARY:Regionalliga Sachsen West BSV Sa. Zwickau vs BSV Limbach-O. (23019)
UID:d6f4906f-da6c-437d-8d58-c5bb003bfa0c
STATUS:CONFIRMED
LAST-MODIFIED:20251026T113026Z
DESCRIPTION:Regionalliga Sachsen weibliche D-Jugend West (VR)\nBegegnungs-Nr: 23019\nHeim: BSV Sa. Zwickau\nGast: BSV Limbach-O.\nHalle: SH Zwickau-Neuplanitz (32501)\nAdresse: Dortmunder Str. 7a\, 08062 Zwickau\n
LOCATION:SH Zwickau-Neuplanitz (32501): Dortmunder Str. 7a\, 08062 Zwickau
CATEGORIES:Saison 2025/26
END:VEVENT
BEGIN:VEVENT
DTSTAMP:20260422T193130Z
DTSTART;TZID=Europe/Berlin:20250920T103000
DTEND;TZID=Europe/Berlin:20250920T113000
SUMMARY:Regionalliga Sachsen West BSV Sa. Zwickau vs HC Leipzig II (23015)
UID:4048736e-e4e1-4e62-a8e0-b36ba5774e21
STATUS:CONFIRMED
LAST-MODIFIED:20250920T120730Z
DESCRIPTION:Regionalliga Sachsen weibliche D-Jugend West (VR)\nBegegnungs-Nr: 23015\nHeim: BSV Sa. Zwickau\nGast: HC Leipzig II\nHalle: SH Zwickau-Neuplanitz (32501)\nAdresse: Dortmunder Str. 7a\, 08062 Zwickau\n
LOCATION:SH Zwickau-Neuplanitz (32501): Dortmunder Str. 7a\, 08062 Zwickau
CATEGORIES:Saison 2025/26
END:VEVENT
BEGIN:VEVENT
DTSTAMP:20260422T193130Z
DTSTART;TZID=Europe/Berlin:20250907T100000
DTEND;TZID=Europe/Berlin:20250907T110000
SUMMARY:Regionalliga Sachsen West BSV Sa. Zwickau vs SC Markranstädt (23005)
UID:0afeac3c-a0fe-4052-bcea-f463e59c666e
STATUS:CONFIRMED
LAST-MODIFIED:20250907T101056Z
DESCRIPTION:Regionalliga Sachsen weibliche D-Jugend West (VR)\nBegegnungs-Nr: 23005\nHeim: BSV Sa. Zwickau\nGast: SC Markranstädt\nHalle: SH Zwickau-Neuplanitz (32501)\nAdresse: Dortmunder Str. 7a\, 08062 Zwickau\n
LOCATION:SH Zwickau-Neuplanitz (32501): Dortmunder Str. 7a\, 08062 Zwickau
CATEGORIES:Saison 2025/26
END:VEVENT
BEGIN:VEVENT
DTSTAMP:20260422T193130Z
DTSTART;TZID=Europe/Berlin:20260315T120000
DTEND;TZID=Europe/Berlin:20260315T130000
SUMMARY:Regionalliga Sachsen Meister BSV Sa. Zwickau vs SC Hoyerswerda  (23065)
UID:20867e45-68d1-40e9-bbc4-ddf307114503
STATUS:CONFIRMED
LAST-MODIFIED:20260315T212816Z
DESCRIPTION:Regionalliga Sachsen weibliche D-Jugend Meisterschaft\nBegegnungs-Nr: 23065\nHeim: BSV Sa. Zwickau\nGast: SC Hoyerswerda \nHalle: SH Zwickau-Neuplanitz (32501)\nAdresse: Dortmunder Str. 7a\, 08062 Zwickau\n
LOCATION:SH Zwickau-Neuplanitz (32501): Dortmunder Str. 7a\, 08062 Zwickau
CATEGORIES:Saison 2025/26
END:VEVENT
BEGIN:VEVENT
DTSTAMP:20260422T193130Z
DTSTART;TZID=Europe/Berlin:20260222T123000
DTEND;TZID=Europe/Berlin:20260222T133000
SUMMARY:Regionalliga Sachsen Meister BSV Sa. Zwickau vs SC Markranstädt (23073)
UID:77f1e120-4979-4d64-8e20-3df9af995c72
STATUS:CONFIRMED
LAST-MODIFIED:20260228T193745Z
DESCRIPTION:Regionalliga Sachsen weibliche D-Jugend Meisterschaft\nBegegnungs-Nr: 23073\nHeim: BSV Sa. Zwickau\nGast: SC Markranstädt\nHalle: SH Zwickau-Neuplanitz (32501)\nAdresse: Dortmunder Str. 7a\, 08062 Zwickau\n
LOCATION:SH Zwickau-Neuplanitz (32501): Dortmunder Str. 7a\, 08062 Zwickau
CATEGORIES:Saison 2025/26
END:VEVENT
BEGIN:VEVENT
DTSTAMP:20260422T193130Z
DTSTART;TZID=Europe/Berlin:20260118T120000
DTEND;TZID=Europe/Berlin:20260118T130000
SUMMARY:Regionalliga Sachsen Meister BSV Sa. Zwickau vs BSV Limbach-O. (23077)
UID:43205c2e-54dc-4e53-972f-381baaa85d84
STATUS:CONFIRMED
LAST-MODIFIED:20260119T104403Z
DESCRIPTION:Regionalliga Sachsen weibliche D-Jugend Meisterschaft\nBegegnungs-Nr: 23077\nHeim: BSV Sa. Zwickau\nGast: BSV Limbach-O.\nHalle: SH Zwickau-Neuplanitz (32501)\nAdresse: Dortmunder Str. 7a\, 08062 Zwickau\n
LOCATION:SH Zwickau-Neuplanitz (32501): Dortmunder Str. 7a\, 08062 Zwickau
CATEGORIES:Saison 2025/26
END:VEVENT
BEGIN:VEVENT
DTSTAMP:20260422T193130Z
DTSTART;TZID=Europe/Berlin:20260124T153000
DTEND;TZID=Europe/Berlin:20260124T163000
SUMMARY:Regionalliga Sachsen Meister BSV Sa. Zwickau vs VfL Meißen (23081)
UID:e964137d-d9ce-4464-9045-81f5cb6878f5
STATUS:CONFIRMED
LAST-MODIFIED:20260126T191935Z
DESCRIPTION:Regionalliga Sachsen weibliche D-Jugend Meisterschaft\nBegegnungs-Nr: 23081\nHeim: BSV Sa. Zwickau\nGast: VfL Meißen\nHalle: SH am Käthe Kollwitz Gymnasium (32512)\nAdresse: Lassallestraße 1\, 08058 Zwickau\n
LOCATION:SH am Käthe Kollwitz Gymnasium (32512): Lassallestraße 1\, 08058 Zwickau
CATEGORIES:Saison 2025/26
END:VEVENT
BEGIN:VEVENT
DTSTAMP:20260422T193130Z
DTSTART;TZID=Europe/Berlin:20260228T103000
DTEND;TZID=Europe/Berlin:20260228T113000
SUMMARY:Regionalliga Sachsen Meister BSV Sa. Zwickau vs Görlitzer HC (23089)
UID:009b61be-b567-4941-8692-a6c4c07d905f
STATUS:CONFIRMED
LAST-MODIFIED:20260228T193847Z
DESCRIPTION:Regionalliga Sachsen weibliche D-Jugend Meisterschaft\nBegegnungs-Nr: 23089\nHeim: BSV Sa. Zwickau\nGast: Görlitzer HC\nHalle: SH Zwickau-Neuplanitz (32501)\nAdresse: Dortmunder Str. 7a\, 08062 Zwickau\n
LOCATION:SH Zwickau-Neuplanitz (32501): Dortmunder Str. 7a\, 08062 Zwickau
CATEGORIES:Saison 2025/26
END:VEVENT
BEGIN:VEVENT
DTSTAMP:20260422T193130Z
DTSTART;TZID=Europe/Berlin:20260314T103000
DTEND;TZID=Europe/Berlin:20260314T113000
SUMMARY:Regionalliga Sachsen Meister BSV Sa. Zwickau vs HC Leipzig (23097)
UID:0df7c8fa-b545-43c7-8256-ddaa66527df3
STATUS:CONFIRMED
LAST-MODIFIED:20260315T212630Z
DESCRIPTION:Regionalliga Sachsen weibliche D-Jugend Meisterschaft\nBegegnungs-Nr: 23097\nHeim: BSV Sa. Zwickau\nGast: HC Leipzig\nHalle: SH Zwickau-Neuplanitz (32501)\nAdresse: Dortmunder Str. 7a\, 08062 Zwickau\n
LOCATION:SH Zwickau-Neuplanitz (32501): Dortmunder Str. 7a\, 08062 Zwickau
CATEGORIES:Saison 2025/26
END:VEVENT
BEGIN:VEVENT
DTSTAMP:20260422T193130Z
DTSTART;TZID=Europe/Berlin:20251123T140000
DTEND;TZID=Europe/Berlin:20251123T150000
SUMMARY:Regionalliga Sachsen Meister BSV Sa. Zwickau vs HC Rödertal  (23057)
UID:37a007d8-d2ea-40cb-9ccd-1849e5e63d59
STATUS:CONFIRMED
LAST-MODIFIED:20251130T124118Z
DESCRIPTION:Regionalliga Sachsen weibliche D-Jugend Meisterschaft\nBegegnungs-Nr: 23057\nHeim: BSV Sa. Zwickau\nGast: HC Rödertal \nHalle: SH Zwickau-Neuplanitz (32501)\nAdresse: Dortmunder Str. 7a\, 08062 Zwickau\n
LOCATION:SH Zwickau-Neuplanitz (32501): Dortmunder Str. 7a\, 08062 Zwickau
CATEGORIES:Saison 2025/26
END:VEVENT
BEGIN:VEVENT
DTSTAMP:20260422T193130Z
DTSTART;TZID=Europe/Berlin:20251025T170000
DTEND;TZID=Europe/Berlin:20251025T180000
SUMMARY:Regionalliga Sachsen West SG Zschorlau/Schneeberg vs BSV Sa. Zwickau (23023)
UID:4adb8ca9-1840-43e2-9895-3d8e1e421134
STATUS:CONFIRMED
LAST-MODIFIED:20251026T192500Z
DESCRIPTION:Regionalliga Sachsen weibliche D-Jugend West (VR)\nBegegnungs-Nr: 23023\nHeim: SG Zschorlau/Schneeberg\nGast: BSV Sa. Zwickau\nHalle: Silberstrom-Halle Schneeberg (32307)\nAdresse: Keilbergring 20\, 08289 Schneeberg\n
LOCATION:Silberstrom-Halle Schneeberg (32307): Keilbergring 20\, 08289 Schneeberg
CATEGORIES:Saison 2025/26
END:VEVENT
BEGIN:VEVENT
DTSTAMP:20260422T193130Z
DTSTART;TZID=Europe/Berlin:20250914T130000
DTEND;TZID=Europe/Berlin:20250914T140000
SUMMARY:Regionalliga Sachsen West HC Leipzig vs BSV Sa. Zwickau (23010)
UID:c76b9c33-a35a-45cb-9eed-5b260eed6f41
STATUS:CONFIRMED
LAST-MODIFIED:20250914T184740Z
DESCRIPTION:Regionalliga Sachsen weibliche D-Jugend West (VR)\nBegegnungs-Nr: 23010\nHeim: HC Leipzig\nGast: BSV Sa. Zwickau\nHalle: SH Sportoberschule (31132)\nAdresse: Max -Planck-Str. 53-55\, 04105 Leipzig\n
LOCATION:SH Sportoberschule (31132): Max -Planck-Str. 53-55\, 04105 Leipzig
CATEGORIES:Saison 2025/26
END:VEVENT
BEGIN:VEVENT
DTSTAMP:20260422T193130Z
DTSTART;TZID=Europe/Berlin:20250908T170000
DTEND;TZID=Europe/Berlin:20250908T180000
SUMMARY:Regionalliga Sachsen West BSV Sa. Zwickau II vs BSV Sa. Zwickau (23002)
UID:e8c06d2a-15f1-4c34-b1d3-31835540c5fa
STATUS:CONFIRMED
LAST-MODIFIED:20250913T113750Z
DESCRIPTION:Regionalliga Sachsen weibliche D-Jugend West (VR)\nBegegnungs-Nr: 23002\nHeim: BSV Sa. Zwickau II\nGast: BSV Sa. Zwickau\nHalle: SH Zwickau-Neuplanitz (32501)\nAdresse: Dortmunder Str. 7a\, 08062 Zwickau\n
LOCATION:SH Zwickau-Neuplanitz (32501): Dortmunder Str. 7a\, 08062 Zwickau
CATEGORIES:Saison 2025/26
END:VEVENT
BEGIN:VEVENT
DTSTAMP:20260422T193130Z
DTSTART;TZID=Europe/Berlin:20251213T150000
DTEND;TZID=Europe/Berlin:20251213T160000
SUMMARY:Regionalliga Sachsen Meister HC Leipzig vs BSV Sa. Zwickau (23069)
UID:268ca777-4af5-4ed1-8ec9-456671ae50bb
STATUS:CONFIRMED
LAST-MODIFIED:20251218T112056Z
DESCRIPTION:Regionalliga Sachsen weibliche D-Jugend Meisterschaft\nBegegnungs-Nr: 23069\nHeim: HC Leipzig\nGast: BSV Sa. Zwickau\nHalle: SH Sportoberschule (31132)\nAdresse: Max -Planck-Str. 53-55\, 04105 Leipzig\n
LOCATION:SH Sportoberschule (31132): Max -Planck-Str. 53-55\, 04105 Leipzig
CATEGORIES:Saison 2025/26
END:VEVENT
BEGIN:VEVENT
DTSTAMP:20260422T193130Z
DTSTART;TZID=Europe/Berlin:20260201T114500
DTEND;TZID=Europe/Berlin:20260201T124500
SUMMARY:Regionalliga Sachsen Meister HC Rödertal  vs BSV Sa. Zwickau (23085)
UID:1adb0ce0-6fc0-444a-a1d5-f27f98c0b4d5
STATUS:CONFIRMED
LAST-MODIFIED:20260203T190041Z
DESCRIPTION:Regionalliga Sachsen weibliche D-Jugend Meisterschaft\nBegegnungs-Nr: 23085\nHeim: HC Rödertal \nGast: BSV Sa. Zwickau\nHalle: 3-Feld-Halle-GY Großröhrsdorf (34514)\nAdresse: Melanchthonstraße 21\, 01900  Großröhrsdorf\n
LOCATION:3-Feld-Halle-GY Großröhrsdorf (34514): Melanchthonstraße 21\, 01900  Großröhrsdorf
CATEGORIES:Saison 2025/26
END:VEVENT
BEGIN:VEVENT
DTSTAMP:20260422T193130Z
DTSTART;TZID=Europe/Berlin:20260307T110000
DTEND;TZID=Europe/Berlin:20260307T120000
SUMMARY:Regionalliga Sachsen Meister SC Hoyerswerda  vs BSV Sa. Zwickau (23093)
UID:5ac779a9-5f41-459b-94c1-fe854e21289b
STATUS:CONFIRMED
LAST-MODIFIED:20260309T081444Z
DESCRIPTION:Regionalliga Sachsen weibliche D-Jugend Meisterschaft\nBegegnungs-Nr: 23093\nHeim: SC Hoyerswerda \nGast: BSV Sa. Zwickau\nHalle: Sporthalle \"Neue Oberschule\" (34519)\nAdresse: Claus-von-Stauffenberg-Straße 40a\, 02977 Hoyerswerda\n
LOCATION:Sporthalle \"Neue Oberschule\" (34519): Claus-von-Stauffenberg-Straße 40a\, 02977 Hoyerswerda
CATEGORIES:Saison 2025/26
END:VEVENT
BEGIN:VEVENT
DTSTAMP:20260422T193130Z
DTSTART;TZID=Europe/Berlin:20260322T110000
DTEND;TZID=Europe/Berlin:20260322T120000
SUMMARY:Regionalliga Sachsen Meister SC Markranstädt vs BSV Sa. Zwickau (23101)
UID:e13ce6a9-79dc-42f0-bdf7-da9e3e98c8c8
STATUS:CONFIRMED
LAST-MODIFIED:20260323T085605Z
DESCRIPTION:Regionalliga Sachsen weibliche D-Jugend Meisterschaft\nBegegnungs-Nr: 23101\nHeim: SC Markranstädt\nGast: BSV Sa. Zwickau\nHalle: Sportcenter Markranstädt (31127)\nAdresse: Leipziger Str. 47\, 04420 Markranstädt\n
LOCATION:Sportcenter Markranstädt (31127): Leipziger Str. 47\, 04420 Markranstädt
CATEGORIES:Saison 2025/26
END:VEVENT
BEGIN:VEVENT
DTSTAMP:20260422T193130Z
DTSTART;TZID=Europe/Berlin:20260329T103000
DTEND;TZID=Europe/Berlin:20260329T113000
SUMMARY:Regionalliga Sachsen Meister BSV Limbach-O. vs BSV Sa. Zwickau (23105)
UID:60d7e99f-5ceb-4d41-b01e-fd6b365abe70
STATUS:CONFIRMED
LAST-MODIFIED:20260330T102115Z
DESCRIPTION:Regionalliga Sachsen weibliche D-Jugend Meisterschaft\nBegegnungs-Nr: 23105\nHeim: BSV Limbach-O.\nGast: BSV Sa. Zwickau\nHalle: GSH Limbach-Oberfrohna (32201)\nAdresse: Anna-Esche-Gäßchen 1\, 09212 Limbach-Oberfrohna\n
LOCATION:GSH Limbach-Oberfrohna (32201): Anna-Esche-Gäßchen 1\, 09212 Limbach-Oberfrohna
CATEGORIES:Saison 2025/26
END:VEVENT
BEGIN:VEVENT
DTSTAMP:20260422T193130Z
DTSTART;TZID=Europe/Berlin:20260418T110000
DTEND;TZID=Europe/Berlin:20260418T120000
SUMMARY:Regionalliga Sachsen Meister VfL Meißen vs BSV Sa. Zwickau (23109)
UID:9a5ff164-248c-4bed-9eb2-83e30a46faa5
STATUS:CONFIRMED
LAST-MODIFIED:20260418T122744Z
DESCRIPTION:Regionalliga Sachsen weibliche D-Jugend Meisterschaft\nBegegnungs-Nr: 23109\nHeim: VfL Meißen\nGast: BSV Sa. Zwickau\nHalle: SH \"Heiliger Grund\" Meißen (33212)\nAdresse: Goethestraße 27\, 01662 Meißen\n
LOCATION:SH \"Heiliger Grund\" Meißen (33212): Goethestraße 27\, 01662 Meißen
CATEGORIES:Saison 2025/26
END:VEVENT
BEGIN:VEVENT
DTSTAMP:20260422T193130Z
DTSTART;TZID=Europe/Berlin:20251130T140000
DTEND;TZID=Europe/Berlin:20251130T150000
SUMMARY:Regionalliga Sachsen Meister Görlitzer HC vs BSV Sa. Zwickau (23061)
UID:d1e02558-5ca0-40f2-b780-958bb725d0a5
STATUS:CONFIRMED
LAST-MODIFIED:20251205T105011Z
DESCRIPTION:Regionalliga Sachsen weibliche D-Jugend Meisterschaft\nBegegnungs-Nr: 23061\nHeim: Görlitzer HC\nGast: BSV Sa. Zwickau\nHalle: Emil-von-Schenckendorff-SH (34308)\nAdresse: Hugo-Keller-Straße 15\, 02826 Görlitz\n
LOCATION:Emil-von-Schenckendorff-SH (34308): Hugo-Keller-Straße 15\, 02826 Görlitz
CATEGORIES:Saison 2025/26
END:VEVENT
END:VCALENDAR
