BEGIN:VCALENDAR
PRODID:-//nuDatenautomaten//framework iCal4j //DE
VERSION:2.0
CALSCALE:GREGORIAN
BEGIN:VTIMEZONE
TZID:Europe/Berlin
LAST-MODIFIED:20260306T231828Z
TZURL:https://www.tzurl.org/zoneinfo/Europe/Berlin
X-LIC-LOCATION:Europe/Berlin
X-PROLEPTIC-TZNAME:LMT
BEGIN:STANDARD
TZNAME:CET
TZOFFSETFROM:+005328
TZOFFSETTO:+0100
DTSTART:18930401T000000
END:STANDARD
BEGIN:DAYLIGHT
TZNAME:CEST
TZOFFSETFROM:+0100
TZOFFSETTO:+0200
DTSTART:19160430T230000
RDATE:19400401T020000
RDATE:19430329T020000
RDATE:19460414T020000
RDATE:19470406T030000
RDATE:19480418T020000
RDATE:19490410T020000
RDATE:19800406T020000
END:DAYLIGHT
BEGIN:STANDARD
TZNAME:CET
TZOFFSETFROM:+0200
TZOFFSETTO:+0100
DTSTART:19161001T010000
RDATE:19421102T030000
RDATE:19431004T030000
RDATE:19441002T030000
RDATE:19451118T030000
RDATE:19461007T030000
END:STANDARD
BEGIN:DAYLIGHT
TZNAME:CEST
TZOFFSETFROM:+0100
TZOFFSETTO:+0200
DTSTART:19170416T020000
RRULE:FREQ=YEARLY;UNTIL=19180415T010000Z;BYMONTH=4;BYDAY=3MO
END:DAYLIGHT
BEGIN:STANDARD
TZNAME:CET
TZOFFSETFROM:+0200
TZOFFSETTO:+0100
DTSTART:19170917T030000
RRULE:FREQ=YEARLY;UNTIL=19180916T010000Z;BYMONTH=9;BYDAY=3MO
END:STANDARD
BEGIN:DAYLIGHT
TZNAME:CEST
TZOFFSETFROM:+0100
TZOFFSETTO:+0200
DTSTART:19440403T020000
RRULE:FREQ=YEARLY;UNTIL=19450402T010000Z;BYMONTH=4;BYDAY=1MO
END:DAYLIGHT
BEGIN:DAYLIGHT
TZNAME:CEMT
TZOFFSETFROM:+0200
TZOFFSETTO:+0300
DTSTART:19450524T020000
RDATE:19470511T030000
END:DAYLIGHT
BEGIN:DAYLIGHT
TZNAME:CEST
TZOFFSETFROM:+0300
TZOFFSETTO:+0200
DTSTART:19450924T030000
RDATE:19470629T030000
END:DAYLIGHT
BEGIN:STANDARD
TZNAME:CET
TZOFFSETFROM:+0100
TZOFFSETTO:+0100
DTSTART:19460101T000000
RDATE:19800101T000000
END:STANDARD
BEGIN:STANDARD
TZNAME:CET
TZOFFSETFROM:+0200
TZOFFSETTO:+0100
DTSTART:19471005T030000
RRULE:FREQ=YEARLY;UNTIL=19491002T010000Z;BYMONTH=10;BYDAY=1SU
END:STANDARD
BEGIN:STANDARD
TZNAME:CET
TZOFFSETFROM:+0200
TZOFFSETTO:+0100
DTSTART:19800928T030000
RRULE:FREQ=YEARLY;UNTIL=19950924T010000Z;BYMONTH=9;BYDAY=-1SU
END:STANDARD
BEGIN:DAYLIGHT
TZNAME:CEST
TZOFFSETFROM:+0100
TZOFFSETTO:+0200
DTSTART:19810329T020000
RRULE:FREQ=YEARLY;BYMONTH=3;BYDAY=-1SU
END:DAYLIGHT
BEGIN:STANDARD
TZNAME:CET
TZOFFSETFROM:+0200
TZOFFSETTO:+0100
DTSTART:19961027T030000
RRULE:FREQ=YEARLY;BYMONTH=10;BYDAY=-1SU
END:STANDARD
END:VTIMEZONE
BEGIN:VEVENT
DTSTAMP:20260425T200445Z
DTSTART;TZID=Europe/Berlin:20260307T120000
DTEND;TZID=Europe/Berlin:20260307T130000
SUMMARY:Regionsoberliga S-M wJE SSV Lommatzsch vs VfL Meißen II (44111)
UID:978d5144-e3a1-4908-bda5-a3bae547037b
STATUS:CONFIRMED
LAST-MODIFIED:20260313T170635Z
DESCRIPTION:Regionsoberliga S-M wJE\nBegegnungs-Nr: 44111\nHeim: SSV Lommatzsch\nGast: VfL Meißen II\nHalle: Lothar-Krauße-SH Lommatzsch (33211)\nAdresse: Domselwitzer Str. 21\, 01623 Lommatzsch\n
LOCATION:Lothar-Krauße-SH Lommatzsch (33211): Domselwitzer Str. 21\, 01623 Lommatzsch
CATEGORIES:Saison 2025/26
END:VEVENT
BEGIN:VEVENT
DTSTAMP:20260425T200445Z
DTSTART;TZID=Europe/Berlin:20260307T090000
DTEND;TZID=Europe/Berlin:20260307T100000
SUMMARY:Regionsoberliga S-M wJE SSV Lommatzsch vs VfL Meißen (44114)
UID:12932647-db3a-4925-92cf-354c3e5d8b63
STATUS:CONFIRMED
LAST-MODIFIED:20260313T170416Z
DESCRIPTION:Regionsoberliga S-M wJE\nBegegnungs-Nr: 44114\nHeim: SSV Lommatzsch\nGast: VfL Meißen\nHalle: Lothar-Krauße-SH Lommatzsch (33211)\nAdresse: Domselwitzer Str. 21\, 01623 Lommatzsch\n
LOCATION:Lothar-Krauße-SH Lommatzsch (33211): Domselwitzer Str. 21\, 01623 Lommatzsch
CATEGORIES:Saison 2025/26
END:VEVENT
BEGIN:VEVENT
DTSTAMP:20260425T200445Z
DTSTART;TZID=Europe/Berlin:20251026T110000
DTEND;TZID=Europe/Berlin:20251026T120000
SUMMARY:Regionsoberliga S-M wJE SSV Lommatzsch vs VfL Meißen (44042)
UID:4abe109c-e038-4685-baf6-236e3fd62ea1
STATUS:CONFIRMED
LAST-MODIFIED:20251107T064419Z
DESCRIPTION:Regionsoberliga S-M wJE\nBegegnungs-Nr: 44042\nHeim: SSV Lommatzsch\nGast: VfL Meißen\nHalle: Elb-SH Radebeul West (33203)\nAdresse: An der Festwiese 1\, 01445 Radebeul\n
LOCATION:Elb-SH Radebeul West (33203): An der Festwiese 1\, 01445 Radebeul
CATEGORIES:Saison 2025/26
END:VEVENT
BEGIN:VEVENT
DTSTAMP:20260425T200445Z
DTSTART;TZID=Europe/Berlin:20251129T090000
DTEND;TZID=Europe/Berlin:20251129T100000
SUMMARY:Regionsoberliga S-M wJE SSV Lommatzsch vs VfL Meißen II (44071)
UID:9fb74982-7bce-41bf-b7f0-1a34658a64d4
STATUS:CONFIRMED
LAST-MODIFIED:20251207T132224Z
DESCRIPTION:Regionsoberliga S-M wJE\nBegegnungs-Nr: 44071\nHeim: SSV Lommatzsch\nGast: VfL Meißen II\nHalle: Lothar-Krauße-SH Lommatzsch (33211)\nAdresse: Domselwitzer Str. 21\, 01623 Lommatzsch\n
LOCATION:Lothar-Krauße-SH Lommatzsch (33211): Domselwitzer Str. 21\, 01623 Lommatzsch
CATEGORIES:Saison 2025/26
END:VEVENT
BEGIN:VEVENT
DTSTAMP:20260425T200445Z
DTSTART;TZID=Europe/Berlin:20260125T110000
DTEND;TZID=Europe/Berlin:20260125T120000
SUMMARY:Regionsoberliga S-M wJE SSV Lommatzsch vs SHV Oschatz (44082)
UID:3cc88cb2-95ad-48c6-93ef-7d5869dd01fa
STATUS:CONFIRMED
LAST-MODIFIED:20260129T223429Z
DESCRIPTION:Regionsoberliga S-M wJE\nBegegnungs-Nr: 44082\nHeim: SSV Lommatzsch\nGast: SHV Oschatz\nHalle: Elb-SH Radebeul West (33203)\nAdresse: An der Festwiese 1\, 01445 Radebeul\n
LOCATION:Elb-SH Radebeul West (33203): An der Festwiese 1\, 01445 Radebeul
CATEGORIES:Saison 2025/26
END:VEVENT
BEGIN:VEVENT
DTSTAMP:20260425T200445Z
DTSTART;TZID=Europe/Berlin:20260125T120000
DTEND;TZID=Europe/Berlin:20260125T130000
SUMMARY:Regionsoberliga S-M wJE SSV Lommatzsch vs MSV Dresden (44083)
UID:b74d7545-84b4-4aae-b414-1297c497bedc
STATUS:CONFIRMED
LAST-MODIFIED:20260129T223457Z
DESCRIPTION:Regionsoberliga S-M wJE\nBegegnungs-Nr: 44083\nHeim: SSV Lommatzsch\nGast: MSV Dresden\nHalle: Elb-SH Radebeul West (33203)\nAdresse: An der Festwiese 1\, 01445 Radebeul\n
LOCATION:Elb-SH Radebeul West (33203): An der Festwiese 1\, 01445 Radebeul
CATEGORIES:Saison 2025/26
END:VEVENT
BEGIN:VEVENT
DTSTAMP:20260425T200445Z
DTSTART;TZID=Europe/Berlin:20251129T110000
DTEND;TZID=Europe/Berlin:20251129T120000
SUMMARY:Regionsoberliga S-M wJE SSV Lommatzsch vs Radebeuler HV (44073)
UID:6ef2d78b-53e2-4372-a0f4-7bd888aef703
STATUS:CONFIRMED
LAST-MODIFIED:20251207T132445Z
DESCRIPTION:Regionsoberliga S-M wJE\nBegegnungs-Nr: 44073\nHeim: SSV Lommatzsch\nGast: Radebeuler HV\nHalle: Lothar-Krauße-SH Lommatzsch (33211)\nAdresse: Domselwitzer Str. 21\, 01623 Lommatzsch\n
LOCATION:Lothar-Krauße-SH Lommatzsch (33211): Domselwitzer Str. 21\, 01623 Lommatzsch
CATEGORIES:Saison 2025/26
END:VEVENT
BEGIN:VEVENT
DTSTAMP:20260425T200445Z
DTSTART;TZID=Europe/Berlin:20260228T123000
DTEND;TZID=Europe/Berlin:20260228T133000
SUMMARY:Regionsoberliga S-M wJE MSV Dresden vs SSV Lommatzsch (44104)
UID:8edaf783-4b49-420b-a6c5-cde68ed6074d
STATUS:CONFIRMED
LAST-MODIFIED:20260313T170334Z
DESCRIPTION:Regionsoberliga S-M wJE\nBegegnungs-Nr: 44104\nHeim: MSV Dresden\nGast: SSV Lommatzsch\nHalle: SH Bertolt-Brecht-Gymnasium Dresden (33129)\nAdresse: Thomaestraße 60\, 01307 Dresden\n
LOCATION:SH Bertolt-Brecht-Gymnasium Dresden (33129): Thomaestraße 60\, 01307 Dresden
CATEGORIES:Saison 2025/26
END:VEVENT
BEGIN:VEVENT
DTSTAMP:20260425T200445Z
DTSTART;TZID=Europe/Berlin:20251206T094500
DTEND;TZID=Europe/Berlin:20251206T104500
SUMMARY:Regionsoberliga S-M wJE VfL Meißen vs SSV Lommatzsch (44022)
UID:a787efa0-c608-482a-b7ef-ec3582b03838
STATUS:CONFIRMED
LAST-MODIFIED:20251207T132611Z
DESCRIPTION:Regionsoberliga S-M wJE\nBegegnungs-Nr: 44022\nHeim: VfL Meißen\nGast: SSV Lommatzsch\nHalle: SH \"Heiliger Grund\" Meißen (33212)\nAdresse: Goethestraße 27\, 01662 Meißen\n
LOCATION:SH \"Heiliger Grund\" Meißen (33212): Goethestraße 27\, 01662 Meißen
CATEGORIES:Saison 2025/26
END:VEVENT
BEGIN:VEVENT
DTSTAMP:20260425T200445Z
DTSTART;TZID=Europe/Berlin:20251206T113000
DTEND;TZID=Europe/Berlin:20251206T123000
SUMMARY:Regionsoberliga S-M wJE VfL Meißen II vs SSV Lommatzsch (44024)
UID:301a2f73-f546-4954-9e3f-1ff88407620b
STATUS:CONFIRMED
LAST-MODIFIED:20251207T132730Z
DESCRIPTION:Regionsoberliga S-M wJE\nBegegnungs-Nr: 44024\nHeim: VfL Meißen II\nGast: SSV Lommatzsch\nHalle: SH \"Heiliger Grund\" Meißen (33212)\nAdresse: Goethestraße 27\, 01662 Meißen\n
LOCATION:SH \"Heiliger Grund\" Meißen (33212): Goethestraße 27\, 01662 Meißen
CATEGORIES:Saison 2025/26
END:VEVENT
BEGIN:VEVENT
DTSTAMP:20260425T200445Z
DTSTART;TZID=Europe/Berlin:20251026T100000
DTEND;TZID=Europe/Berlin:20251026T110000
SUMMARY:Regionsoberliga S-M wJE Radebeuler HV vs SSV Lommatzsch (44041)
UID:719b723c-cef9-4164-aa7c-9028210635e9
STATUS:CONFIRMED
LAST-MODIFIED:20251107T064246Z
DESCRIPTION:Regionsoberliga S-M wJE\nBegegnungs-Nr: 44041\nHeim: Radebeuler HV\nGast: SSV Lommatzsch\nHalle: Elb-SH Radebeul West (33203)\nAdresse: An der Festwiese 1\, 01445 Radebeul\n
LOCATION:Elb-SH Radebeul West (33203): An der Festwiese 1\, 01445 Radebeul
CATEGORIES:Saison 2025/26
END:VEVENT
BEGIN:VEVENT
DTSTAMP:20260425T200445Z
DTSTART;TZID=Europe/Berlin:20251116T093000
DTEND;TZID=Europe/Berlin:20251116T103000
SUMMARY:Regionsoberliga S-M wJE SHV Oschatz vs SSV Lommatzsch (44051)
UID:add754b3-8e99-4a60-8bc3-bf581ef8dcc9
STATUS:CONFIRMED
LAST-MODIFIED:20251207T131726Z
DESCRIPTION:Regionsoberliga S-M wJE\nBegegnungs-Nr: 44051\nHeim: SHV Oschatz\nGast: SSV Lommatzsch\nHalle: Rosental-SH Oschatz (31604)\nAdresse: Berufsschulstraße 8\, 04758 Oschatz\n
LOCATION:Rosental-SH Oschatz (31604): Berufsschulstraße 8\, 04758 Oschatz
CATEGORIES:Saison 2025/26
END:VEVENT
BEGIN:VEVENT
DTSTAMP:20260425T200445Z
DTSTART;TZID=Europe/Berlin:20251116T103000
DTEND;TZID=Europe/Berlin:20251116T113000
SUMMARY:Regionsoberliga S-M wJE MSV Dresden vs SSV Lommatzsch (44052)
UID:5dea0b8f-a91c-445d-b36e-6fdba9a8fd01
STATUS:CONFIRMED
LAST-MODIFIED:20251207T131805Z
DESCRIPTION:Regionsoberliga S-M wJE\nBegegnungs-Nr: 44052\nHeim: MSV Dresden\nGast: SSV Lommatzsch\nHalle: Rosental-SH Oschatz (31604)\nAdresse: Berufsschulstraße 8\, 04758 Oschatz\n
LOCATION:Rosental-SH Oschatz (31604): Berufsschulstraße 8\, 04758 Oschatz
CATEGORIES:Saison 2025/26
END:VEVENT
BEGIN:VEVENT
DTSTAMP:20260425T200445Z
DTSTART;TZID=Europe/Berlin:20260328T094500
DTEND;TZID=Europe/Berlin:20260328T104500
SUMMARY:Regionsoberliga S-M wJE Radebeuler HV vs SSV Lommatzsch (44132)
UID:555ab508-76b1-4b08-8728-33fb2b77471b
STATUS:CONFIRMED
LAST-MODIFIED:20250715T183819Z
DESCRIPTION:Regionsoberliga S-M wJE\nBegegnungs-Nr: 44132\nHeim: Radebeuler HV\nGast: SSV Lommatzsch\nHalle: SH \"Heiliger Grund\" Meißen (33212)\nAdresse: Goethestraße 27\, 01662 Meißen\n
LOCATION:SH \"Heiliger Grund\" Meißen (33212): Goethestraße 27\, 01662 Meißen
CATEGORIES:Saison 2025/26
END:VEVENT
BEGIN:VEVENT
DTSTAMP:20260425T200445Z
DTSTART;TZID=Europe/Berlin:20260228T103000
DTEND;TZID=Europe/Berlin:20260228T113000
SUMMARY:Regionsoberliga S-M wJE SHV Oschatz vs SSV Lommatzsch (44102)
UID:a11cf17e-b88b-4e7c-af14-70c1dc0f1672
STATUS:CONFIRMED
LAST-MODIFIED:20260313T170201Z
DESCRIPTION:Regionsoberliga S-M wJE\nBegegnungs-Nr: 44102\nHeim: SHV Oschatz\nGast: SSV Lommatzsch\nHalle: SH Bertolt-Brecht-Gymnasium Dresden (33129)\nAdresse: Thomaestraße 60\, 01307 Dresden\n
LOCATION:SH Bertolt-Brecht-Gymnasium Dresden (33129): Thomaestraße 60\, 01307 Dresden
CATEGORIES:Saison 2025/26
END:VEVENT
END:VCALENDAR
