BEGIN:VCALENDAR
PRODID:-//nuDatenautomaten//framework iCal4j //DE
VERSION:2.0
CALSCALE:GREGORIAN
BEGIN:VTIMEZONE
TZID:Europe/Berlin
LAST-MODIFIED:20260306T231828Z
TZURL:https://www.tzurl.org/zoneinfo/Europe/Berlin
X-LIC-LOCATION:Europe/Berlin
X-PROLEPTIC-TZNAME:LMT
BEGIN:STANDARD
TZNAME:CET
TZOFFSETFROM:+005328
TZOFFSETTO:+0100
DTSTART:18930401T000000
END:STANDARD
BEGIN:DAYLIGHT
TZNAME:CEST
TZOFFSETFROM:+0100
TZOFFSETTO:+0200
DTSTART:19160430T230000
RDATE:19400401T020000
RDATE:19430329T020000
RDATE:19460414T020000
RDATE:19470406T030000
RDATE:19480418T020000
RDATE:19490410T020000
RDATE:19800406T020000
END:DAYLIGHT
BEGIN:STANDARD
TZNAME:CET
TZOFFSETFROM:+0200
TZOFFSETTO:+0100
DTSTART:19161001T010000
RDATE:19421102T030000
RDATE:19431004T030000
RDATE:19441002T030000
RDATE:19451118T030000
RDATE:19461007T030000
END:STANDARD
BEGIN:DAYLIGHT
TZNAME:CEST
TZOFFSETFROM:+0100
TZOFFSETTO:+0200
DTSTART:19170416T020000
RRULE:FREQ=YEARLY;UNTIL=19180415T010000Z;BYMONTH=4;BYDAY=3MO
END:DAYLIGHT
BEGIN:STANDARD
TZNAME:CET
TZOFFSETFROM:+0200
TZOFFSETTO:+0100
DTSTART:19170917T030000
RRULE:FREQ=YEARLY;UNTIL=19180916T010000Z;BYMONTH=9;BYDAY=3MO
END:STANDARD
BEGIN:DAYLIGHT
TZNAME:CEST
TZOFFSETFROM:+0100
TZOFFSETTO:+0200
DTSTART:19440403T020000
RRULE:FREQ=YEARLY;UNTIL=19450402T010000Z;BYMONTH=4;BYDAY=1MO
END:DAYLIGHT
BEGIN:DAYLIGHT
TZNAME:CEMT
TZOFFSETFROM:+0200
TZOFFSETTO:+0300
DTSTART:19450524T020000
RDATE:19470511T030000
END:DAYLIGHT
BEGIN:DAYLIGHT
TZNAME:CEST
TZOFFSETFROM:+0300
TZOFFSETTO:+0200
DTSTART:19450924T030000
RDATE:19470629T030000
END:DAYLIGHT
BEGIN:STANDARD
TZNAME:CET
TZOFFSETFROM:+0100
TZOFFSETTO:+0100
DTSTART:19460101T000000
RDATE:19800101T000000
END:STANDARD
BEGIN:STANDARD
TZNAME:CET
TZOFFSETFROM:+0200
TZOFFSETTO:+0100
DTSTART:19471005T030000
RRULE:FREQ=YEARLY;UNTIL=19491002T010000Z;BYMONTH=10;BYDAY=1SU
END:STANDARD
BEGIN:STANDARD
TZNAME:CET
TZOFFSETFROM:+0200
TZOFFSETTO:+0100
DTSTART:19800928T030000
RRULE:FREQ=YEARLY;UNTIL=19950924T010000Z;BYMONTH=9;BYDAY=-1SU
END:STANDARD
BEGIN:DAYLIGHT
TZNAME:CEST
TZOFFSETFROM:+0100
TZOFFSETTO:+0200
DTSTART:19810329T020000
RRULE:FREQ=YEARLY;BYMONTH=3;BYDAY=-1SU
END:DAYLIGHT
BEGIN:STANDARD
TZNAME:CET
TZOFFSETFROM:+0200
TZOFFSETTO:+0100
DTSTART:19961027T030000
RRULE:FREQ=YEARLY;BYMONTH=10;BYDAY=-1SU
END:STANDARD
END:VTIMEZONE
BEGIN:VEVENT
DTSTAMP:20260420T215554Z
DTSTART;TZID=Europe/Berlin:20260425T104000
DTEND;TZID=Europe/Berlin:20260425T114000
SUMMARY:Regionsoberliga mCJ TBSV Neugersdorf vs SG Cunewalde/Sohland (8130)
UID:78cf5f3a-bde6-4c83-99b3-befaec17a193
STATUS:CONFIRMED
DESCRIPTION:Regionsoberliga  mCJ\nBegegnungs-Nr: 8130\nHeim: TBSV Neugersdorf\nGast: SG Cunewalde/Sohland\nHalle: FSZ Oberland \"Albert Schweitzer\" (34112)\nAdresse: Friedrich-Ebert-Str.27\, 02730 Ebersbach-Neugersdorf\n
LOCATION:FSZ Oberland \"Albert Schweitzer\" (34112): Friedrich-Ebert-Str.27\, 02730 Ebersbach-Neugersdorf
CATEGORIES:Saison 2025/26
END:VEVENT
BEGIN:VEVENT
DTSTAMP:20260420T215554Z
DTSTART;TZID=Europe/Berlin:20250830T090000
DTEND;TZID=Europe/Berlin:20250830T100000
SUMMARY:Regionsoberliga mCJ TBSV Neugersdorf vs Radeberger SV II (8004)
UID:4ccb869a-67b5-42f2-9ef7-93f74c658f2a
STATUS:CONFIRMED
LAST-MODIFIED:20250924T194411Z
DESCRIPTION:Regionsoberliga  mCJ\nBegegnungs-Nr: 8004\nHeim: TBSV Neugersdorf\nGast: Radeberger SV II\nHalle: SH Gymnasium Seifhennersdorf (34104)\nAdresse: Albertstraße 2\, 02782 Seifhennersdorf\n
LOCATION:SH Gymnasium Seifhennersdorf (34104): Albertstraße 2\, 02782 Seifhennersdorf
CATEGORIES:Saison 2025/26
END:VEVENT
BEGIN:VEVENT
DTSTAMP:20260420T215554Z
DTSTART;TZID=Europe/Berlin:20251213T122000
DTEND;TZID=Europe/Berlin:20251213T132000
SUMMARY:Regionsoberliga mCJ TBSV Neugersdorf vs OHC Bernstadt (8017)
UID:3cf2dfd7-f860-4eed-9203-45532cc60cc5
STATUS:CONFIRMED
LAST-MODIFIED:20251230T205659Z
DESCRIPTION:Regionsoberliga  mCJ\nBegegnungs-Nr: 8017\nHeim: TBSV Neugersdorf\nGast: OHC Bernstadt\nHalle: FSZ Oberland \"Albert Schweitzer\" (34112)\nAdresse: Friedrich-Ebert-Str.27\, 02730 Ebersbach-Neugersdorf\n
LOCATION:FSZ Oberland \"Albert Schweitzer\" (34112): Friedrich-Ebert-Str.27\, 02730 Ebersbach-Neugersdorf
CATEGORIES:Saison 2025/26
END:VEVENT
BEGIN:VEVENT
DTSTAMP:20260420T215554Z
DTSTART;TZID=Europe/Berlin:20251025T104000
DTEND;TZID=Europe/Berlin:20251025T114000
SUMMARY:Regionsoberliga mCJ TBSV Neugersdorf vs Stahl Rietschen (8036)
UID:90ac5bc3-5a33-45ba-a334-33e165b630e3
STATUS:CONFIRMED
LAST-MODIFIED:20251103T043427Z
DESCRIPTION:Regionsoberliga  mCJ\nBegegnungs-Nr: 8036\nHeim: TBSV Neugersdorf\nGast: Stahl Rietschen\nHalle: FSZ Oberland \"Albert Schweitzer\" (34112)\nAdresse: Friedrich-Ebert-Str.27\, 02730 Ebersbach-Neugersdorf\n
LOCATION:FSZ Oberland \"Albert Schweitzer\" (34112): Friedrich-Ebert-Str.27\, 02730 Ebersbach-Neugersdorf
CATEGORIES:Saison 2025/26
END:VEVENT
BEGIN:VEVENT
DTSTAMP:20260420T215554Z
DTSTART;TZID=Europe/Berlin:20251108T104000
DTEND;TZID=Europe/Berlin:20251108T114000
SUMMARY:Regionsoberliga mCJ TBSV Neugersdorf vs HSV 1923 Pulsnitz (8043)
UID:953bff23-22d5-4db3-9710-bc374f21ecee
STATUS:CONFIRMED
LAST-MODIFIED:20251111T161024Z
DESCRIPTION:Regionsoberliga  mCJ\nBegegnungs-Nr: 8043\nHeim: TBSV Neugersdorf\nGast: HSV 1923 Pulsnitz\nHalle: FSZ Oberland \"Albert Schweitzer\" (34112)\nAdresse: Friedrich-Ebert-Str.27\, 02730 Ebersbach-Neugersdorf\n
LOCATION:FSZ Oberland \"Albert Schweitzer\" (34112): Friedrich-Ebert-Str.27\, 02730 Ebersbach-Neugersdorf
CATEGORIES:Saison 2025/26
END:VEVENT
BEGIN:VEVENT
DTSTAMP:20260420T215554Z
DTSTART;TZID=Europe/Berlin:20251129T104000
DTEND;TZID=Europe/Berlin:20251129T114000
SUMMARY:Regionsoberliga mCJ TBSV Neugersdorf vs HVH Kamenz (8057)
UID:033ef1dd-b96a-4d47-bb91-d64b3d1cfcc6
STATUS:CONFIRMED
LAST-MODIFIED:20251201T063820Z
DESCRIPTION:Regionsoberliga  mCJ\nBegegnungs-Nr: 8057\nHeim: TBSV Neugersdorf\nGast: HVH Kamenz\nHalle: FSZ Oberland \"Albert Schweitzer\" (34112)\nAdresse: Friedrich-Ebert-Str.27\, 02730 Ebersbach-Neugersdorf\n
LOCATION:FSZ Oberland \"Albert Schweitzer\" (34112): Friedrich-Ebert-Str.27\, 02730 Ebersbach-Neugersdorf
CATEGORIES:Saison 2025/26
END:VEVENT
BEGIN:VEVENT
DTSTAMP:20260420T215554Z
DTSTART;TZID=Europe/Berlin:20260228T111500
DTEND;TZID=Europe/Berlin:20260228T121500
SUMMARY:Regionsoberliga mCJ Stahl Rietschen vs TBSV Neugersdorf (8102)
UID:b45eb351-2f61-469e-b029-b1a9ff85296f
STATUS:CONFIRMED
LAST-MODIFIED:20260301T100511Z
DESCRIPTION:Regionsoberliga  mCJ\nBegegnungs-Nr: 8102\nHeim: Stahl Rietschen\nGast: TBSV Neugersdorf\nHalle: Oberlausitz-SH Rietschen (34403)\nAdresse: Am Festplatz 1\, 02956 Rietschen\n
LOCATION:Oberlausitz-SH Rietschen (34403): Am Festplatz 1\, 02956 Rietschen
CATEGORIES:Saison 2025/26
END:VEVENT
BEGIN:VEVENT
DTSTAMP:20260420T215554Z
DTSTART;TZID=Europe/Berlin:20260321T131500
DTEND;TZID=Europe/Berlin:20260321T141500
SUMMARY:Regionsoberliga mCJ HSV 1923 Pulsnitz vs TBSV Neugersdorf (8109)
UID:29864e2b-f852-434f-846c-231171513dd4
STATUS:CONFIRMED
LAST-MODIFIED:20260326T134246Z
DESCRIPTION:Regionsoberliga  mCJ\nBegegnungs-Nr: 8109\nHeim: HSV 1923 Pulsnitz\nGast: TBSV Neugersdorf\nHalle: Sportkomplex Pulsnitz (34208)\nAdresse: Hempelstr. 8\, 01896 Pulsnitz\n
LOCATION:Sportkomplex Pulsnitz (34208): Hempelstr. 8\, 01896 Pulsnitz
CATEGORIES:Saison 2025/26
END:VEVENT
BEGIN:VEVENT
DTSTAMP:20260420T215554Z
DTSTART;TZID=Europe/Berlin:20260419T140000
DTEND;TZID=Europe/Berlin:20260419T150000
SUMMARY:Regionsoberliga mCJ HVH Kamenz vs TBSV Neugersdorf (8123)
UID:fe330925-a150-4a98-bf24-7c9b7b45e8d6
STATUS:CONFIRMED
LAST-MODIFIED:20260419T143621Z
DESCRIPTION:Regionsoberliga  mCJ\nBegegnungs-Nr: 8123\nHeim: HVH Kamenz\nGast: TBSV Neugersdorf\nHalle: SH Albert-Schweitzer-Gymnasium Kamenz (34204)\nAdresse: Am Flugplatz\, 01917 Kamenz\, Parkplatz - Macherstraße 142\n
LOCATION:SH Albert-Schweitzer-Gymnasium Kamenz (34204): Am Flugplatz\, 01917 Kamenz\, Parkplatz - Macherstraße 142
CATEGORIES:Saison 2025/26
END:VEVENT
BEGIN:VEVENT
DTSTAMP:20260420T215554Z
DTSTART;TZID=Europe/Berlin:20260201T133000
DTEND;TZID=Europe/Berlin:20260201T143000
SUMMARY:Regionsoberliga mCJ SG Cunewalde/Sohland vs TBSV Neugersdorf (8064)
UID:69abbf46-4a07-402f-a5d1-01f0e39ef862
STATUS:CONFIRMED
LAST-MODIFIED:20260301T100438Z
DESCRIPTION:Regionsoberliga  mCJ\nBegegnungs-Nr: 8064\nHeim: SG Cunewalde/Sohland\nGast: TBSV Neugersdorf\nHalle: \"Oberland-Sporthalle\" Sohland (34501)\nAdresse: G. - Hauptmann - Str. 4 A\, 02689 Sohland\n
LOCATION:\"Oberland-Sporthalle\" Sohland (34501): G. - Hauptmann - Str. 4 A\, 02689 Sohland
CATEGORIES:Saison 2025/26
END:VEVENT
BEGIN:VEVENT
DTSTAMP:20260420T215554Z
DTSTART;TZID=Europe/Berlin:20260110T104500
DTEND;TZID=Europe/Berlin:20260110T114500
SUMMARY:Regionsoberliga mCJ Radeberger SV II vs TBSV Neugersdorf (8070)
UID:ced74d43-3b1e-49af-ad78-386579b7957a
STATUS:CONFIRMED
LAST-MODIFIED:20260301T095840Z
DESCRIPTION:Regionsoberliga  mCJ\nBegegnungs-Nr: 8070\nHeim: Radeberger SV II\nGast: TBSV Neugersdorf\nHalle: 3-Feld-Halle-BSZ Radeberg (34209)\nAdresse: Robert-Blum-Weg 5\, 01454 Radeberg\n
LOCATION:3-Feld-Halle-BSZ Radeberg (34209): Robert-Blum-Weg 5\, 01454 Radeberg
CATEGORIES:Saison 2025/26
END:VEVENT
BEGIN:VEVENT
DTSTAMP:20260420T215554Z
DTSTART;TZID=Europe/Berlin:20260125T130000
DTEND;TZID=Europe/Berlin:20260125T140000
SUMMARY:Regionsoberliga mCJ OHC Bernstadt vs TBSV Neugersdorf (8083)
UID:9bb3bf30-6fc3-4360-a954-78dd47d09c9a
STATUS:CONFIRMED
LAST-MODIFIED:20260301T100244Z
DESCRIPTION:Regionsoberliga  mCJ\nBegegnungs-Nr: 8083\nHeim: OHC Bernstadt\nGast: TBSV Neugersdorf\nHalle: Sporthalle \"Pließnitztal\" Bernstadt (34108)\nAdresse: Am Pließnitztal 3\, 02748 Bernstadt a.d. Eigen OT Kunnersdorf\n
LOCATION:Sporthalle \"Pließnitztal\" Bernstadt (34108): Am Pließnitztal 3\, 02748 Bernstadt a.d. Eigen OT Kunnersdorf
CATEGORIES:Saison 2025/26
END:VEVENT
END:VCALENDAR
