BEGIN:VCALENDAR
PRODID:-//nuDatenautomaten//framework iCal4j //DE
VERSION:2.0
CALSCALE:GREGORIAN
BEGIN:VTIMEZONE
TZID:Europe/Berlin
LAST-MODIFIED:20260306T231828Z
TZURL:https://www.tzurl.org/zoneinfo/Europe/Berlin
X-LIC-LOCATION:Europe/Berlin
X-PROLEPTIC-TZNAME:LMT
BEGIN:STANDARD
TZNAME:CET
TZOFFSETFROM:+005328
TZOFFSETTO:+0100
DTSTART:18930401T000000
END:STANDARD
BEGIN:DAYLIGHT
TZNAME:CEST
TZOFFSETFROM:+0100
TZOFFSETTO:+0200
DTSTART:19160430T230000
RDATE:19400401T020000
RDATE:19430329T020000
RDATE:19460414T020000
RDATE:19470406T030000
RDATE:19480418T020000
RDATE:19490410T020000
RDATE:19800406T020000
END:DAYLIGHT
BEGIN:STANDARD
TZNAME:CET
TZOFFSETFROM:+0200
TZOFFSETTO:+0100
DTSTART:19161001T010000
RDATE:19421102T030000
RDATE:19431004T030000
RDATE:19441002T030000
RDATE:19451118T030000
RDATE:19461007T030000
END:STANDARD
BEGIN:DAYLIGHT
TZNAME:CEST
TZOFFSETFROM:+0100
TZOFFSETTO:+0200
DTSTART:19170416T020000
RRULE:FREQ=YEARLY;UNTIL=19180415T010000Z;BYMONTH=4;BYDAY=3MO
END:DAYLIGHT
BEGIN:STANDARD
TZNAME:CET
TZOFFSETFROM:+0200
TZOFFSETTO:+0100
DTSTART:19170917T030000
RRULE:FREQ=YEARLY;UNTIL=19180916T010000Z;BYMONTH=9;BYDAY=3MO
END:STANDARD
BEGIN:DAYLIGHT
TZNAME:CEST
TZOFFSETFROM:+0100
TZOFFSETTO:+0200
DTSTART:19440403T020000
RRULE:FREQ=YEARLY;UNTIL=19450402T010000Z;BYMONTH=4;BYDAY=1MO
END:DAYLIGHT
BEGIN:DAYLIGHT
TZNAME:CEMT
TZOFFSETFROM:+0200
TZOFFSETTO:+0300
DTSTART:19450524T020000
RDATE:19470511T030000
END:DAYLIGHT
BEGIN:DAYLIGHT
TZNAME:CEST
TZOFFSETFROM:+0300
TZOFFSETTO:+0200
DTSTART:19450924T030000
RDATE:19470629T030000
END:DAYLIGHT
BEGIN:STANDARD
TZNAME:CET
TZOFFSETFROM:+0100
TZOFFSETTO:+0100
DTSTART:19460101T000000
RDATE:19800101T000000
END:STANDARD
BEGIN:STANDARD
TZNAME:CET
TZOFFSETFROM:+0200
TZOFFSETTO:+0100
DTSTART:19471005T030000
RRULE:FREQ=YEARLY;UNTIL=19491002T010000Z;BYMONTH=10;BYDAY=1SU
END:STANDARD
BEGIN:STANDARD
TZNAME:CET
TZOFFSETFROM:+0200
TZOFFSETTO:+0100
DTSTART:19800928T030000
RRULE:FREQ=YEARLY;UNTIL=19950924T010000Z;BYMONTH=9;BYDAY=-1SU
END:STANDARD
BEGIN:DAYLIGHT
TZNAME:CEST
TZOFFSETFROM:+0100
TZOFFSETTO:+0200
DTSTART:19810329T020000
RRULE:FREQ=YEARLY;BYMONTH=3;BYDAY=-1SU
END:DAYLIGHT
BEGIN:STANDARD
TZNAME:CET
TZOFFSETFROM:+0200
TZOFFSETTO:+0100
DTSTART:19961027T030000
RRULE:FREQ=YEARLY;BYMONTH=10;BYDAY=-1SU
END:STANDARD
END:VTIMEZONE
BEGIN:VEVENT
DTSTAMP:20260421T061714Z
DTSTART;TZID=Europe/Berlin:20250913T160000
DTEND;TZID=Europe/Berlin:20250913T173000
SUMMARY:ROL Männer Fortschritt Mittweida vs HSG Sachsenring (100018)
UID:2f28e7e4-df8f-43e2-a142-62ca86ffc081
STATUS:CONFIRMED
LAST-MODIFIED:20250916T193515Z
DESCRIPTION:Regionsoberliga Männer\nBegegnungs-Nr: 100018\nHeim: Fortschritt Mittweida\nGast: HSG Sachsenring\nHalle: SH \"Am Schwanenteich\" Mittweida (32207)\nAdresse: Leipziger Straße 15\, 09648 Mittweida\n
LOCATION:SH \"Am Schwanenteich\" Mittweida (32207): Leipziger Straße 15\, 09648 Mittweida
CATEGORIES:Saison 2025/26
END:VEVENT
BEGIN:VEVENT
DTSTAMP:20260421T061714Z
DTSTART;TZID=Europe/Berlin:20260328T160000
DTEND;TZID=Europe/Berlin:20260328T173000
SUMMARY:ROL Männer Fortschritt Mittweida vs Union Chemnitz II (100118)
UID:bec9341e-68ad-47d3-a7d0-3fee78bb8de8
STATUS:CONFIRMED
LAST-MODIFIED:20260330T155236Z
DESCRIPTION:Regionsoberliga Männer\nBegegnungs-Nr: 100118\nHeim: Fortschritt Mittweida\nGast: Union Chemnitz II\nHalle: SH \"Am Schwanenteich\" Mittweida (32207)\nAdresse: Leipziger Straße 15\, 09648 Mittweida\n
LOCATION:SH \"Am Schwanenteich\" Mittweida (32207): Leipziger Straße 15\, 09648 Mittweida
CATEGORIES:Saison 2025/26
END:VEVENT
BEGIN:VEVENT
DTSTAMP:20260421T061714Z
DTSTART;TZID=Europe/Berlin:20260321T160000
DTEND;TZID=Europe/Berlin:20260321T173000
SUMMARY:ROL Männer Fortschritt Mittweida vs BSG Wismut Aue (100114)
UID:0af7f395-842a-40f2-811c-5c9bc24955aa
STATUS:CONFIRMED
LAST-MODIFIED:20260323T161944Z
DESCRIPTION:Regionsoberliga Männer\nBegegnungs-Nr: 100114\nHeim: Fortschritt Mittweida\nGast: BSG Wismut Aue\nHalle: SH \"Am Schwanenteich\" Mittweida (32207)\nAdresse: Leipziger Straße 15\, 09648 Mittweida\n
LOCATION:SH \"Am Schwanenteich\" Mittweida (32207): Leipziger Straße 15\, 09648 Mittweida
CATEGORIES:Saison 2025/26
END:VEVENT
BEGIN:VEVENT
DTSTAMP:20260421T061714Z
DTSTART;TZID=Europe/Berlin:20260425T160000
DTEND;TZID=Europe/Berlin:20260425T173000
SUMMARY:ROL Männer Fortschritt Mittweida vs SV 04 Plauen-O. III (100128)
UID:9036ecf2-77d6-4ad0-823d-dedc9aed448b
STATUS:CONFIRMED
DESCRIPTION:Regionsoberliga Männer\nBegegnungs-Nr: 100128\nHeim: Fortschritt Mittweida\nGast: SV 04 Plauen-O. III\nHalle: SH \"Am Schwanenteich\" Mittweida (32207)\nAdresse: Leipziger Straße 15\, 09648 Mittweida\n
LOCATION:SH \"Am Schwanenteich\" Mittweida (32207): Leipziger Straße 15\, 09648 Mittweida
CATEGORIES:Saison 2025/26
END:VEVENT
BEGIN:VEVENT
DTSTAMP:20260421T061714Z
DTSTART;TZID=Europe/Berlin:20260103T160000
DTEND;TZID=Europe/Berlin:20260103T173000
SUMMARY:ROL Männer Fortschritt Mittweida vs HC Einheit Plauen II (100101)
UID:c0667830-2859-438b-a798-c08389537209
STATUS:CONFIRMED
LAST-MODIFIED:20260105T101301Z
DESCRIPTION:Regionsoberliga Männer\nBegegnungs-Nr: 100101\nHeim: Fortschritt Mittweida\nGast: HC Einheit Plauen II\nHalle: SH \"Am Schwanenteich\" Mittweida (32207)\nAdresse: Leipziger Straße 15\, 09648 Mittweida\n
LOCATION:SH \"Am Schwanenteich\" Mittweida (32207): Leipziger Straße 15\, 09648 Mittweida
CATEGORIES:Saison 2025/26
END:VEVENT
BEGIN:VEVENT
DTSTAMP:20260421T061714Z
DTSTART;TZID=Europe/Berlin:20260214T160000
DTEND;TZID=Europe/Berlin:20260214T173000
SUMMARY:ROL Männer Fortschritt Mittweida vs Burgstädter HC (100086)
UID:1410f3b1-a134-4f47-8927-b5283fcaafea
STATUS:CONFIRMED
LAST-MODIFIED:20260216T170329Z
DESCRIPTION:Regionsoberliga Männer\nBegegnungs-Nr: 100086\nHeim: Fortschritt Mittweida\nGast: Burgstädter HC\nHalle: SH \"Am Schwanenteich\" Mittweida (32207)\nAdresse: Leipziger Straße 15\, 09648 Mittweida\n
LOCATION:SH \"Am Schwanenteich\" Mittweida (32207): Leipziger Straße 15\, 09648 Mittweida
CATEGORIES:Saison 2025/26
END:VEVENT
BEGIN:VEVENT
DTSTAMP:20260421T061714Z
DTSTART;TZID=Europe/Berlin:20260117T160000
DTEND;TZID=Europe/Berlin:20260117T173000
SUMMARY:ROL Männer Fortschritt Mittweida vs HV Grüna (100073)
UID:c007de27-2951-4561-8081-55ca4ee61cf6
STATUS:CONFIRMED
LAST-MODIFIED:20260119T165227Z
DESCRIPTION:Regionsoberliga Männer\nBegegnungs-Nr: 100073\nHeim: Fortschritt Mittweida\nGast: HV Grüna\nHalle: SH \"Am Schwanenteich\" Mittweida (32207)\nAdresse: Leipziger Straße 15\, 09648 Mittweida\n
LOCATION:SH \"Am Schwanenteich\" Mittweida (32207): Leipziger Straße 15\, 09648 Mittweida
CATEGORIES:Saison 2025/26
END:VEVENT
BEGIN:VEVENT
DTSTAMP:20260421T061714Z
DTSTART;TZID=Europe/Berlin:20251129T163000
DTEND;TZID=Europe/Berlin:20251129T180000
SUMMARY:ROL Männer Fortschritt Mittweida vs TSV Einheit Claußnitz (100058)
UID:c0b676c5-9462-4274-957d-7d56763efb4d
STATUS:CONFIRMED
LAST-MODIFIED:20251201T161717Z
DESCRIPTION:Regionsoberliga Männer\nBegegnungs-Nr: 100058\nHeim: Fortschritt Mittweida\nGast: TSV Einheit Claußnitz\nHalle: SH \"Am Schwanenteich\" Mittweida (32207)\nAdresse: Leipziger Straße 15\, 09648 Mittweida\n
LOCATION:SH \"Am Schwanenteich\" Mittweida (32207): Leipziger Straße 15\, 09648 Mittweida
CATEGORIES:Saison 2025/26
END:VEVENT
BEGIN:VEVENT
DTSTAMP:20260421T061714Z
DTSTART;TZID=Europe/Berlin:20250831T160000
DTEND;TZID=Europe/Berlin:20250831T173000
SUMMARY:ROL Männer Fortschritt Mittweida vs ZHC Grubenlampe II (100004)
UID:0f52bd35-cac2-40cf-a25a-0e7adc8561e2
STATUS:CONFIRMED
LAST-MODIFIED:20250905T134254Z
DESCRIPTION:Regionsoberliga Männer\nBegegnungs-Nr: 100004\nHeim: Fortschritt Mittweida\nGast: ZHC Grubenlampe II\nHalle: SH \"Am Schwanenteich\" Mittweida (32207)\nAdresse: Leipziger Straße 15\, 09648 Mittweida\n
LOCATION:SH \"Am Schwanenteich\" Mittweida (32207): Leipziger Straße 15\, 09648 Mittweida
CATEGORIES:Saison 2025/26
END:VEVENT
BEGIN:VEVENT
DTSTAMP:20260421T061714Z
DTSTART;TZID=Europe/Berlin:20251101T160000
DTEND;TZID=Europe/Berlin:20251101T173000
SUMMARY:ROL Männer Fortschritt Mittweida vs TSV Oelsnitz (100040)
UID:d51642d8-b7c7-422f-bb6d-ad4651ed1cb5
STATUS:CONFIRMED
LAST-MODIFIED:20251103T180221Z
DESCRIPTION:Regionsoberliga Männer\nBegegnungs-Nr: 100040\nHeim: Fortschritt Mittweida\nGast: TSV Oelsnitz\nHalle: SH \"Am Schwanenteich\" Mittweida (32207)\nAdresse: Leipziger Straße 15\, 09648 Mittweida\n
LOCATION:SH \"Am Schwanenteich\" Mittweida (32207): Leipziger Straße 15\, 09648 Mittweida
CATEGORIES:Saison 2025/26
END:VEVENT
BEGIN:VEVENT
DTSTAMP:20260421T061714Z
DTSTART;TZID=Europe/Berlin:20250927T160000
DTEND;TZID=Europe/Berlin:20250927T173000
SUMMARY:ROL Männer Fortschritt Mittweida vs HC Pleißental (100030)
UID:542b43bb-7893-4995-8feb-a59770becdaa
STATUS:CONFIRMED
LAST-MODIFIED:20250929T150340Z
DESCRIPTION:Regionsoberliga Männer\nBegegnungs-Nr: 100030\nHeim: Fortschritt Mittweida\nGast: HC Pleißental\nHalle: SH \"Am Schwanenteich\" Mittweida (32207)\nAdresse: Leipziger Straße 15\, 09648 Mittweida\n
LOCATION:SH \"Am Schwanenteich\" Mittweida (32207): Leipziger Straße 15\, 09648 Mittweida
CATEGORIES:Saison 2025/26
END:VEVENT
BEGIN:VEVENT
DTSTAMP:20260421T061714Z
DTSTART;TZID=Europe/Berlin:20260308T160000
DTEND;TZID=Europe/Berlin:20260308T173000
SUMMARY:ROL Männer TSV Oelsnitz vs Fortschritt Mittweida (100108)
UID:cf80bd56-ae25-4537-8cac-2b7d646e98fe
STATUS:CONFIRMED
LAST-MODIFIED:20260309T171955Z
DESCRIPTION:Regionsoberliga Männer\nBegegnungs-Nr: 100108\nHeim: TSV Oelsnitz\nGast: Fortschritt Mittweida\nHalle: SH Oelsnitz/V. (32707)\nAdresse: Adolf-Damaschke-Str. 55 a (Am Stadion)\, 08606 Oelsnitz\n
LOCATION:SH Oelsnitz/V. (32707): Adolf-Damaschke-Str. 55 a (Am Stadion)\, 08606 Oelsnitz
CATEGORIES:Saison 2025/26
END:VEVENT
BEGIN:VEVENT
DTSTAMP:20260421T061714Z
DTSTART;TZID=Europe/Berlin:20260418T170000
DTEND;TZID=Europe/Berlin:20260418T183000
SUMMARY:ROL Männer TSV Einheit Claußnitz vs Fortschritt Mittweida (100126)
UID:d317e556-a158-4b26-b107-975114d302d0
STATUS:CONFIRMED
LAST-MODIFIED:20260420T161042Z
DESCRIPTION:Regionsoberliga Männer\nBegegnungs-Nr: 100126\nHeim: TSV Einheit Claußnitz\nGast: Fortschritt Mittweida\nHalle: Zweifeldhalle Claußnitz (32218)\nAdresse: Daniel-Gottlob-Türk-Str. 3\, 09236 Claußnitz\n
LOCATION:Zweifeldhalle Claußnitz (32218): Daniel-Gottlob-Türk-Str. 3\, 09236 Claußnitz
CATEGORIES:Saison 2025/26
END:VEVENT
BEGIN:VEVENT
DTSTAMP:20260421T061714Z
DTSTART;TZID=Europe/Berlin:20260207T170000
DTEND;TZID=Europe/Berlin:20260207T183000
SUMMARY:ROL Männer HC Pleißental vs Fortschritt Mittweida (100094)
UID:78ba9cae-129a-485c-947f-698adbf5d6f7
STATUS:CONFIRMED
LAST-MODIFIED:20260209T171111Z
DESCRIPTION:Regionsoberliga Männer\nBegegnungs-Nr: 100094\nHeim: HC Pleißental\nGast: Fortschritt Mittweida\nHalle: SH Koberbachzentrum Langenhessen (32505)\nAdresse: Seelingstädter Str. 7\, 08412 Werdau OT Langenhessen\n
LOCATION:SH Koberbachzentrum Langenhessen (32505): Seelingstädter Str. 7\, 08412 Werdau OT Langenhessen
CATEGORIES:Saison 2025/26
END:VEVENT
BEGIN:VEVENT
DTSTAMP:20260421T061714Z
DTSTART;TZID=Europe/Berlin:20260125T120000
DTEND;TZID=Europe/Berlin:20260125T133000
SUMMARY:ROL Männer HSG Sachsenring vs Fortschritt Mittweida (100082)
UID:beaa3bb6-4f83-4a3b-8438-219ac34b3295
STATUS:CONFIRMED
LAST-MODIFIED:20260126T165259Z
DESCRIPTION:Regionsoberliga Männer\nBegegnungs-Nr: 100082\nHeim: HSG Sachsenring\nGast: Fortschritt Mittweida\nHalle: HOT-Sportzentrum - Hohenstein-Ernstthal (32225)\nAdresse: Logenstraße 2a\, 09337 Hohenstein-Ernstthal\n
LOCATION:HOT-Sportzentrum - Hohenstein-Ernstthal (32225): Logenstraße 2a\, 09337 Hohenstein-Ernstthal
CATEGORIES:Saison 2025/26
END:VEVENT
BEGIN:VEVENT
DTSTAMP:20260421T061714Z
DTSTART;TZID=Europe/Berlin:20260110T190000
DTEND;TZID=Europe/Berlin:20260110T203000
SUMMARY:ROL Männer ZHC Grubenlampe II vs Fortschritt Mittweida (100072)
UID:7b680856-c5b7-4feb-967e-a2fa0b5fb8af
STATUS:CONFIRMED
LAST-MODIFIED:20260112T171608Z
DESCRIPTION:Regionsoberliga Männer\nBegegnungs-Nr: 100072\nHeim: ZHC Grubenlampe II\nGast: Fortschritt Mittweida\nHalle: SH Zwickau-Neuplanitz (32501)\nAdresse: Dortmunder Str. 7a\, 08062 Zwickau\n
LOCATION:SH Zwickau-Neuplanitz (32501): Dortmunder Str. 7a\, 08062 Zwickau
CATEGORIES:Saison 2025/26
END:VEVENT
BEGIN:VEVENT
DTSTAMP:20260421T061714Z
DTSTART;TZID=Europe/Berlin:20251206T140000
DTEND;TZID=Europe/Berlin:20251206T153000
SUMMARY:ROL Männer SV 04 Plauen-O. III vs Fortschritt Mittweida (100065)
UID:7afd5080-0566-4c6f-a60b-95bddcfb99e1
STATUS:CONFIRMED
LAST-MODIFIED:20251208T153955Z
DESCRIPTION:Regionsoberliga Männer\nBegegnungs-Nr: 100065\nHeim: SV 04 Plauen-O. III\nGast: Fortschritt Mittweida\nHalle: SH Kurt-Helbig Plauen (32701)\nAdresse: Comeniusstr. 15\, 08523 Plauen\n
LOCATION:SH Kurt-Helbig Plauen (32701): Comeniusstr. 15\, 08523 Plauen
CATEGORIES:Saison 2025/26
END:VEVENT
BEGIN:VEVENT
DTSTAMP:20260421T061714Z
DTSTART;TZID=Europe/Berlin:20251122T191500
DTEND;TZID=Europe/Berlin:20251122T204500
SUMMARY:ROL Männer Union Chemnitz II vs Fortschritt Mittweida (100054)
UID:80f135bc-c7f2-4d30-a257-18cdde1f2614
STATUS:CONFIRMED
LAST-MODIFIED:20251125T153600Z
DESCRIPTION:Regionsoberliga Männer\nBegegnungs-Nr: 100054\nHeim: Union Chemnitz II\nGast: Fortschritt Mittweida\nHalle: Sachsenhalle Chemnitz (32101)\nAdresse: Straße Usti nad Labem 275\, 09119 Chemnitz\n
LOCATION:Sachsenhalle Chemnitz (32101): Straße Usti nad Labem 275\, 09119 Chemnitz
CATEGORIES:Saison 2025/26
END:VEVENT
BEGIN:VEVENT
DTSTAMP:20260421T061714Z
DTSTART;TZID=Europe/Berlin:20251025T140000
DTEND;TZID=Europe/Berlin:20251025T153000
SUMMARY:ROL Männer HC Einheit Plauen II vs Fortschritt Mittweida (100033)
UID:153b88c5-da3d-4cb6-b367-2e1f5e928b2c
STATUS:CONFIRMED
LAST-MODIFIED:20251028T152345Z
DESCRIPTION:Regionsoberliga Männer\nBegegnungs-Nr: 100033\nHeim: HC Einheit Plauen II\nGast: Fortschritt Mittweida\nHalle: Dreifelder-SH am BSZ \"Anne Frank\" (32711)\nAdresse: Wieprechtstr. 11\, 08525 Plauen\n
LOCATION:Dreifelder-SH am BSZ \"Anne Frank\" (32711): Wieprechtstr. 11\, 08525 Plauen
CATEGORIES:Saison 2025/26
END:VEVENT
BEGIN:VEVENT
DTSTAMP:20260421T061714Z
DTSTART;TZID=Europe/Berlin:20250906T140000
DTEND;TZID=Europe/Berlin:20250906T153000
SUMMARY:ROL Männer HV Grüna vs Fortschritt Mittweida (100007)
UID:122bbbbe-aa64-4a06-b8d4-935101eb3af9
STATUS:CONFIRMED
LAST-MODIFIED:20250906T160054Z
DESCRIPTION:Regionsoberliga Männer\nBegegnungs-Nr: 100007\nHeim: HV Grüna\nGast: Fortschritt Mittweida\nHalle: SH Dr.-Wilhelm-André-Gymnasium Chemnitz (32114)\nAdresse: Henriettenstraße 35\, 09112 Chemnitz\n
LOCATION:SH Dr.-Wilhelm-André-Gymnasium Chemnitz (32114): Henriettenstraße 35\, 09112 Chemnitz
CATEGORIES:Saison 2025/26
END:VEVENT
BEGIN:VEVENT
DTSTAMP:20260421T061714Z
DTSTART;TZID=Europe/Berlin:20250920T180000
DTEND;TZID=Europe/Berlin:20250920T193000
SUMMARY:ROL Männer Burgstädter HC vs Fortschritt Mittweida (100021)
UID:946754e4-c64a-4297-b126-eb900b5af03d
STATUS:CONFIRMED
LAST-MODIFIED:20250924T155215Z
DESCRIPTION:Regionsoberliga Männer\nBegegnungs-Nr: 100021\nHeim: Burgstädter HC\nGast: Fortschritt Mittweida\nHalle: SH Burgstädt - Sportzentrum am Taurastein (32206)\nAdresse: Am Stadion 22\, 09217  Burgstädt\n
LOCATION:SH Burgstädt - Sportzentrum am Taurastein (32206): Am Stadion 22\, 09217  Burgstädt
CATEGORIES:Saison 2025/26
END:VEVENT
END:VCALENDAR
