BEGIN:VCALENDAR
PRODID:-//nuDatenautomaten//framework iCal4j //DE
VERSION:2.0
CALSCALE:GREGORIAN
BEGIN:VTIMEZONE
TZID:Europe/Berlin
LAST-MODIFIED:20260306T231828Z
TZURL:https://www.tzurl.org/zoneinfo/Europe/Berlin
X-LIC-LOCATION:Europe/Berlin
X-PROLEPTIC-TZNAME:LMT
BEGIN:STANDARD
TZNAME:CET
TZOFFSETFROM:+005328
TZOFFSETTO:+0100
DTSTART:18930401T000000
END:STANDARD
BEGIN:DAYLIGHT
TZNAME:CEST
TZOFFSETFROM:+0100
TZOFFSETTO:+0200
DTSTART:19160430T230000
RDATE:19400401T020000
RDATE:19430329T020000
RDATE:19460414T020000
RDATE:19470406T030000
RDATE:19480418T020000
RDATE:19490410T020000
RDATE:19800406T020000
END:DAYLIGHT
BEGIN:STANDARD
TZNAME:CET
TZOFFSETFROM:+0200
TZOFFSETTO:+0100
DTSTART:19161001T010000
RDATE:19421102T030000
RDATE:19431004T030000
RDATE:19441002T030000
RDATE:19451118T030000
RDATE:19461007T030000
END:STANDARD
BEGIN:DAYLIGHT
TZNAME:CEST
TZOFFSETFROM:+0100
TZOFFSETTO:+0200
DTSTART:19170416T020000
RRULE:FREQ=YEARLY;UNTIL=19180415T010000Z;BYMONTH=4;BYDAY=3MO
END:DAYLIGHT
BEGIN:STANDARD
TZNAME:CET
TZOFFSETFROM:+0200
TZOFFSETTO:+0100
DTSTART:19170917T030000
RRULE:FREQ=YEARLY;UNTIL=19180916T010000Z;BYMONTH=9;BYDAY=3MO
END:STANDARD
BEGIN:DAYLIGHT
TZNAME:CEST
TZOFFSETFROM:+0100
TZOFFSETTO:+0200
DTSTART:19440403T020000
RRULE:FREQ=YEARLY;UNTIL=19450402T010000Z;BYMONTH=4;BYDAY=1MO
END:DAYLIGHT
BEGIN:DAYLIGHT
TZNAME:CEMT
TZOFFSETFROM:+0200
TZOFFSETTO:+0300
DTSTART:19450524T020000
RDATE:19470511T030000
END:DAYLIGHT
BEGIN:DAYLIGHT
TZNAME:CEST
TZOFFSETFROM:+0300
TZOFFSETTO:+0200
DTSTART:19450924T030000
RDATE:19470629T030000
END:DAYLIGHT
BEGIN:STANDARD
TZNAME:CET
TZOFFSETFROM:+0100
TZOFFSETTO:+0100
DTSTART:19460101T000000
RDATE:19800101T000000
END:STANDARD
BEGIN:STANDARD
TZNAME:CET
TZOFFSETFROM:+0200
TZOFFSETTO:+0100
DTSTART:19471005T030000
RRULE:FREQ=YEARLY;UNTIL=19491002T010000Z;BYMONTH=10;BYDAY=1SU
END:STANDARD
BEGIN:STANDARD
TZNAME:CET
TZOFFSETFROM:+0200
TZOFFSETTO:+0100
DTSTART:19800928T030000
RRULE:FREQ=YEARLY;UNTIL=19950924T010000Z;BYMONTH=9;BYDAY=-1SU
END:STANDARD
BEGIN:DAYLIGHT
TZNAME:CEST
TZOFFSETFROM:+0100
TZOFFSETTO:+0200
DTSTART:19810329T020000
RRULE:FREQ=YEARLY;BYMONTH=3;BYDAY=-1SU
END:DAYLIGHT
BEGIN:STANDARD
TZNAME:CET
TZOFFSETFROM:+0200
TZOFFSETTO:+0100
DTSTART:19961027T030000
RRULE:FREQ=YEARLY;BYMONTH=10;BYDAY=-1SU
END:STANDARD
END:VTIMEZONE
BEGIN:VEVENT
DTSTAMP:20260425T195856Z
DTSTART;TZID=Europe/Berlin:20260307T110000
DTEND;TZID=Europe/Berlin:20260307T120000
SUMMARY:Regionsoberliga S-M wJE Radebeuler HV vs VfL Meißen (44112)
UID:37becea4-fcd3-49ea-892b-308ae747b4ea
STATUS:CONFIRMED
LAST-MODIFIED:20260313T170556Z
DESCRIPTION:Regionsoberliga S-M wJE\nBegegnungs-Nr: 44112\nHeim: Radebeuler HV\nGast: VfL Meißen\nHalle: Lothar-Krauße-SH Lommatzsch (33211)\nAdresse: Domselwitzer Str. 21\, 01623 Lommatzsch\n
LOCATION:Lothar-Krauße-SH Lommatzsch (33211): Domselwitzer Str. 21\, 01623 Lommatzsch
CATEGORIES:Saison 2025/26
END:VEVENT
BEGIN:VEVENT
DTSTAMP:20260425T195856Z
DTSTART;TZID=Europe/Berlin:20260307T100000
DTEND;TZID=Europe/Berlin:20260307T110000
SUMMARY:Regionsoberliga S-M wJE Radebeuler HV vs VfL Meißen II (44113)
UID:3ddcf1cf-39a6-4151-a24c-b7ca1cb0d3a6
STATUS:CONFIRMED
LAST-MODIFIED:20260313T170508Z
DESCRIPTION:Regionsoberliga S-M wJE\nBegegnungs-Nr: 44113\nHeim: Radebeuler HV\nGast: VfL Meißen II\nHalle: Lothar-Krauße-SH Lommatzsch (33211)\nAdresse: Domselwitzer Str. 21\, 01623 Lommatzsch\n
LOCATION:Lothar-Krauße-SH Lommatzsch (33211): Domselwitzer Str. 21\, 01623 Lommatzsch
CATEGORIES:Saison 2025/26
END:VEVENT
BEGIN:VEVENT
DTSTAMP:20260425T195856Z
DTSTART;TZID=Europe/Berlin:20251026T100000
DTEND;TZID=Europe/Berlin:20251026T110000
SUMMARY:Regionsoberliga S-M wJE Radebeuler HV vs SSV Lommatzsch (44041)
UID:719b723c-cef9-4164-aa7c-9028210635e9
STATUS:CONFIRMED
LAST-MODIFIED:20251107T064246Z
DESCRIPTION:Regionsoberliga S-M wJE\nBegegnungs-Nr: 44041\nHeim: Radebeuler HV\nGast: SSV Lommatzsch\nHalle: Elb-SH Radebeul West (33203)\nAdresse: An der Festwiese 1\, 01445 Radebeul\n
LOCATION:Elb-SH Radebeul West (33203): An der Festwiese 1\, 01445 Radebeul
CATEGORIES:Saison 2025/26
END:VEVENT
BEGIN:VEVENT
DTSTAMP:20260425T195856Z
DTSTART;TZID=Europe/Berlin:20251026T120000
DTEND;TZID=Europe/Berlin:20251026T130000
SUMMARY:Regionsoberliga S-M wJE Radebeuler HV vs VfL Meißen (44043)
UID:3750b66a-c435-4233-b75b-ade467b5e6dc
STATUS:CONFIRMED
LAST-MODIFIED:20251107T064534Z
DESCRIPTION:Regionsoberliga S-M wJE\nBegegnungs-Nr: 44043\nHeim: Radebeuler HV\nGast: VfL Meißen\nHalle: Elb-SH Radebeul West (33203)\nAdresse: An der Festwiese 1\, 01445 Radebeul\n
LOCATION:Elb-SH Radebeul West (33203): An der Festwiese 1\, 01445 Radebeul
CATEGORIES:Saison 2025/26
END:VEVENT
BEGIN:VEVENT
DTSTAMP:20260425T195856Z
DTSTART;TZID=Europe/Berlin:20251129T100000
DTEND;TZID=Europe/Berlin:20251129T110000
SUMMARY:Regionsoberliga S-M wJE Radebeuler HV vs VfL Meißen II (44072)
UID:1505a83d-8848-4279-a1c3-34cb963b4b0c
STATUS:CONFIRMED
LAST-MODIFIED:20251207T132352Z
DESCRIPTION:Regionsoberliga S-M wJE\nBegegnungs-Nr: 44072\nHeim: Radebeuler HV\nGast: VfL Meißen II\nHalle: Lothar-Krauße-SH Lommatzsch (33211)\nAdresse: Domselwitzer Str. 21\, 01623 Lommatzsch\n
LOCATION:Lothar-Krauße-SH Lommatzsch (33211): Domselwitzer Str. 21\, 01623 Lommatzsch
CATEGORIES:Saison 2025/26
END:VEVENT
BEGIN:VEVENT
DTSTAMP:20260425T195856Z
DTSTART;TZID=Europe/Berlin:20260328T094500
DTEND;TZID=Europe/Berlin:20260328T104500
SUMMARY:Regionsoberliga S-M wJE Radebeuler HV vs SSV Lommatzsch (44132)
UID:555ab508-76b1-4b08-8728-33fb2b77471b
STATUS:CONFIRMED
LAST-MODIFIED:20250715T183819Z
DESCRIPTION:Regionsoberliga S-M wJE\nBegegnungs-Nr: 44132\nHeim: Radebeuler HV\nGast: SSV Lommatzsch\nHalle: SH \"Heiliger Grund\" Meißen (33212)\nAdresse: Goethestraße 27\, 01662 Meißen\n
LOCATION:SH \"Heiliger Grund\" Meißen (33212): Goethestraße 27\, 01662 Meißen
CATEGORIES:Saison 2025/26
END:VEVENT
BEGIN:VEVENT
DTSTAMP:20260425T195856Z
DTSTART;TZID=Europe/Berlin:20260125T100000
DTEND;TZID=Europe/Berlin:20260125T110000
SUMMARY:Regionsoberliga S-M wJE Radebeuler HV vs MSV Dresden (44081)
UID:f941a7d5-9308-4dfd-a2b2-ee4412daf33f
STATUS:CONFIRMED
LAST-MODIFIED:20260129T223402Z
DESCRIPTION:Regionsoberliga S-M wJE\nBegegnungs-Nr: 44081\nHeim: Radebeuler HV\nGast: MSV Dresden\nHalle: Elb-SH Radebeul West (33203)\nAdresse: An der Festwiese 1\, 01445 Radebeul\n
LOCATION:Elb-SH Radebeul West (33203): An der Festwiese 1\, 01445 Radebeul
CATEGORIES:Saison 2025/26
END:VEVENT
BEGIN:VEVENT
DTSTAMP:20260425T195856Z
DTSTART;TZID=Europe/Berlin:20260125T130000
DTEND;TZID=Europe/Berlin:20260125T140000
SUMMARY:Regionsoberliga S-M wJE Radebeuler HV vs SHV Oschatz (44084)
UID:edafcf9c-4acb-4f85-ba38-278a4a0b6b66
STATUS:CONFIRMED
LAST-MODIFIED:20260129T223529Z
DESCRIPTION:Regionsoberliga S-M wJE\nBegegnungs-Nr: 44084\nHeim: Radebeuler HV\nGast: SHV Oschatz\nHalle: Elb-SH Radebeul West (33203)\nAdresse: An der Festwiese 1\, 01445 Radebeul\n
LOCATION:Elb-SH Radebeul West (33203): An der Festwiese 1\, 01445 Radebeul
CATEGORIES:Saison 2025/26
END:VEVENT
BEGIN:VEVENT
DTSTAMP:20260425T195856Z
DTSTART;TZID=Europe/Berlin:20250914T110000
DTEND;TZID=Europe/Berlin:20250914T120000
SUMMARY:Regionsoberliga S-M wJE SHV Oschatz vs Radebeuler HV (44012)
UID:3f33e1ba-2450-4fab-8927-c2dbd27b5da9
STATUS:CONFIRMED
LAST-MODIFIED:20250923T162850Z
DESCRIPTION:Regionsoberliga S-M wJE\nBegegnungs-Nr: 44012\nHeim: SHV Oschatz\nGast: Radebeuler HV\nHalle: SH Bertolt-Brecht-Gymnasium Dresden (33129)\nAdresse: Thomaestraße 60\, 01307 Dresden\n
LOCATION:SH Bertolt-Brecht-Gymnasium Dresden (33129): Thomaestraße 60\, 01307 Dresden
CATEGORIES:Saison 2025/26
END:VEVENT
BEGIN:VEVENT
DTSTAMP:20260425T195856Z
DTSTART;TZID=Europe/Berlin:20250914T120000
DTEND;TZID=Europe/Berlin:20250914T130000
SUMMARY:Regionsoberliga S-M wJE MSV Dresden vs Radebeuler HV (44013)
UID:48238841-4b1d-4ca8-8311-27548ebf69dd
STATUS:CONFIRMED
LAST-MODIFIED:20250923T164511Z
DESCRIPTION:Regionsoberliga S-M wJE\nBegegnungs-Nr: 44013\nHeim: MSV Dresden\nGast: Radebeuler HV\nHalle: SH Bertolt-Brecht-Gymnasium Dresden (33129)\nAdresse: Thomaestraße 60\, 01307 Dresden\n
LOCATION:SH Bertolt-Brecht-Gymnasium Dresden (33129): Thomaestraße 60\, 01307 Dresden
CATEGORIES:Saison 2025/26
END:VEVENT
BEGIN:VEVENT
DTSTAMP:20260425T195856Z
DTSTART;TZID=Europe/Berlin:20251206T090000
DTEND;TZID=Europe/Berlin:20251206T100000
SUMMARY:Regionsoberliga S-M wJE VfL Meißen II vs Radebeuler HV (44021)
UID:70805eff-8555-43a2-af64-09fd0eeb62da
STATUS:CONFIRMED
LAST-MODIFIED:20251207T132524Z
DESCRIPTION:Regionsoberliga S-M wJE\nBegegnungs-Nr: 44021\nHeim: VfL Meißen II\nGast: Radebeuler HV\nHalle: SH \"Heiliger Grund\" Meißen (33212)\nAdresse: Goethestraße 27\, 01662 Meißen\n
LOCATION:SH \"Heiliger Grund\" Meißen (33212): Goethestraße 27\, 01662 Meißen
CATEGORIES:Saison 2025/26
END:VEVENT
BEGIN:VEVENT
DTSTAMP:20260425T195856Z
DTSTART;TZID=Europe/Berlin:20251206T104500
DTEND;TZID=Europe/Berlin:20251206T114500
SUMMARY:Regionsoberliga S-M wJE VfL Meißen vs Radebeuler HV (44023)
UID:1dbdbd86-d0b4-448c-ae34-a639fa002105
STATUS:CONFIRMED
LAST-MODIFIED:20251207T132701Z
DESCRIPTION:Regionsoberliga S-M wJE\nBegegnungs-Nr: 44023\nHeim: VfL Meißen\nGast: Radebeuler HV\nHalle: SH \"Heiliger Grund\" Meißen (33212)\nAdresse: Goethestraße 27\, 01662 Meißen\n
LOCATION:SH \"Heiliger Grund\" Meißen (33212): Goethestraße 27\, 01662 Meißen
CATEGORIES:Saison 2025/26
END:VEVENT
BEGIN:VEVENT
DTSTAMP:20260425T195856Z
DTSTART;TZID=Europe/Berlin:20260228T093000
DTEND;TZID=Europe/Berlin:20260228T103000
SUMMARY:Regionsoberliga S-M wJE MSV Dresden vs Radebeuler HV (44101)
UID:1b2d577a-9d3f-40ea-bd97-2c8d139706e7
STATUS:CONFIRMED
LAST-MODIFIED:20260313T170025Z
DESCRIPTION:Regionsoberliga S-M wJE\nBegegnungs-Nr: 44101\nHeim: MSV Dresden\nGast: Radebeuler HV\nHalle: SH Bertolt-Brecht-Gymnasium Dresden (33129)\nAdresse: Thomaestraße 60\, 01307 Dresden\n
LOCATION:SH Bertolt-Brecht-Gymnasium Dresden (33129): Thomaestraße 60\, 01307 Dresden
CATEGORIES:Saison 2025/26
END:VEVENT
BEGIN:VEVENT
DTSTAMP:20260425T195856Z
DTSTART;TZID=Europe/Berlin:20260228T113000
DTEND;TZID=Europe/Berlin:20260228T123000
SUMMARY:Regionsoberliga S-M wJE SHV Oschatz vs Radebeuler HV (44103)
UID:a6742a98-3085-4db2-a5d8-e0fcfea19e0d
STATUS:CONFIRMED
LAST-MODIFIED:20260313T170245Z
DESCRIPTION:Regionsoberliga S-M wJE\nBegegnungs-Nr: 44103\nHeim: SHV Oschatz\nGast: Radebeuler HV\nHalle: SH Bertolt-Brecht-Gymnasium Dresden (33129)\nAdresse: Thomaestraße 60\, 01307 Dresden\n
LOCATION:SH Bertolt-Brecht-Gymnasium Dresden (33129): Thomaestraße 60\, 01307 Dresden
CATEGORIES:Saison 2025/26
END:VEVENT
BEGIN:VEVENT
DTSTAMP:20260425T195856Z
DTSTART;TZID=Europe/Berlin:20251129T110000
DTEND;TZID=Europe/Berlin:20251129T120000
SUMMARY:Regionsoberliga S-M wJE SSV Lommatzsch vs Radebeuler HV (44073)
UID:6ef2d78b-53e2-4372-a0f4-7bd888aef703
STATUS:CONFIRMED
LAST-MODIFIED:20251207T132445Z
DESCRIPTION:Regionsoberliga S-M wJE\nBegegnungs-Nr: 44073\nHeim: SSV Lommatzsch\nGast: Radebeuler HV\nHalle: Lothar-Krauße-SH Lommatzsch (33211)\nAdresse: Domselwitzer Str. 21\, 01623 Lommatzsch\n
LOCATION:Lothar-Krauße-SH Lommatzsch (33211): Domselwitzer Str. 21\, 01623 Lommatzsch
CATEGORIES:Saison 2025/26
END:VEVENT
END:VCALENDAR
