BEGIN:VCALENDAR
PRODID:-//nuDatenautomaten//framework iCal4j //DE
VERSION:2.0
CALSCALE:GREGORIAN
BEGIN:VTIMEZONE
TZID:Europe/Berlin
LAST-MODIFIED:20260306T231828Z
TZURL:https://www.tzurl.org/zoneinfo/Europe/Berlin
X-LIC-LOCATION:Europe/Berlin
X-PROLEPTIC-TZNAME:LMT
BEGIN:STANDARD
TZNAME:CET
TZOFFSETFROM:+005328
TZOFFSETTO:+0100
DTSTART:18930401T000000
END:STANDARD
BEGIN:DAYLIGHT
TZNAME:CEST
TZOFFSETFROM:+0100
TZOFFSETTO:+0200
DTSTART:19160430T230000
RDATE:19400401T020000
RDATE:19430329T020000
RDATE:19460414T020000
RDATE:19470406T030000
RDATE:19480418T020000
RDATE:19490410T020000
RDATE:19800406T020000
END:DAYLIGHT
BEGIN:STANDARD
TZNAME:CET
TZOFFSETFROM:+0200
TZOFFSETTO:+0100
DTSTART:19161001T010000
RDATE:19421102T030000
RDATE:19431004T030000
RDATE:19441002T030000
RDATE:19451118T030000
RDATE:19461007T030000
END:STANDARD
BEGIN:DAYLIGHT
TZNAME:CEST
TZOFFSETFROM:+0100
TZOFFSETTO:+0200
DTSTART:19170416T020000
RRULE:FREQ=YEARLY;UNTIL=19180415T010000Z;BYMONTH=4;BYDAY=3MO
END:DAYLIGHT
BEGIN:STANDARD
TZNAME:CET
TZOFFSETFROM:+0200
TZOFFSETTO:+0100
DTSTART:19170917T030000
RRULE:FREQ=YEARLY;UNTIL=19180916T010000Z;BYMONTH=9;BYDAY=3MO
END:STANDARD
BEGIN:DAYLIGHT
TZNAME:CEST
TZOFFSETFROM:+0100
TZOFFSETTO:+0200
DTSTART:19440403T020000
RRULE:FREQ=YEARLY;UNTIL=19450402T010000Z;BYMONTH=4;BYDAY=1MO
END:DAYLIGHT
BEGIN:DAYLIGHT
TZNAME:CEMT
TZOFFSETFROM:+0200
TZOFFSETTO:+0300
DTSTART:19450524T020000
RDATE:19470511T030000
END:DAYLIGHT
BEGIN:DAYLIGHT
TZNAME:CEST
TZOFFSETFROM:+0300
TZOFFSETTO:+0200
DTSTART:19450924T030000
RDATE:19470629T030000
END:DAYLIGHT
BEGIN:STANDARD
TZNAME:CET
TZOFFSETFROM:+0100
TZOFFSETTO:+0100
DTSTART:19460101T000000
RDATE:19800101T000000
END:STANDARD
BEGIN:STANDARD
TZNAME:CET
TZOFFSETFROM:+0200
TZOFFSETTO:+0100
DTSTART:19471005T030000
RRULE:FREQ=YEARLY;UNTIL=19491002T010000Z;BYMONTH=10;BYDAY=1SU
END:STANDARD
BEGIN:STANDARD
TZNAME:CET
TZOFFSETFROM:+0200
TZOFFSETTO:+0100
DTSTART:19800928T030000
RRULE:FREQ=YEARLY;UNTIL=19950924T010000Z;BYMONTH=9;BYDAY=-1SU
END:STANDARD
BEGIN:DAYLIGHT
TZNAME:CEST
TZOFFSETFROM:+0100
TZOFFSETTO:+0200
DTSTART:19810329T020000
RRULE:FREQ=YEARLY;BYMONTH=3;BYDAY=-1SU
END:DAYLIGHT
BEGIN:STANDARD
TZNAME:CET
TZOFFSETFROM:+0200
TZOFFSETTO:+0100
DTSTART:19961027T030000
RRULE:FREQ=YEARLY;BYMONTH=10;BYDAY=-1SU
END:STANDARD
END:VTIMEZONE
BEGIN:VEVENT
DTSTAMP:20260423T140223Z
DTSTART;TZID=Europe/Berlin:20260322T140000
DTEND;TZID=Europe/Berlin:20260322T153000
SUMMARY:Regionsliga S-M Frauen St.1 Radebeuler HV II vs SF 01 Dresden III (6050)
UID:650be397-bc68-4f42-8cd0-b0e96067326e
STATUS:CONFIRMED
LAST-MODIFIED:20260327T155358Z
DESCRIPTION:Regionsliga S-M Frauen Staffel 1\nBegegnungs-Nr: 6050\nHeim: Radebeuler HV II\nGast: SF 01 Dresden III\nHalle: Elb-SH Radebeul West (33203)\nAdresse: An der Festwiese 1\, 01445 Radebeul\n
LOCATION:Elb-SH Radebeul West (33203): An der Festwiese 1\, 01445 Radebeul
CATEGORIES:Saison 2025/26
END:VEVENT
BEGIN:VEVENT
DTSTAMP:20260423T140223Z
DTSTART;TZID=Europe/Berlin:20260201T140000
DTEND;TZID=Europe/Berlin:20260201T153000
SUMMARY:Regionsliga S-M Frauen St.1 Radebeuler HV II vs HSG Weißeritztal II (6040)
UID:781a49f2-e2f1-4fcd-989f-4be7052d7272
STATUS:CONFIRMED
LAST-MODIFIED:20260201T184647Z
DESCRIPTION:Regionsliga S-M Frauen Staffel 1\nBegegnungs-Nr: 6040\nHeim: Radebeuler HV II\nGast: HSG Weißeritztal II\nHalle: Elb-SH Radebeul West (33203)\nAdresse: An der Festwiese 1\, 01445 Radebeul\n
LOCATION:Elb-SH Radebeul West (33203): An der Festwiese 1\, 01445 Radebeul
CATEGORIES:Saison 2025/26
END:VEVENT
BEGIN:VEVENT
DTSTAMP:20260423T140223Z
DTSTART;TZID=Europe/Berlin:20260118T160000
DTEND;TZID=Europe/Berlin:20260118T173000
SUMMARY:Regionsliga S-M Frauen St.1 Radebeuler HV II vs SC Riesa II (6033)
UID:9d1e1bb8-05ea-48ec-ad62-f8c4e64b40c3
STATUS:CONFIRMED
LAST-MODIFIED:20260118T175614Z
DESCRIPTION:Regionsliga S-M Frauen Staffel 1\nBegegnungs-Nr: 6033\nHeim: Radebeuler HV II\nGast: SC Riesa II\nHalle: Elb-SH Radebeul West (33203)\nAdresse: An der Festwiese 1\, 01445 Radebeul\n
LOCATION:Elb-SH Radebeul West (33203): An der Festwiese 1\, 01445 Radebeul
CATEGORIES:Saison 2025/26
END:VEVENT
BEGIN:VEVENT
DTSTAMP:20260423T140223Z
DTSTART;TZID=Europe/Berlin:20250831T160000
DTEND;TZID=Europe/Berlin:20250831T173000
SUMMARY:Regionsliga S-M Frauen St.1 Radebeuler HV II vs SG Dresdner Bank (6001)
UID:ec4dd588-16ac-433d-9d6e-c2fec0043733
STATUS:CONFIRMED
LAST-MODIFIED:20250902T150730Z
DESCRIPTION:Regionsliga S-M Frauen Staffel 1\nBegegnungs-Nr: 6001\nHeim: Radebeuler HV II\nGast: SG Dresdner Bank\nHalle: Elb-SH Radebeul West (33203)\nAdresse: An der Festwiese 1\, 01445 Radebeul\n
LOCATION:Elb-SH Radebeul West (33203): An der Festwiese 1\, 01445 Radebeul
CATEGORIES:Saison 2025/26
END:VEVENT
BEGIN:VEVENT
DTSTAMP:20260423T140223Z
DTSTART;TZID=Europe/Berlin:20251130T160000
DTEND;TZID=Europe/Berlin:20251130T173000
SUMMARY:Regionsliga S-M Frauen St.1 Radebeuler HV II vs HSV Weinböhla II (6025)
UID:c0d04a36-b1dd-4ceb-917b-80d6584b3de7
STATUS:CONFIRMED
LAST-MODIFIED:20251130T184254Z
DESCRIPTION:Regionsliga S-M Frauen Staffel 1\nBegegnungs-Nr: 6025\nHeim: Radebeuler HV II\nGast: HSV Weinböhla II\nHalle: Elb-SH Radebeul West (33203)\nAdresse: An der Festwiese 1\, 01445 Radebeul\n
LOCATION:Elb-SH Radebeul West (33203): An der Festwiese 1\, 01445 Radebeul
CATEGORIES:Saison 2025/26
END:VEVENT
BEGIN:VEVENT
DTSTAMP:20260423T140223Z
DTSTART;TZID=Europe/Berlin:20251102T120000
DTEND;TZID=Europe/Berlin:20251102T133000
SUMMARY:Regionsliga S-M Frauen St.1 Radebeuler HV II vs ESV Dresden III (6019)
UID:a0b4fd96-f6c0-4bce-a33d-c89d73d68c55
STATUS:CONFIRMED
LAST-MODIFIED:20251102T175936Z
DESCRIPTION:Regionsliga S-M Frauen Staffel 1\nBegegnungs-Nr: 6019\nHeim: Radebeuler HV II\nGast: ESV Dresden III\nHalle: Lößnitz-SH Radebeul (33204)\nAdresse: Steinbachstr. 13\, 01445 Radebeul\n
LOCATION:Lößnitz-SH Radebeul (33204): Steinbachstr. 13\, 01445 Radebeul
CATEGORIES:Saison 2025/26
END:VEVENT
BEGIN:VEVENT
DTSTAMP:20260423T140223Z
DTSTART;TZID=Europe/Berlin:20250914T180000
DTEND;TZID=Europe/Berlin:20250914T193000
SUMMARY:Regionsliga S-M Frauen St.1 Radebeuler HV II vs SSV Heidenau  III (6009)
UID:faa78aa2-0873-4d4f-98fb-65c1cd055e84
STATUS:CONFIRMED
LAST-MODIFIED:20250921T170403Z
DESCRIPTION:Regionsliga S-M Frauen Staffel 1\nBegegnungs-Nr: 6009\nHeim: Radebeuler HV II\nGast: SSV Heidenau  III\nHalle: Lößnitz-SH Radebeul (33204)\nAdresse: Steinbachstr. 13\, 01445 Radebeul\n
LOCATION:Lößnitz-SH Radebeul (33204): Steinbachstr. 13\, 01445 Radebeul
CATEGORIES:Saison 2025/26
END:VEVENT
BEGIN:VEVENT
DTSTAMP:20260423T140223Z
DTSTART;TZID=Europe/Berlin:20260419T143000
DTEND;TZID=Europe/Berlin:20260419T160000
SUMMARY:Regionsliga S-M Frauen St.1 HSV Weinböhla II vs Radebeuler HV II (6053)
UID:5b4ebb9a-a09a-4f58-8ef2-f0f3d9348691
STATUS:CONFIRMED
LAST-MODIFIED:20260419T181613Z
DESCRIPTION:Regionsliga S-M Frauen Staffel 1\nBegegnungs-Nr: 6053\nHeim: HSV Weinböhla II\nGast: Radebeuler HV II\nHalle: Nassau-SH Weinböhla (33224)\nAdresse: Meißner Str. 1\, 01689 Weinböhla\n
LOCATION:Nassau-SH Weinböhla (33224): Meißner Str. 1\, 01689 Weinböhla
CATEGORIES:Saison 2025/26
END:VEVENT
BEGIN:VEVENT
DTSTAMP:20260423T140223Z
DTSTART;TZID=Europe/Berlin:20260307T130000
DTEND;TZID=Europe/Berlin:20260307T143000
SUMMARY:Regionsliga S-M Frauen St.1 ESV Dresden III vs Radebeuler HV II (6047)
UID:f3a559b8-3892-449d-9955-f0be14243d44
STATUS:CONFIRMED
LAST-MODIFIED:20260307T173745Z
DESCRIPTION:Regionsliga S-M Frauen Staffel 1\nBegegnungs-Nr: 6047\nHeim: ESV Dresden III\nGast: Radebeuler HV II\nHalle: Lok-SH Dresden (33106)\nAdresse: Emmerich-Ambros-Ufer 74\, 01159 Dresden\n
LOCATION:Lok-SH Dresden (33106): Emmerich-Ambros-Ufer 74\, 01159 Dresden
CATEGORIES:Saison 2025/26
END:VEVENT
BEGIN:VEVENT
DTSTAMP:20260423T140223Z
DTSTART;TZID=Europe/Berlin:20260124T130000
DTEND;TZID=Europe/Berlin:20260124T143000
SUMMARY:Regionsliga S-M Frauen St.1 SSV Heidenau  III vs Radebeuler HV II (6037)
UID:1142a203-cd74-44b7-ad02-93e06448aded
STATUS:CONFIRMED
LAST-MODIFIED:20260121T182117Z
DESCRIPTION:Regionsliga S-M Frauen Staffel 1\nBegegnungs-Nr: 6037\nHeim: SSV Heidenau  III\nGast: Radebeuler HV II\nHalle: SH Pestalozzi-Gymnasium Heidenau (33306)\nAdresse: Hauptstraße 37\, 01809 Heidenau\n
LOCATION:SH Pestalozzi-Gymnasium Heidenau (33306): Hauptstraße 37\, 01809 Heidenau
CATEGORIES:Saison 2025/26
END:VEVENT
BEGIN:VEVENT
DTSTAMP:20260423T140223Z
DTSTART;TZID=Europe/Berlin:20260111T150000
DTEND;TZID=Europe/Berlin:20260111T163000
SUMMARY:Regionsliga S-M Frauen St.1 SG Dresdner Bank vs Radebeuler HV II (6029)
UID:1722b77b-d46b-48fd-b6c0-2ef176b137d4
STATUS:CONFIRMED
LAST-MODIFIED:20260111T184203Z
DESCRIPTION:Regionsliga S-M Frauen Staffel 1\nBegegnungs-Nr: 6029\nHeim: SG Dresdner Bank\nGast: Radebeuler HV II\nHalle: SH Hülße-Gymnasium Dresden (33120)\nAdresse: Hülßestraße 16\, 01237 Dresden\n
LOCATION:SH Hülße-Gymnasium Dresden (33120): Hülßestraße 16\, 01237 Dresden
CATEGORIES:Saison 2025/26
END:VEVENT
BEGIN:VEVENT
DTSTAMP:20260423T140223Z
DTSTART;TZID=Europe/Berlin:20251109T130000
DTEND;TZID=Europe/Berlin:20251109T143000
SUMMARY:Regionsliga S-M Frauen St.1 SF 01 Dresden III vs Radebeuler HV II (6022)
UID:f393b41c-62f7-4cd0-91df-f3ec04a2c215
STATUS:CONFIRMED
LAST-MODIFIED:20251109T174606Z
DESCRIPTION:Regionsliga S-M Frauen Staffel 1\nBegegnungs-Nr: 6022\nHeim: SF 01 Dresden III\nGast: Radebeuler HV II\nHalle: SH 151. Gesamtschule Dresden (33142)\nAdresse: Stauffenbergallee 8\, 01099 Dresden\n
LOCATION:SH 151. Gesamtschule Dresden (33142): Stauffenbergallee 8\, 01099 Dresden
CATEGORIES:Saison 2025/26
END:VEVENT
BEGIN:VEVENT
DTSTAMP:20260423T140223Z
DTSTART;TZID=Europe/Berlin:20251206T140000
DTEND;TZID=Europe/Berlin:20251206T153000
SUMMARY:Regionsliga S-M Frauen St.1 HSG Weißeritztal II vs Radebeuler HV II (6012)
UID:95ce78a2-10e1-4155-8828-162207799153
STATUS:CONFIRMED
LAST-MODIFIED:20251206T181858Z
DESCRIPTION:Regionsliga S-M Frauen Staffel 1\nBegegnungs-Nr: 6012\nHeim: HSG Weißeritztal II\nGast: Radebeuler HV II\nHalle: Saubach-SH Wilsdruff (33208)\nAdresse: Nossener Str. 21b\, 01723 Wilsdruff\n
LOCATION:Saubach-SH Wilsdruff (33208): Nossener Str. 21b\, 01723 Wilsdruff
CATEGORIES:Saison 2025/26
END:VEVENT
BEGIN:VEVENT
DTSTAMP:20260423T140223Z
DTSTART;TZID=Europe/Berlin:20250906T110000
DTEND;TZID=Europe/Berlin:20250906T123000
SUMMARY:Regionsliga S-M Frauen St.1 SC Riesa II vs Radebeuler HV II (6005)
UID:d7a16b49-5afe-428a-ab74-9236cadf086f
STATUS:CONFIRMED
LAST-MODIFIED:20250908T194640Z
DESCRIPTION:Regionsliga S-M Frauen Staffel 1\nBegegnungs-Nr: 6005\nHeim: SC Riesa II\nGast: Radebeuler HV II\nHalle: WM-Sporthalle Riesa (33213)\nAdresse: Am Sportzentrum 1\, 01587 Riesa\n
LOCATION:WM-Sporthalle Riesa (33213): Am Sportzentrum 1\, 01587 Riesa
CATEGORIES:Saison 2025/26
END:VEVENT
END:VCALENDAR
