BEGIN:VCALENDAR
PRODID:-//nuDatenautomaten//framework iCal4j //DE
VERSION:2.0
CALSCALE:GREGORIAN
BEGIN:VTIMEZONE
TZID:Europe/Berlin
LAST-MODIFIED:20260306T231828Z
TZURL:https://www.tzurl.org/zoneinfo/Europe/Berlin
X-LIC-LOCATION:Europe/Berlin
X-PROLEPTIC-TZNAME:LMT
BEGIN:STANDARD
TZNAME:CET
TZOFFSETFROM:+005328
TZOFFSETTO:+0100
DTSTART:18930401T000000
END:STANDARD
BEGIN:DAYLIGHT
TZNAME:CEST
TZOFFSETFROM:+0100
TZOFFSETTO:+0200
DTSTART:19160430T230000
RDATE:19400401T020000
RDATE:19430329T020000
RDATE:19460414T020000
RDATE:19470406T030000
RDATE:19480418T020000
RDATE:19490410T020000
RDATE:19800406T020000
END:DAYLIGHT
BEGIN:STANDARD
TZNAME:CET
TZOFFSETFROM:+0200
TZOFFSETTO:+0100
DTSTART:19161001T010000
RDATE:19421102T030000
RDATE:19431004T030000
RDATE:19441002T030000
RDATE:19451118T030000
RDATE:19461007T030000
END:STANDARD
BEGIN:DAYLIGHT
TZNAME:CEST
TZOFFSETFROM:+0100
TZOFFSETTO:+0200
DTSTART:19170416T020000
RRULE:FREQ=YEARLY;UNTIL=19180415T010000Z;BYMONTH=4;BYDAY=3MO
END:DAYLIGHT
BEGIN:STANDARD
TZNAME:CET
TZOFFSETFROM:+0200
TZOFFSETTO:+0100
DTSTART:19170917T030000
RRULE:FREQ=YEARLY;UNTIL=19180916T010000Z;BYMONTH=9;BYDAY=3MO
END:STANDARD
BEGIN:DAYLIGHT
TZNAME:CEST
TZOFFSETFROM:+0100
TZOFFSETTO:+0200
DTSTART:19440403T020000
RRULE:FREQ=YEARLY;UNTIL=19450402T010000Z;BYMONTH=4;BYDAY=1MO
END:DAYLIGHT
BEGIN:DAYLIGHT
TZNAME:CEMT
TZOFFSETFROM:+0200
TZOFFSETTO:+0300
DTSTART:19450524T020000
RDATE:19470511T030000
END:DAYLIGHT
BEGIN:DAYLIGHT
TZNAME:CEST
TZOFFSETFROM:+0300
TZOFFSETTO:+0200
DTSTART:19450924T030000
RDATE:19470629T030000
END:DAYLIGHT
BEGIN:STANDARD
TZNAME:CET
TZOFFSETFROM:+0100
TZOFFSETTO:+0100
DTSTART:19460101T000000
RDATE:19800101T000000
END:STANDARD
BEGIN:STANDARD
TZNAME:CET
TZOFFSETFROM:+0200
TZOFFSETTO:+0100
DTSTART:19471005T030000
RRULE:FREQ=YEARLY;UNTIL=19491002T010000Z;BYMONTH=10;BYDAY=1SU
END:STANDARD
BEGIN:STANDARD
TZNAME:CET
TZOFFSETFROM:+0200
TZOFFSETTO:+0100
DTSTART:19800928T030000
RRULE:FREQ=YEARLY;UNTIL=19950924T010000Z;BYMONTH=9;BYDAY=-1SU
END:STANDARD
BEGIN:DAYLIGHT
TZNAME:CEST
TZOFFSETFROM:+0100
TZOFFSETTO:+0200
DTSTART:19810329T020000
RRULE:FREQ=YEARLY;BYMONTH=3;BYDAY=-1SU
END:DAYLIGHT
BEGIN:STANDARD
TZNAME:CET
TZOFFSETFROM:+0200
TZOFFSETTO:+0100
DTSTART:19961027T030000
RRULE:FREQ=YEARLY;BYMONTH=10;BYDAY=-1SU
END:STANDARD
END:VTIMEZONE
BEGIN:VEVENT
DTSTAMP:20260421T224114Z
DTSTART;TZID=Europe/Berlin:20251213T110000
DTEND;TZID=Europe/Berlin:20251213T120000
SUMMARY:ROL wJE HC Glauchau/Meerane vs SV 04 Plauen-O. (480064)
UID:b647ac59-4299-4656-877e-52d8ecab567f
STATUS:CONFIRMED
LAST-MODIFIED:20251213T164232Z
DESCRIPTION:Regionsoberliga weibl. E-Jugend\nBegegnungs-Nr: 480064\nHeim: HC Glauchau/Meerane\nGast: SV 04 Plauen-O.\nHalle: SH Kurt-Helbig Plauen (32701)\nAdresse: Comeniusstr. 15\, 08523 Plauen\n
LOCATION:SH Kurt-Helbig Plauen (32701): Comeniusstr. 15\, 08523 Plauen
CATEGORIES:Saison 2025/26
END:VEVENT
BEGIN:VEVENT
DTSTAMP:20260421T224114Z
DTSTART;TZID=Europe/Berlin:20260110T100000
DTEND;TZID=Europe/Berlin:20260110T110000
SUMMARY:ROL wJE HC Glauchau/Meerane vs HSG Sachsenring (480073)
UID:6fe65e6e-3dd6-496f-91dd-d578de23bfc0
STATUS:CONFIRMED
LAST-MODIFIED:20260120T123509Z
DESCRIPTION:Regionsoberliga weibl. E-Jugend\nBegegnungs-Nr: 480073\nHeim: HC Glauchau/Meerane\nGast: HSG Sachsenring\nHalle: SH Meerane (32202)\nAdresse: Leipziger Str. 7\, 08393 Meerane\n
LOCATION:SH Meerane (32202): Leipziger Str. 7\, 08393 Meerane
CATEGORIES:Saison 2025/26
END:VEVENT
BEGIN:VEVENT
DTSTAMP:20260421T224114Z
DTSTART;TZID=Europe/Berlin:20260308T110000
DTEND;TZID=Europe/Berlin:20260308T120000
SUMMARY:ROL wJE HC Glauchau/Meerane vs BSV Limbach-O. (480098)
UID:b2dad5b7-51fe-458f-af6b-5c303c55b245
STATUS:CONFIRMED
LAST-MODIFIED:20260310T112030Z
DESCRIPTION:Regionsoberliga weibl. E-Jugend\nBegegnungs-Nr: 480098\nHeim: HC Glauchau/Meerane\nGast: BSV Limbach-O.\nHalle: SH Kurt-Helbig Plauen (32701)\nAdresse: Comeniusstr. 15\, 08523 Plauen\n
LOCATION:SH Kurt-Helbig Plauen (32701): Comeniusstr. 15\, 08523 Plauen
CATEGORIES:Saison 2025/26
END:VEVENT
BEGIN:VEVENT
DTSTAMP:20260421T224114Z
DTSTART;TZID=Europe/Berlin:20260308T120000
DTEND;TZID=Europe/Berlin:20260308T130000
SUMMARY:ROL wJE HC Glauchau/Meerane vs HV Chemnitz (480099)
UID:c9748179-6fab-4887-bcaf-2d40cac312c7
STATUS:CONFIRMED
LAST-MODIFIED:20260310T112143Z
DESCRIPTION:Regionsoberliga weibl. E-Jugend\nBegegnungs-Nr: 480099\nHeim: HC Glauchau/Meerane\nGast: HV Chemnitz\nHalle: SH Kurt-Helbig Plauen (32701)\nAdresse: Comeniusstr. 15\, 08523 Plauen\n
LOCATION:SH Kurt-Helbig Plauen (32701): Comeniusstr. 15\, 08523 Plauen
CATEGORIES:Saison 2025/26
END:VEVENT
BEGIN:VEVENT
DTSTAMP:20260421T224114Z
DTSTART;TZID=Europe/Berlin:20260328T140000
DTEND;TZID=Europe/Berlin:20260328T150000
SUMMARY:ROL wJE HC Glauchau/Meerane vs HC Fraureuth (480118)
UID:387f12da-21a5-4a3a-8d27-279f24c0f33c
STATUS:CONFIRMED
LAST-MODIFIED:20260409T092114Z
DESCRIPTION:Regionsoberliga weibl. E-Jugend\nBegegnungs-Nr: 480118\nHeim: HC Glauchau/Meerane\nGast: HC Fraureuth\nHalle: SH Kurt-Helbig Plauen (32701)\nAdresse: Comeniusstr. 15\, 08523 Plauen\n
LOCATION:SH Kurt-Helbig Plauen (32701): Comeniusstr. 15\, 08523 Plauen
CATEGORIES:Saison 2025/26
END:VEVENT
BEGIN:VEVENT
DTSTAMP:20260421T224114Z
DTSTART;TZID=Europe/Berlin:20260328T150000
DTEND;TZID=Europe/Berlin:20260328T160000
SUMMARY:ROL wJE HC Glauchau/Meerane vs SG Zschorlau/Schneeberg (480119)
UID:c0bf14c5-31bb-4c6a-9da4-71c06fe453bd
STATUS:CONFIRMED
LAST-MODIFIED:20260409T092218Z
DESCRIPTION:Regionsoberliga weibl. E-Jugend\nBegegnungs-Nr: 480119\nHeim: HC Glauchau/Meerane\nGast: SG Zschorlau/Schneeberg\nHalle: SH Kurt-Helbig Plauen (32701)\nAdresse: Comeniusstr. 15\, 08523 Plauen\n
LOCATION:SH Kurt-Helbig Plauen (32701): Comeniusstr. 15\, 08523 Plauen
CATEGORIES:Saison 2025/26
END:VEVENT
BEGIN:VEVENT
DTSTAMP:20260421T224114Z
DTSTART;TZID=Europe/Berlin:20260425T100000
DTEND;TZID=Europe/Berlin:20260425T110000
SUMMARY:ROL wJE HC Glauchau/Meerane vs BSV Sa. Zwickau (480121)
UID:accff0a7-65bf-475d-a9ed-14237fbefc75
STATUS:CONFIRMED
DESCRIPTION:Regionsoberliga weibl. E-Jugend\nBegegnungs-Nr: 480121\nHeim: HC Glauchau/Meerane\nGast: BSV Sa. Zwickau\nHalle: Sachsenlandhalle Glauchau (32204)\nAdresse: An der Sachsenlandhalle 3\, 08371 Glauchau\n
LOCATION:Sachsenlandhalle Glauchau (32204): An der Sachsenlandhalle 3\, 08371 Glauchau
CATEGORIES:Saison 2025/26
END:VEVENT
BEGIN:VEVENT
DTSTAMP:20260421T224114Z
DTSTART;TZID=Europe/Berlin:20260425T130000
DTEND;TZID=Europe/Berlin:20260425T140000
SUMMARY:ROL wJE HC Glauchau/Meerane vs Chemie Zwickau (480124)
UID:ae3da25e-e074-4bc1-b05a-b847b563c9ad
STATUS:CONFIRMED
DESCRIPTION:Regionsoberliga weibl. E-Jugend\nBegegnungs-Nr: 480124\nHeim: HC Glauchau/Meerane\nGast: Chemie Zwickau\nHalle: Sachsenlandhalle Glauchau (32204)\nAdresse: An der Sachsenlandhalle 3\, 08371 Glauchau\n
LOCATION:Sachsenlandhalle Glauchau (32204): An der Sachsenlandhalle 3\, 08371 Glauchau
CATEGORIES:Saison 2025/26
END:VEVENT
BEGIN:VEVENT
DTSTAMP:20260421T224114Z
DTSTART;TZID=Europe/Berlin:20250927T130000
DTEND;TZID=Europe/Berlin:20250927T140000
SUMMARY:ROL wJE HC Glauchau/Meerane vs HSV Marienberg II (480013)
UID:b6d5b82b-e1f8-4eb5-981f-28db88d8dbcc
STATUS:CONFIRMED
LAST-MODIFIED:20251010T113824Z
DESCRIPTION:Regionsoberliga weibl. E-Jugend\nBegegnungs-Nr: 480013\nHeim: HC Glauchau/Meerane\nGast: HSV Marienberg II\nHalle: Sachsenlandhalle Glauchau (32204)\nAdresse: An der Sachsenlandhalle 3\, 08371 Glauchau\n
LOCATION:Sachsenlandhalle Glauchau (32204): An der Sachsenlandhalle 3\, 08371 Glauchau
CATEGORIES:Saison 2025/26
END:VEVENT
BEGIN:VEVENT
DTSTAMP:20260421T224114Z
DTSTART;TZID=Europe/Berlin:20250927T100000
DTEND;TZID=Europe/Berlin:20250927T110000
SUMMARY:ROL wJE HC Glauchau/Meerane vs HSV Marienberg (480016)
UID:49bcef89-d7ae-4d50-935d-e02f345317b9
STATUS:CONFIRMED
LAST-MODIFIED:20251010T113521Z
DESCRIPTION:Regionsoberliga weibl. E-Jugend\nBegegnungs-Nr: 480016\nHeim: HC Glauchau/Meerane\nGast: HSV Marienberg\nHalle: Sachsenlandhalle Glauchau (32204)\nAdresse: An der Sachsenlandhalle 3\, 08371 Glauchau\n
LOCATION:Sachsenlandhalle Glauchau (32204): An der Sachsenlandhalle 3\, 08371 Glauchau
CATEGORIES:Saison 2025/26
END:VEVENT
BEGIN:VEVENT
DTSTAMP:20260421T224114Z
DTSTART;TZID=Europe/Berlin:20251122T110000
DTEND;TZID=Europe/Berlin:20251122T120000
SUMMARY:ROL wJE SG Zschorlau/Schneeberg vs HC Glauchau/Meerane (480046)
UID:e8124ab4-0674-4e6e-9566-6c0cd4fe74c6
STATUS:CONFIRMED
LAST-MODIFIED:20251124T121449Z
DESCRIPTION:Regionsoberliga weibl. E-Jugend\nBegegnungs-Nr: 480046\nHeim: SG Zschorlau/Schneeberg\nGast: HC Glauchau/Meerane\nHalle: Mehrzweckhalle \"Erich Glowatzky\" Fraureuth (32509)\nAdresse: Zwickauer Str. 8a\, 08427 Fraureuth\n
LOCATION:Mehrzweckhalle \"Erich Glowatzky\" Fraureuth (32509): Zwickauer Str. 8a\, 08427 Fraureuth
CATEGORIES:Saison 2025/26
END:VEVENT
BEGIN:VEVENT
DTSTAMP:20260421T224114Z
DTSTART;TZID=Europe/Berlin:20251122T130000
DTEND;TZID=Europe/Berlin:20251122T140000
SUMMARY:ROL wJE HC Fraureuth vs HC Glauchau/Meerane (480048)
UID:7dec8476-46a8-4fd2-ae06-995b7bfeae6e
STATUS:CONFIRMED
LAST-MODIFIED:20251124T121703Z
DESCRIPTION:Regionsoberliga weibl. E-Jugend\nBegegnungs-Nr: 480048\nHeim: HC Fraureuth\nGast: HC Glauchau/Meerane\nHalle: Mehrzweckhalle \"Erich Glowatzky\" Fraureuth (32509)\nAdresse: Zwickauer Str. 8a\, 08427 Fraureuth\n
LOCATION:Mehrzweckhalle \"Erich Glowatzky\" Fraureuth (32509): Zwickauer Str. 8a\, 08427 Fraureuth
CATEGORIES:Saison 2025/26
END:VEVENT
BEGIN:VEVENT
DTSTAMP:20260421T224114Z
DTSTART;TZID=Europe/Berlin:20251129T100000
DTEND;TZID=Europe/Berlin:20251129T110000
SUMMARY:ROL wJE Chemie Zwickau vs HC Glauchau/Meerane (480053)
UID:f7ddf879-bd1f-47ed-b92b-a5109a593efa
STATUS:CONFIRMED
LAST-MODIFIED:20251130T130342Z
DESCRIPTION:Regionsoberliga weibl. E-Jugend\nBegegnungs-Nr: 480053\nHeim: Chemie Zwickau\nGast: HC Glauchau/Meerane\nHalle: SH Zwickau-Neuplanitz (32501)\nAdresse: Dortmunder Str. 7a\, 08062 Zwickau\n
LOCATION:SH Zwickau-Neuplanitz (32501): Dortmunder Str. 7a\, 08062 Zwickau
CATEGORIES:Saison 2025/26
END:VEVENT
BEGIN:VEVENT
DTSTAMP:20260421T224114Z
DTSTART;TZID=Europe/Berlin:20251129T120000
DTEND;TZID=Europe/Berlin:20251129T130000
SUMMARY:ROL wJE BSV Sa. Zwickau vs HC Glauchau/Meerane (480055)
UID:31752a3f-ce28-456a-a347-d9bec68cd900
STATUS:CONFIRMED
LAST-MODIFIED:20251130T130536Z
DESCRIPTION:Regionsoberliga weibl. E-Jugend\nBegegnungs-Nr: 480055\nHeim: BSV Sa. Zwickau\nGast: HC Glauchau/Meerane\nHalle: SH Zwickau-Neuplanitz (32501)\nAdresse: Dortmunder Str. 7a\, 08062 Zwickau\n
LOCATION:SH Zwickau-Neuplanitz (32501): Dortmunder Str. 7a\, 08062 Zwickau
CATEGORIES:Saison 2025/26
END:VEVENT
BEGIN:VEVENT
DTSTAMP:20260421T224114Z
DTSTART;TZID=Europe/Berlin:20251213T100000
DTEND;TZID=Europe/Berlin:20251213T110000
SUMMARY:ROL wJE SV 04 Plauen-O. vs HC Glauchau/Meerane (480063)
UID:4b0b781d-ce2d-4488-9144-64fc5cd2d61b
STATUS:CONFIRMED
LAST-MODIFIED:20251213T163529Z
DESCRIPTION:Regionsoberliga weibl. E-Jugend\nBegegnungs-Nr: 480063\nHeim: SV 04 Plauen-O.\nGast: HC Glauchau/Meerane\nHalle: SH Kurt-Helbig Plauen (32701)\nAdresse: Comeniusstr. 15\, 08523 Plauen\n
LOCATION:SH Kurt-Helbig Plauen (32701): Comeniusstr. 15\, 08523 Plauen
CATEGORIES:Saison 2025/26
END:VEVENT
BEGIN:VEVENT
DTSTAMP:20260421T224114Z
DTSTART;TZID=Europe/Berlin:20260131T120000
DTEND;TZID=Europe/Berlin:20260131T130000
SUMMARY:ROL wJE HSV Marienberg vs HC Glauchau/Meerane (480086)
UID:f7430ef8-32bb-431a-b730-245a2ab8c070
STATUS:CONFIRMED
LAST-MODIFIED:20260205T124820Z
DESCRIPTION:Regionsoberliga weibl. E-Jugend\nBegegnungs-Nr: 480086\nHeim: HSV Marienberg\nGast: HC Glauchau/Meerane\nHalle: SH am Goldkindstein Marienberg (32416)\nAdresse: Dr.-Wilhelm-Külz-Allee 23\, 09496 Marienberg\n
LOCATION:SH am Goldkindstein Marienberg (32416): Dr.-Wilhelm-Külz-Allee 23\, 09496 Marienberg
CATEGORIES:Saison 2025/26
END:VEVENT
BEGIN:VEVENT
DTSTAMP:20260421T224114Z
DTSTART;TZID=Europe/Berlin:20260131T140000
DTEND;TZID=Europe/Berlin:20260131T150000
SUMMARY:ROL wJE HSV Marienberg II vs HC Glauchau/Meerane (480088)
UID:d3387e52-081d-4346-bb3b-99830347ad1c
STATUS:CONFIRMED
LAST-MODIFIED:20260302T134455Z
DESCRIPTION:Regionsoberliga weibl. E-Jugend\nBegegnungs-Nr: 480088\nHeim: HSV Marienberg II\nGast: HC Glauchau/Meerane\nHalle: SH am Goldkindstein Marienberg (32416)\nAdresse: Dr.-Wilhelm-Külz-Allee 23\, 09496 Marienberg\n
LOCATION:SH am Goldkindstein Marienberg (32416): Dr.-Wilhelm-Külz-Allee 23\, 09496 Marienberg
CATEGORIES:Saison 2025/26
END:VEVENT
BEGIN:VEVENT
DTSTAMP:20260421T224114Z
DTSTART;TZID=Europe/Berlin:20250914T100000
DTEND;TZID=Europe/Berlin:20250914T110000
SUMMARY:ROL wJE HSG Sachsenring vs HC Glauchau/Meerane (480001)
UID:9f6a7690-aa57-4bf0-a18e-fe844e8616d9
STATUS:CONFIRMED
LAST-MODIFIED:20250916T070207Z
DESCRIPTION:Regionsoberliga weibl. E-Jugend\nBegegnungs-Nr: 480001\nHeim: HSG Sachsenring\nGast: HC Glauchau/Meerane\nHalle: SH Oberlungwitz (32203)\nAdresse: Erlbacher Str. 19\, 09353 Oberlungwitz\n
LOCATION:SH Oberlungwitz (32203): Erlbacher Str. 19\, 09353 Oberlungwitz
CATEGORIES:Saison 2025/26
END:VEVENT
BEGIN:VEVENT
DTSTAMP:20260421T224114Z
DTSTART;TZID=Europe/Berlin:20250914T120000
DTEND;TZID=Europe/Berlin:20250914T130000
SUMMARY:ROL wJE Rotation Weißenborn vs HC Glauchau/Meerane (480003)
UID:5f839d68-82ba-4fa6-afb4-1b37f55cefde
STATUS:CONFIRMED
LAST-MODIFIED:20250916T070333Z
DESCRIPTION:Regionsoberliga weibl. E-Jugend\nBegegnungs-Nr: 480003\nHeim: Rotation Weißenborn\nGast: HC Glauchau/Meerane\nHalle: SH Oberlungwitz (32203)\nAdresse: Erlbacher Str. 19\, 09353 Oberlungwitz\n
LOCATION:SH Oberlungwitz (32203): Erlbacher Str. 19\, 09353 Oberlungwitz
CATEGORIES:Saison 2025/26
END:VEVENT
BEGIN:VEVENT
DTSTAMP:20260421T224114Z
DTSTART;TZID=Europe/Berlin:20251108T110000
DTEND;TZID=Europe/Berlin:20251108T120000
SUMMARY:ROL wJE HV Chemnitz vs HC Glauchau/Meerane (480030)
UID:fd787cc7-56cf-404c-af8a-6ffa78a5c599
STATUS:CONFIRMED
LAST-MODIFIED:20251110T133434Z
DESCRIPTION:Regionsoberliga weibl. E-Jugend\nBegegnungs-Nr: 480030\nHeim: HV Chemnitz\nGast: HC Glauchau/Meerane\nHalle: GSH Limbach-Oberfrohna (32201)\nAdresse: Anna-Esche-Gäßchen 1\, 09212 Limbach-Oberfrohna\n
LOCATION:GSH Limbach-Oberfrohna (32201): Anna-Esche-Gäßchen 1\, 09212 Limbach-Oberfrohna
CATEGORIES:Saison 2025/26
END:VEVENT
BEGIN:VEVENT
DTSTAMP:20260421T224114Z
DTSTART;TZID=Europe/Berlin:20251108T130000
DTEND;TZID=Europe/Berlin:20251108T140000
SUMMARY:ROL wJE BSV Limbach-O. vs HC Glauchau/Meerane (480032)
UID:2bd41560-e914-4eb2-b25e-ace50ef79fb0
STATUS:CONFIRMED
LAST-MODIFIED:20251110T133750Z
DESCRIPTION:Regionsoberliga weibl. E-Jugend\nBegegnungs-Nr: 480032\nHeim: BSV Limbach-O.\nGast: HC Glauchau/Meerane\nHalle: GSH Limbach-Oberfrohna (32201)\nAdresse: Anna-Esche-Gäßchen 1\, 09212 Limbach-Oberfrohna\n
LOCATION:GSH Limbach-Oberfrohna (32201): Anna-Esche-Gäßchen 1\, 09212 Limbach-Oberfrohna
CATEGORIES:Saison 2025/26
END:VEVENT
END:VCALENDAR
