BEGIN:VCALENDAR
PRODID:-//nuDatenautomaten//framework iCal4j //DE
VERSION:2.0
CALSCALE:GREGORIAN
BEGIN:VTIMEZONE
TZID:Europe/Berlin
LAST-MODIFIED:20260306T231828Z
TZURL:https://www.tzurl.org/zoneinfo/Europe/Berlin
X-LIC-LOCATION:Europe/Berlin
X-PROLEPTIC-TZNAME:LMT
BEGIN:STANDARD
TZNAME:CET
TZOFFSETFROM:+005328
TZOFFSETTO:+0100
DTSTART:18930401T000000
END:STANDARD
BEGIN:DAYLIGHT
TZNAME:CEST
TZOFFSETFROM:+0100
TZOFFSETTO:+0200
DTSTART:19160430T230000
RDATE:19400401T020000
RDATE:19430329T020000
RDATE:19460414T020000
RDATE:19470406T030000
RDATE:19480418T020000
RDATE:19490410T020000
RDATE:19800406T020000
END:DAYLIGHT
BEGIN:STANDARD
TZNAME:CET
TZOFFSETFROM:+0200
TZOFFSETTO:+0100
DTSTART:19161001T010000
RDATE:19421102T030000
RDATE:19431004T030000
RDATE:19441002T030000
RDATE:19451118T030000
RDATE:19461007T030000
END:STANDARD
BEGIN:DAYLIGHT
TZNAME:CEST
TZOFFSETFROM:+0100
TZOFFSETTO:+0200
DTSTART:19170416T020000
RRULE:FREQ=YEARLY;UNTIL=19180415T010000Z;BYMONTH=4;BYDAY=3MO
END:DAYLIGHT
BEGIN:STANDARD
TZNAME:CET
TZOFFSETFROM:+0200
TZOFFSETTO:+0100
DTSTART:19170917T030000
RRULE:FREQ=YEARLY;UNTIL=19180916T010000Z;BYMONTH=9;BYDAY=3MO
END:STANDARD
BEGIN:DAYLIGHT
TZNAME:CEST
TZOFFSETFROM:+0100
TZOFFSETTO:+0200
DTSTART:19440403T020000
RRULE:FREQ=YEARLY;UNTIL=19450402T010000Z;BYMONTH=4;BYDAY=1MO
END:DAYLIGHT
BEGIN:DAYLIGHT
TZNAME:CEMT
TZOFFSETFROM:+0200
TZOFFSETTO:+0300
DTSTART:19450524T020000
RDATE:19470511T030000
END:DAYLIGHT
BEGIN:DAYLIGHT
TZNAME:CEST
TZOFFSETFROM:+0300
TZOFFSETTO:+0200
DTSTART:19450924T030000
RDATE:19470629T030000
END:DAYLIGHT
BEGIN:STANDARD
TZNAME:CET
TZOFFSETFROM:+0100
TZOFFSETTO:+0100
DTSTART:19460101T000000
RDATE:19800101T000000
END:STANDARD
BEGIN:STANDARD
TZNAME:CET
TZOFFSETFROM:+0200
TZOFFSETTO:+0100
DTSTART:19471005T030000
RRULE:FREQ=YEARLY;UNTIL=19491002T010000Z;BYMONTH=10;BYDAY=1SU
END:STANDARD
BEGIN:STANDARD
TZNAME:CET
TZOFFSETFROM:+0200
TZOFFSETTO:+0100
DTSTART:19800928T030000
RRULE:FREQ=YEARLY;UNTIL=19950924T010000Z;BYMONTH=9;BYDAY=-1SU
END:STANDARD
BEGIN:DAYLIGHT
TZNAME:CEST
TZOFFSETFROM:+0100
TZOFFSETTO:+0200
DTSTART:19810329T020000
RRULE:FREQ=YEARLY;BYMONTH=3;BYDAY=-1SU
END:DAYLIGHT
BEGIN:STANDARD
TZNAME:CET
TZOFFSETFROM:+0200
TZOFFSETTO:+0100
DTSTART:19961027T030000
RRULE:FREQ=YEARLY;BYMONTH=10;BYDAY=-1SU
END:STANDARD
END:VTIMEZONE
BEGIN:VEVENT
DTSTAMP:20260421T025742Z
DTSTART;TZID=Europe/Berlin:20250913T130000
DTEND;TZID=Europe/Berlin:20250913T140000
SUMMARY:Regionsoberliga wJC - 1 HV Glesien vs VfB Torgau (27104)
UID:d49fbffc-d158-4412-b924-edbf6d1555b1
STATUS:CONFIRMED
LAST-MODIFIED:20250914T101825Z
DESCRIPTION:Regionsoberliga weibliche C-Jugend (1)\nBegegnungs-Nr: 27104\nHeim: HV Glesien\nGast: VfB Torgau\nHalle: SH Am Sportplatz Glesien (31302)\nAdresse: Karl-Liebknecht-Str.\, 04435 Schkeuditz / OT Glesien\n
LOCATION:SH Am Sportplatz Glesien (31302): Karl-Liebknecht-Str.\, 04435 Schkeuditz / OT Glesien
CATEGORIES:Saison 2025/26
END:VEVENT
BEGIN:VEVENT
DTSTAMP:20260421T025742Z
DTSTART;TZID=Europe/Berlin:20251129T113000
DTEND;TZID=Europe/Berlin:20251129T123000
SUMMARY:Regionsoberliga wJC - 1 HV Glesien vs TuS Leipzig-Mockau (27119)
UID:a0eeb30c-fcf4-43f7-8cd6-7e5ea122a7be
STATUS:CONFIRMED
LAST-MODIFIED:20251202T215949Z
DESCRIPTION:Regionsoberliga weibliche C-Jugend (1)\nBegegnungs-Nr: 27119\nHeim: HV Glesien\nGast: TuS Leipzig-Mockau\nHalle: SH Am Sportplatz Glesien (31302)\nAdresse: Karl-Liebknecht-Str.\, 04435 Schkeuditz / OT Glesien\n
LOCATION:SH Am Sportplatz Glesien (31302): Karl-Liebknecht-Str.\, 04435 Schkeuditz / OT Glesien
CATEGORIES:Saison 2025/26
END:VEVENT
BEGIN:VEVENT
DTSTAMP:20260421T025742Z
DTSTART;TZID=Europe/Berlin:20251101T130000
DTEND;TZID=Europe/Berlin:20251101T140000
SUMMARY:Regionsoberliga wJC - 1 HV Glesien vs TSG 1861 Taucha (27114)
UID:a21764db-bf7b-47e5-aa08-3a6144cdbb55
STATUS:CONFIRMED
LAST-MODIFIED:20251202T220049Z
DESCRIPTION:Regionsoberliga weibliche C-Jugend (1)\nBegegnungs-Nr: 27114\nHeim: HV Glesien\nGast: TSG 1861 Taucha\nHalle: SH Am Sportplatz Glesien (31302)\nAdresse: Karl-Liebknecht-Str.\, 04435 Schkeuditz / OT Glesien\n
LOCATION:SH Am Sportplatz Glesien (31302): Karl-Liebknecht-Str.\, 04435 Schkeuditz / OT Glesien
CATEGORIES:Saison 2025/26
END:VEVENT
BEGIN:VEVENT
DTSTAMP:20260421T025742Z
DTSTART;TZID=Europe/Berlin:20260502T103000
DTEND;TZID=Europe/Berlin:20260502T113000
SUMMARY:ROL - wJC Meisterrunde HV Glesien vs HSG Neudorf/Döbeln (27330)
UID:168f8ee9-c619-4de9-ada4-b108c77d4593
STATUS:CONFIRMED
LAST-MODIFIED:20251222T150934Z
DESCRIPTION:Regionsoberliga weibliche C-Jugend (M)\nBegegnungs-Nr: 27330\nHeim: HV Glesien\nGast: HSG Neudorf/Döbeln\nHalle: SH Am Sportplatz Glesien (31302)\nAdresse: Karl-Liebknecht-Str.\, 04435 Schkeuditz / OT Glesien\n
LOCATION:SH Am Sportplatz Glesien (31302): Karl-Liebknecht-Str.\, 04435 Schkeuditz / OT Glesien
CATEGORIES:Saison 2025/26
END:VEVENT
BEGIN:VEVENT
DTSTAMP:20260421T025742Z
DTSTART;TZID=Europe/Berlin:20260328T113000
DTEND;TZID=Europe/Berlin:20260328T123000
SUMMARY:ROL - wJC Meisterrunde HV Glesien vs LSG Löbnitz (27323)
UID:4ad6be59-84de-46f0-a336-9d28ee9f2c1d
STATUS:CONFIRMED
LAST-MODIFIED:20260330T101927Z
DESCRIPTION:Regionsoberliga weibliche C-Jugend (M)\nBegegnungs-Nr: 27323\nHeim: HV Glesien\nGast: LSG Löbnitz\nHalle: SH Am Sportplatz Glesien (31302)\nAdresse: Karl-Liebknecht-Str.\, 04435 Schkeuditz / OT Glesien\n
LOCATION:SH Am Sportplatz Glesien (31302): Karl-Liebknecht-Str.\, 04435 Schkeuditz / OT Glesien
CATEGORIES:Saison 2025/26
END:VEVENT
BEGIN:VEVENT
DTSTAMP:20260421T025742Z
DTSTART;TZID=Europe/Berlin:20260314T113000
DTEND;TZID=Europe/Berlin:20260314T123000
SUMMARY:ROL - wJC Meisterrunde HV Glesien vs HSV Mölkau - Die Haie  (27316)
UID:9b450e07-3c88-4755-ae63-6ff6211b8c5d
STATUS:CONFIRMED
LAST-MODIFIED:20260317T081241Z
DESCRIPTION:Regionsoberliga weibliche C-Jugend (M)\nBegegnungs-Nr: 27316\nHeim: HV Glesien\nGast: HSV Mölkau - Die Haie \nHalle: SH Am Sportplatz Glesien (31302)\nAdresse: Karl-Liebknecht-Str.\, 04435 Schkeuditz / OT Glesien\n
LOCATION:SH Am Sportplatz Glesien (31302): Karl-Liebknecht-Str.\, 04435 Schkeuditz / OT Glesien
CATEGORIES:Saison 2025/26
END:VEVENT
BEGIN:VEVENT
DTSTAMP:20260421T025742Z
DTSTART;TZID=Europe/Berlin:20260321T100000
DTEND;TZID=Europe/Berlin:20260321T110000
SUMMARY:ROL - wJC Meisterrunde HV Glesien vs TuS Leipzig-Mockau (27318)
UID:2190cee0-a075-489f-9649-b25d01f1a1f1
STATUS:CONFIRMED
LAST-MODIFIED:20260330T102100Z
DESCRIPTION:Regionsoberliga weibliche C-Jugend (M)\nBegegnungs-Nr: 27318\nHeim: HV Glesien\nGast: TuS Leipzig-Mockau\nHalle: SH Am Sportplatz Glesien (31302)\nAdresse: Karl-Liebknecht-Str.\, 04435 Schkeuditz / OT Glesien\n
LOCATION:SH Am Sportplatz Glesien (31302): Karl-Liebknecht-Str.\, 04435 Schkeuditz / OT Glesien
CATEGORIES:Saison 2025/26
END:VEVENT
BEGIN:VEVENT
DTSTAMP:20260421T025742Z
DTSTART;TZID=Europe/Berlin:20260131T130000
DTEND;TZID=Europe/Berlin:20260131T140000
SUMMARY:ROL - wJC Meisterrunde HV Glesien vs SV Leisnig 90 (27314)
UID:7cc4e0b5-d384-4b9b-b04d-6dd5744853eb
STATUS:CONFIRMED
LAST-MODIFIED:20260201T205406Z
DESCRIPTION:Regionsoberliga weibliche C-Jugend (M)\nBegegnungs-Nr: 27314\nHeim: HV Glesien\nGast: SV Leisnig 90\nHalle: SH Am Sportplatz Glesien (31302)\nAdresse: Karl-Liebknecht-Str.\, 04435 Schkeuditz / OT Glesien\n
LOCATION:SH Am Sportplatz Glesien (31302): Karl-Liebknecht-Str.\, 04435 Schkeuditz / OT Glesien
CATEGORIES:Saison 2025/26
END:VEVENT
BEGIN:VEVENT
DTSTAMP:20260421T025742Z
DTSTART;TZID=Europe/Berlin:20250906T124000
DTEND;TZID=Europe/Berlin:20250906T134000
SUMMARY:Regionsoberliga wJC - 1 VfB Eilenburg vs HV Glesien (27103)
UID:4731b51f-0fa9-4f60-ad0d-e87d44c2f7bb
STATUS:CONFIRMED
LAST-MODIFIED:20250910T205243Z
DESCRIPTION:Regionsoberliga weibliche C-Jugend (1)\nBegegnungs-Nr: 27103\nHeim: VfB Eilenburg\nGast: HV Glesien\nHalle: Belian-SH Eilenburg (31307)\nAdresse: Dr.-Belian-Str. 7\, 04838 Eilenburg\n
LOCATION:Belian-SH Eilenburg (31307): Dr.-Belian-Str. 7\, 04838 Eilenburg
CATEGORIES:Saison 2025/26
END:VEVENT
BEGIN:VEVENT
DTSTAMP:20260421T025742Z
DTSTART;TZID=Europe/Berlin:20250921T100000
DTEND;TZID=Europe/Berlin:20250921T110000
SUMMARY:Regionsoberliga wJC - 1 HSV Mölkau - Die Haie  vs HV Glesien (27108)
UID:0190a6ec-7879-4511-b945-e354b53f5123
STATUS:CONFIRMED
LAST-MODIFIED:20250926T091817Z
DESCRIPTION:Regionsoberliga weibliche C-Jugend (1)\nBegegnungs-Nr: 27108\nHeim: HSV Mölkau - Die Haie \nGast: HV Glesien\nHalle: SH Ostwald Gymnasium Leipzig-Lößnig (31105)\nAdresse: Willi-Bredel-Str. 13\, 04279 Leipzig\n
LOCATION:SH Ostwald Gymnasium Leipzig-Lößnig (31105): Willi-Bredel-Str. 13\, 04279 Leipzig
CATEGORIES:Saison 2025/26
END:VEVENT
BEGIN:VEVENT
DTSTAMP:20260421T025742Z
DTSTART;TZID=Europe/Berlin:20251108T120000
DTEND;TZID=Europe/Berlin:20251108T130000
SUMMARY:Regionsoberliga wJC - 1 VICTORIA Naunhof vs HV Glesien (27116)
UID:cc478707-8ab5-48e5-ab44-7351d288b593
STATUS:CONFIRMED
LAST-MODIFIED:20251111T142618Z
DESCRIPTION:Regionsoberliga weibliche C-Jugend (1)\nBegegnungs-Nr: 27116\nHeim: VICTORIA Naunhof\nGast: HV Glesien\nHalle: Parthelandhalle Naunhof (31120)\nAdresse: Wiesenstraße 34\, 04683 Naunhof\n
LOCATION:Parthelandhalle Naunhof (31120): Wiesenstraße 34\, 04683 Naunhof
CATEGORIES:Saison 2025/26
END:VEVENT
BEGIN:VEVENT
DTSTAMP:20260421T025742Z
DTSTART;TZID=Europe/Berlin:20260428T173000
DTEND;TZID=Europe/Berlin:20260428T183000
SUMMARY:ROL - wJC Meisterrunde TuS Leipzig-Mockau vs HV Glesien (27326)
UID:f843b7f0-b88d-4462-81da-f4c5ba2265c6
STATUS:CONFIRMED
LAST-MODIFIED:20260416T125006Z
DESCRIPTION:Regionsoberliga weibliche C-Jugend (M)\nBegegnungs-Nr: 27326\nHeim: TuS Leipzig-Mockau\nGast: HV Glesien\nHalle: Sporthalle Marie-Curie-Gymnasium Wiederitzsch (31137)\nAdresse: Messeallee 19\, 04158 Leipzig (OT Wiederitzsch)\n
LOCATION:Sporthalle Marie-Curie-Gymnasium Wiederitzsch (31137): Messeallee 19\, 04158 Leipzig (OT Wiederitzsch)
CATEGORIES:Saison 2025/26
END:VEVENT
BEGIN:VEVENT
DTSTAMP:20260421T025742Z
DTSTART;TZID=Europe/Berlin:20260301T144000
DTEND;TZID=Europe/Berlin:20260301T154000
SUMMARY:ROL - wJC Meisterrunde HSG Neudorf/Döbeln vs HV Glesien (27310)
UID:763eed4a-9bd0-4cc6-a200-38f4fff5b498
STATUS:CONFIRMED
LAST-MODIFIED:20260310T103053Z
DESCRIPTION:Regionsoberliga weibliche C-Jugend (M)\nBegegnungs-Nr: 27310\nHeim: HSG Neudorf/Döbeln\nGast: HV Glesien\nHalle: Stadt-SH Döbeln (31202)\nAdresse: Str. des Friedens 9\, 04720 Döbeln\n
LOCATION:Stadt-SH Döbeln (31202): Str. des Friedens 9\, 04720 Döbeln
CATEGORIES:Saison 2025/26
END:VEVENT
BEGIN:VEVENT
DTSTAMP:20260421T025742Z
DTSTART;TZID=Europe/Berlin:20260117T100000
DTEND;TZID=Europe/Berlin:20260117T110000
SUMMARY:ROL - wJC Meisterrunde LSG Löbnitz vs HV Glesien (27304)
UID:29779e38-48b6-4203-9434-4a491ec2567b
STATUS:CONFIRMED
LAST-MODIFIED:20260129T092008Z
DESCRIPTION:Regionsoberliga weibliche C-Jugend (M)\nBegegnungs-Nr: 27304\nHeim: LSG Löbnitz\nGast: HV Glesien\nHalle: SH der Bundespolizei Bad Düben  (31308)\nAdresse: Schmiedeberger Straße 60\, 04849 Bad Düben\n
LOCATION:SH der Bundespolizei Bad Düben  (31308): Schmiedeberger Straße 60\, 04849 Bad Düben
CATEGORIES:Saison 2025/26
END:VEVENT
BEGIN:VEVENT
DTSTAMP:20260421T025742Z
DTSTART;TZID=Europe/Berlin:20260124T090000
DTEND;TZID=Europe/Berlin:20260124T100000
SUMMARY:ROL - wJC Meisterrunde HSV Mölkau - Die Haie  vs HV Glesien (27306)
UID:7f2f4cda-dbb2-4057-9f20-e89651396bf3
STATUS:CONFIRMED
LAST-MODIFIED:20260129T092057Z
DESCRIPTION:Regionsoberliga weibliche C-Jugend (M)\nBegegnungs-Nr: 27306\nHeim: HSV Mölkau - Die Haie \nGast: HV Glesien\nHalle: SH Oberschule Leipzig-Mölkau (31106)\nAdresse: Schulstr. 6\, 04316 Leipzig\n
LOCATION:SH Oberschule Leipzig-Mölkau (31106): Schulstr. 6\, 04316 Leipzig
CATEGORIES:Saison 2025/26
END:VEVENT
BEGIN:VEVENT
DTSTAMP:20260421T025742Z
DTSTART;TZID=Europe/Berlin:20260307T123000
DTEND;TZID=Europe/Berlin:20260307T133000
SUMMARY:ROL - wJC Meisterrunde SV Leisnig 90 vs HV Glesien (27301)
UID:188091a7-ab97-4dfc-8e98-e702bf61f8de
STATUS:CONFIRMED
LAST-MODIFIED:20260310T103214Z
DESCRIPTION:Regionsoberliga weibliche C-Jugend (M)\nBegegnungs-Nr: 27301\nHeim: SV Leisnig 90\nGast: HV Glesien\nHalle: SH Leisnig (31205)\nAdresse: Chemnitzer Str. 101\, 04703 Leisnig\n
LOCATION:SH Leisnig (31205): Chemnitzer Str. 101\, 04703 Leisnig
CATEGORIES:Saison 2025/26
END:VEVENT
END:VCALENDAR
