BEGIN:VCALENDAR
PRODID:-//nuDatenautomaten//framework iCal4j //DE
VERSION:2.0
CALSCALE:GREGORIAN
BEGIN:VTIMEZONE
TZID:Europe/Berlin
LAST-MODIFIED:20260306T231828Z
TZURL:https://www.tzurl.org/zoneinfo/Europe/Berlin
X-LIC-LOCATION:Europe/Berlin
X-PROLEPTIC-TZNAME:LMT
BEGIN:STANDARD
TZNAME:CET
TZOFFSETFROM:+005328
TZOFFSETTO:+0100
DTSTART:18930401T000000
END:STANDARD
BEGIN:DAYLIGHT
TZNAME:CEST
TZOFFSETFROM:+0100
TZOFFSETTO:+0200
DTSTART:19160430T230000
RDATE:19400401T020000
RDATE:19430329T020000
RDATE:19460414T020000
RDATE:19470406T030000
RDATE:19480418T020000
RDATE:19490410T020000
RDATE:19800406T020000
END:DAYLIGHT
BEGIN:STANDARD
TZNAME:CET
TZOFFSETFROM:+0200
TZOFFSETTO:+0100
DTSTART:19161001T010000
RDATE:19421102T030000
RDATE:19431004T030000
RDATE:19441002T030000
RDATE:19451118T030000
RDATE:19461007T030000
END:STANDARD
BEGIN:DAYLIGHT
TZNAME:CEST
TZOFFSETFROM:+0100
TZOFFSETTO:+0200
DTSTART:19170416T020000
RRULE:FREQ=YEARLY;UNTIL=19180415T010000Z;BYMONTH=4;BYDAY=3MO
END:DAYLIGHT
BEGIN:STANDARD
TZNAME:CET
TZOFFSETFROM:+0200
TZOFFSETTO:+0100
DTSTART:19170917T030000
RRULE:FREQ=YEARLY;UNTIL=19180916T010000Z;BYMONTH=9;BYDAY=3MO
END:STANDARD
BEGIN:DAYLIGHT
TZNAME:CEST
TZOFFSETFROM:+0100
TZOFFSETTO:+0200
DTSTART:19440403T020000
RRULE:FREQ=YEARLY;UNTIL=19450402T010000Z;BYMONTH=4;BYDAY=1MO
END:DAYLIGHT
BEGIN:DAYLIGHT
TZNAME:CEMT
TZOFFSETFROM:+0200
TZOFFSETTO:+0300
DTSTART:19450524T020000
RDATE:19470511T030000
END:DAYLIGHT
BEGIN:DAYLIGHT
TZNAME:CEST
TZOFFSETFROM:+0300
TZOFFSETTO:+0200
DTSTART:19450924T030000
RDATE:19470629T030000
END:DAYLIGHT
BEGIN:STANDARD
TZNAME:CET
TZOFFSETFROM:+0100
TZOFFSETTO:+0100
DTSTART:19460101T000000
RDATE:19800101T000000
END:STANDARD
BEGIN:STANDARD
TZNAME:CET
TZOFFSETFROM:+0200
TZOFFSETTO:+0100
DTSTART:19471005T030000
RRULE:FREQ=YEARLY;UNTIL=19491002T010000Z;BYMONTH=10;BYDAY=1SU
END:STANDARD
BEGIN:STANDARD
TZNAME:CET
TZOFFSETFROM:+0200
TZOFFSETTO:+0100
DTSTART:19800928T030000
RRULE:FREQ=YEARLY;UNTIL=19950924T010000Z;BYMONTH=9;BYDAY=-1SU
END:STANDARD
BEGIN:DAYLIGHT
TZNAME:CEST
TZOFFSETFROM:+0100
TZOFFSETTO:+0200
DTSTART:19810329T020000
RRULE:FREQ=YEARLY;BYMONTH=3;BYDAY=-1SU
END:DAYLIGHT
BEGIN:STANDARD
TZNAME:CET
TZOFFSETFROM:+0200
TZOFFSETTO:+0100
DTSTART:19961027T030000
RRULE:FREQ=YEARLY;BYMONTH=10;BYDAY=-1SU
END:STANDARD
END:VTIMEZONE
BEGIN:VEVENT
DTSTAMP:20260424T063723Z
DTSTART;TZID=Europe/Berlin:20260315T120000
DTEND;TZID=Europe/Berlin:20260315T123000
SUMMARY:Regionsliga gFJ C TBSV Neugersdorf vs OSV Zittau (14656)
UID:7d8967f6-befb-42fa-81ba-d9323210520e
STATUS:CONFIRMED
LAST-MODIFIED:20260325T154202Z
DESCRIPTION:Regionsliga  gFJ Staffel C\nBegegnungs-Nr: 14656\nHeim: TBSV Neugersdorf\nGast: OSV Zittau\nHalle: SH Zittau (34107)\nAdresse: Lisa - Tetzner - Str.\, 02763 Zittau\n
LOCATION:SH Zittau (34107): Lisa - Tetzner - Str.\, 02763 Zittau
CATEGORIES:Saison 2025/26
END:VEVENT
BEGIN:VEVENT
DTSTAMP:20260424T063723Z
DTSTART;TZID=Europe/Berlin:20260315T101500
DTEND;TZID=Europe/Berlin:20260315T104500
SUMMARY:Regionsliga gFJ C TBSV Neugersdorf vs Görlitzer HC II (14654)
UID:9463775b-90ce-40bd-9515-f747f9bfbd26
STATUS:CONFIRMED
LAST-MODIFIED:20260325T154023Z
DESCRIPTION:Regionsliga  gFJ Staffel C\nBegegnungs-Nr: 14654\nHeim: TBSV Neugersdorf\nGast: Görlitzer HC II\nHalle: SH Zittau (34107)\nAdresse: Lisa - Tetzner - Str.\, 02763 Zittau\n
LOCATION:SH Zittau (34107): Lisa - Tetzner - Str.\, 02763 Zittau
CATEGORIES:Saison 2025/26
END:VEVENT
BEGIN:VEVENT
DTSTAMP:20260424T063723Z
DTSTART;TZID=Europe/Berlin:20260308T134000
DTEND;TZID=Europe/Berlin:20260308T141000
SUMMARY:Regionsliga gFJ C TBSV Neugersdorf vs Görlitzer HC (14644)
UID:c7d04876-1e4b-43bb-a948-c944fb58a5a7
STATUS:CONFIRMED
LAST-MODIFIED:20260310T143605Z
DESCRIPTION:Regionsliga  gFJ Staffel C\nBegegnungs-Nr: 14644\nHeim: TBSV Neugersdorf\nGast: Görlitzer HC\nHalle: Sporthalle \"Pließnitztal\" Bernstadt (34108)\nAdresse: Am Pließnitztal 3\, 02748 Bernstadt a.d. Eigen OT Kunnersdorf\n
LOCATION:Sporthalle \"Pließnitztal\" Bernstadt (34108): Am Pließnitztal 3\, 02748 Bernstadt a.d. Eigen OT Kunnersdorf
CATEGORIES:Saison 2025/26
END:VEVENT
BEGIN:VEVENT
DTSTAMP:20260424T063723Z
DTSTART;TZID=Europe/Berlin:20260118T100000
DTEND;TZID=Europe/Berlin:20260118T103000
SUMMARY:Regionsliga gFJ C TBSV Neugersdorf vs Koweg Görlitz (14640)
UID:5e81f44c-8b85-494a-b7b5-a4e5204a1ab3
STATUS:CONFIRMED
LAST-MODIFIED:20260128T100353Z
DESCRIPTION:Regionsliga  gFJ Staffel C\nBegegnungs-Nr: 14640\nHeim: TBSV Neugersdorf\nGast: Koweg Görlitz\nHalle: FSZ Oberland \"Albert Schweitzer\" (34112)\nAdresse: Friedrich-Ebert-Str.27\, 02730 Ebersbach-Neugersdorf\n
LOCATION:FSZ Oberland \"Albert Schweitzer\" (34112): Friedrich-Ebert-Str.27\, 02730 Ebersbach-Neugersdorf
CATEGORIES:Saison 2025/26
END:VEVENT
BEGIN:VEVENT
DTSTAMP:20260424T063723Z
DTSTART;TZID=Europe/Berlin:20251214T111500
DTEND;TZID=Europe/Berlin:20251214T114500
SUMMARY:Regionsliga gFJ C TBSV Neugersdorf vs OHC Bernstadt (14634)
UID:0881a4d8-0c7a-43dc-a801-54fc15ef34c6
STATUS:CONFIRMED
LAST-MODIFIED:20251221T101021Z
DESCRIPTION:Regionsliga  gFJ Staffel C\nBegegnungs-Nr: 14634\nHeim: TBSV Neugersdorf\nGast: OHC Bernstadt\nHalle: SH Zittau (34107)\nAdresse: Lisa - Tetzner - Str.\, 02763 Zittau\n
LOCATION:SH Zittau (34107): Lisa - Tetzner - Str.\, 02763 Zittau
CATEGORIES:Saison 2025/26
END:VEVENT
BEGIN:VEVENT
DTSTAMP:20260424T063723Z
DTSTART;TZID=Europe/Berlin:20250928T125000
DTEND;TZID=Europe/Berlin:20250928T132000
SUMMARY:Regionsliga gFJ C TBSV Neugersdorf vs Koweg Görlitz (14602)
UID:27eeb6af-c744-42af-9555-2b54310ecf4a
STATUS:CONFIRMED
LAST-MODIFIED:20251002T141409Z
DESCRIPTION:Regionsliga  gFJ Staffel C\nBegegnungs-Nr: 14602\nHeim: TBSV Neugersdorf\nGast: Koweg Görlitz\nHalle: Sporthalle \"Pließnitztal\" Bernstadt (34108)\nAdresse: Am Pließnitztal 3\, 02748 Bernstadt a.d. Eigen OT Kunnersdorf\n
LOCATION:Sporthalle \"Pließnitztal\" Bernstadt (34108): Am Pließnitztal 3\, 02748 Bernstadt a.d. Eigen OT Kunnersdorf
CATEGORIES:Saison 2025/26
END:VEVENT
BEGIN:VEVENT
DTSTAMP:20260424T063723Z
DTSTART;TZID=Europe/Berlin:20251130T121000
DTEND;TZID=Europe/Berlin:20251130T124000
SUMMARY:Regionsliga gFJ C TBSV Neugersdorf vs HV Eibau (14628)
UID:fbf5a617-801a-4159-aa0c-8b9e89467fa9
STATUS:CONFIRMED
LAST-MODIFIED:20251221T100615Z
DESCRIPTION:Regionsliga  gFJ Staffel C\nBegegnungs-Nr: 14628\nHeim: TBSV Neugersdorf\nGast: HV Eibau\nHalle: FSZ Oberland \"Albert Schweitzer\" (34112)\nAdresse: Friedrich-Ebert-Str.27\, 02730 Ebersbach-Neugersdorf\n
LOCATION:FSZ Oberland \"Albert Schweitzer\" (34112): Friedrich-Ebert-Str.27\, 02730 Ebersbach-Neugersdorf
CATEGORIES:Saison 2025/26
END:VEVENT
BEGIN:VEVENT
DTSTAMP:20260424T063723Z
DTSTART;TZID=Europe/Berlin:20251115T105000
DTEND;TZID=Europe/Berlin:20251115T112000
SUMMARY:Regionsliga gFJ C TBSV Neugersdorf vs OSV Zittau (14616)
UID:6d855ac6-31c4-4ad3-a8ac-58560ae08faa
STATUS:CONFIRMED
LAST-MODIFIED:20251117T153940Z
DESCRIPTION:Regionsliga  gFJ Staffel C\nBegegnungs-Nr: 14616\nHeim: TBSV Neugersdorf\nGast: OSV Zittau\nHalle: SH Am Kottmar Eibau (34105)\nAdresse: Jahnstr. 20 a\, 02739 Eibau\n
LOCATION:SH Am Kottmar Eibau (34105): Jahnstr. 20 a\, 02739 Eibau
CATEGORIES:Saison 2025/26
END:VEVENT
BEGIN:VEVENT
DTSTAMP:20260424T063723Z
DTSTART;TZID=Europe/Berlin:20251101T111000
DTEND;TZID=Europe/Berlin:20251101T114000
SUMMARY:Regionsliga gFJ C TBSV Neugersdorf vs Görlitzer HC II (14611)
UID:60c88ae5-0750-4f0e-8b64-355ebab65f04
STATUS:CONFIRMED
LAST-MODIFIED:20251102T152714Z
DESCRIPTION:Regionsliga  gFJ Staffel C\nBegegnungs-Nr: 14611\nHeim: TBSV Neugersdorf\nGast: Görlitzer HC II\nHalle: SH BSZ \"Christoph Lüders\" (34304)\nAdresse: Sattigstraße 10\, 02826 Görlitz\n
LOCATION:SH BSZ \"Christoph Lüders\" (34304): Sattigstraße 10\, 02826 Görlitz
CATEGORIES:Saison 2025/26
END:VEVENT
BEGIN:VEVENT
DTSTAMP:20260424T063723Z
DTSTART;TZID=Europe/Berlin:20251101T094000
DTEND;TZID=Europe/Berlin:20251101T101000
SUMMARY:Regionsliga gFJ C TBSV Neugersdorf vs Görlitzer HC (14609)
UID:54a0a49f-a8b6-487f-9f85-c0971f7f076d
STATUS:CONFIRMED
LAST-MODIFIED:20251102T152523Z
DESCRIPTION:Regionsliga  gFJ Staffel C\nBegegnungs-Nr: 14609\nHeim: TBSV Neugersdorf\nGast: Görlitzer HC\nHalle: SH BSZ \"Christoph Lüders\" (34304)\nAdresse: Sattigstraße 10\, 02826 Görlitz\n
LOCATION:SH BSZ \"Christoph Lüders\" (34304): Sattigstraße 10\, 02826 Görlitz
CATEGORIES:Saison 2025/26
END:VEVENT
BEGIN:VEVENT
DTSTAMP:20260424T063723Z
DTSTART;TZID=Europe/Berlin:20260418T113000
DTEND;TZID=Europe/Berlin:20260418T120000
SUMMARY:Regionsliga gFJ C Görlitzer HC vs TBSV Neugersdorf (14662)
UID:153d4fa8-caea-42c0-9c8a-2a47272119b1
STATUS:CONFIRMED
LAST-MODIFIED:20260407T162053Z
DESCRIPTION:Regionsliga  gFJ Staffel C\nBegegnungs-Nr: 14662\nHeim: Görlitzer HC\nGast: TBSV Neugersdorf\nHalle: Sporthalle \"Pließnitztal\" Bernstadt (34108)\nAdresse: Am Pließnitztal 3\, 02748 Bernstadt a.d. Eigen OT Kunnersdorf\n
LOCATION:Sporthalle \"Pließnitztal\" Bernstadt (34108): Am Pließnitztal 3\, 02748 Bernstadt a.d. Eigen OT Kunnersdorf
CATEGORIES:Saison 2025/26
END:VEVENT
BEGIN:VEVENT
DTSTAMP:20260424T063723Z
DTSTART;TZID=Europe/Berlin:20260418T104000
DTEND;TZID=Europe/Berlin:20260418T111000
SUMMARY:Regionsliga gFJ C Görlitzer HC II vs TBSV Neugersdorf (14661)
UID:621b4458-f54d-4bf5-8494-27e8d5ab2474
STATUS:CONFIRMED
LAST-MODIFIED:20260407T161946Z
DESCRIPTION:Regionsliga  gFJ Staffel C\nBegegnungs-Nr: 14661\nHeim: Görlitzer HC II\nGast: TBSV Neugersdorf\nHalle: Sporthalle \"Pließnitztal\" Bernstadt (34108)\nAdresse: Am Pließnitztal 3\, 02748 Bernstadt a.d. Eigen OT Kunnersdorf\n
LOCATION:Sporthalle \"Pließnitztal\" Bernstadt (34108): Am Pließnitztal 3\, 02748 Bernstadt a.d. Eigen OT Kunnersdorf
CATEGORIES:Saison 2025/26
END:VEVENT
BEGIN:VEVENT
DTSTAMP:20260424T063723Z
DTSTART;TZID=Europe/Berlin:20260308T143000
DTEND;TZID=Europe/Berlin:20260308T150000
SUMMARY:Regionsliga gFJ C HV Eibau vs TBSV Neugersdorf (14645)
UID:d71169de-3abc-4a80-84f6-fb439ea1dd8f
STATUS:CONFIRMED
LAST-MODIFIED:20260310T143642Z
DESCRIPTION:Regionsliga  gFJ Staffel C\nBegegnungs-Nr: 14645\nHeim: HV Eibau\nGast: TBSV Neugersdorf\nHalle: Sporthalle \"Pließnitztal\" Bernstadt (34108)\nAdresse: Am Pließnitztal 3\, 02748 Bernstadt a.d. Eigen OT Kunnersdorf\n
LOCATION:Sporthalle \"Pließnitztal\" Bernstadt (34108): Am Pließnitztal 3\, 02748 Bernstadt a.d. Eigen OT Kunnersdorf
CATEGORIES:Saison 2025/26
END:VEVENT
BEGIN:VEVENT
DTSTAMP:20260424T063723Z
DTSTART;TZID=Europe/Berlin:20260118T112000
DTEND;TZID=Europe/Berlin:20260118T115000
SUMMARY:Regionsliga gFJ C OHC Bernstadt vs TBSV Neugersdorf (14642)
UID:2e87a4f1-ebb3-47e9-a1d5-9582ce9c77e2
STATUS:CONFIRMED
LAST-MODIFIED:20260128T100657Z
DESCRIPTION:Regionsliga  gFJ Staffel C\nBegegnungs-Nr: 14642\nHeim: OHC Bernstadt\nGast: TBSV Neugersdorf\nHalle: FSZ Oberland \"Albert Schweitzer\" (34112)\nAdresse: Friedrich-Ebert-Str.27\, 02730 Ebersbach-Neugersdorf\n
LOCATION:FSZ Oberland \"Albert Schweitzer\" (34112): Friedrich-Ebert-Str.27\, 02730 Ebersbach-Neugersdorf
CATEGORIES:Saison 2025/26
END:VEVENT
BEGIN:VEVENT
DTSTAMP:20260424T063723Z
DTSTART;TZID=Europe/Berlin:20251214T101500
DTEND;TZID=Europe/Berlin:20251214T104500
SUMMARY:Regionsliga gFJ C Koweg Görlitz vs TBSV Neugersdorf (14633)
UID:b0278bb3-1f22-449a-ba42-8c0fa26ab65f
STATUS:CONFIRMED
LAST-MODIFIED:20251221T100943Z
DESCRIPTION:Regionsliga  gFJ Staffel C\nBegegnungs-Nr: 14633\nHeim: Koweg Görlitz\nGast: TBSV Neugersdorf\nHalle: SH Zittau (34107)\nAdresse: Lisa - Tetzner - Str.\, 02763 Zittau\n
LOCATION:SH Zittau (34107): Lisa - Tetzner - Str.\, 02763 Zittau
CATEGORIES:Saison 2025/26
END:VEVENT
BEGIN:VEVENT
DTSTAMP:20260424T063723Z
DTSTART;TZID=Europe/Berlin:20251130T100000
DTEND;TZID=Europe/Berlin:20251130T103000
SUMMARY:Regionsliga gFJ C OSV Zittau vs TBSV Neugersdorf (14625)
UID:7607fb54-b1ce-4c5b-bba7-e6438607841d
STATUS:CONFIRMED
LAST-MODIFIED:20251221T100245Z
DESCRIPTION:Regionsliga  gFJ Staffel C\nBegegnungs-Nr: 14625\nHeim: OSV Zittau\nGast: TBSV Neugersdorf\nHalle: FSZ Oberland \"Albert Schweitzer\" (34112)\nAdresse: Friedrich-Ebert-Str.27\, 02730 Ebersbach-Neugersdorf\n
LOCATION:FSZ Oberland \"Albert Schweitzer\" (34112): Friedrich-Ebert-Str.27\, 02730 Ebersbach-Neugersdorf
CATEGORIES:Saison 2025/26
END:VEVENT
BEGIN:VEVENT
DTSTAMP:20260424T063723Z
DTSTART;TZID=Europe/Berlin:20251115T100000
DTEND;TZID=Europe/Berlin:20251115T103000
SUMMARY:Regionsliga gFJ C HV Eibau vs TBSV Neugersdorf (14615)
UID:da5bd9b1-3f9a-48db-85f0-1562981ef0d9
STATUS:CONFIRMED
LAST-MODIFIED:20251117T153610Z
DESCRIPTION:Regionsliga  gFJ Staffel C\nBegegnungs-Nr: 14615\nHeim: HV Eibau\nGast: TBSV Neugersdorf\nHalle: SH Am Kottmar Eibau (34105)\nAdresse: Jahnstr. 20 a\, 02739 Eibau\n
LOCATION:SH Am Kottmar Eibau (34105): Jahnstr. 20 a\, 02739 Eibau
CATEGORIES:Saison 2025/26
END:VEVENT
BEGIN:VEVENT
DTSTAMP:20260424T063723Z
DTSTART;TZID=Europe/Berlin:20250928T134000
DTEND;TZID=Europe/Berlin:20250928T141000
SUMMARY:Regionsliga gFJ C OHC Bernstadt vs TBSV Neugersdorf (14603)
UID:cf5603fb-452e-4946-9f4c-9a37d6a448ed
STATUS:CONFIRMED
LAST-MODIFIED:20251002T141236Z
DESCRIPTION:Regionsliga  gFJ Staffel C\nBegegnungs-Nr: 14603\nHeim: OHC Bernstadt\nGast: TBSV Neugersdorf\nHalle: Sporthalle \"Pließnitztal\" Bernstadt (34108)\nAdresse: Am Pließnitztal 3\, 02748 Bernstadt a.d. Eigen OT Kunnersdorf\n
LOCATION:Sporthalle \"Pließnitztal\" Bernstadt (34108): Am Pließnitztal 3\, 02748 Bernstadt a.d. Eigen OT Kunnersdorf
CATEGORIES:Saison 2025/26
END:VEVENT
END:VCALENDAR
