BEGIN:VCALENDAR
PRODID:-//nuDatenautomaten//framework iCal4j //DE
VERSION:2.0
CALSCALE:GREGORIAN
BEGIN:VTIMEZONE
TZID:Europe/Berlin
LAST-MODIFIED:20260306T231828Z
TZURL:https://www.tzurl.org/zoneinfo/Europe/Berlin
X-LIC-LOCATION:Europe/Berlin
X-PROLEPTIC-TZNAME:LMT
BEGIN:STANDARD
TZNAME:CET
TZOFFSETFROM:+005328
TZOFFSETTO:+0100
DTSTART:18930401T000000
END:STANDARD
BEGIN:DAYLIGHT
TZNAME:CEST
TZOFFSETFROM:+0100
TZOFFSETTO:+0200
DTSTART:19160430T230000
RDATE:19400401T020000
RDATE:19430329T020000
RDATE:19460414T020000
RDATE:19470406T030000
RDATE:19480418T020000
RDATE:19490410T020000
RDATE:19800406T020000
END:DAYLIGHT
BEGIN:STANDARD
TZNAME:CET
TZOFFSETFROM:+0200
TZOFFSETTO:+0100
DTSTART:19161001T010000
RDATE:19421102T030000
RDATE:19431004T030000
RDATE:19441002T030000
RDATE:19451118T030000
RDATE:19461007T030000
END:STANDARD
BEGIN:DAYLIGHT
TZNAME:CEST
TZOFFSETFROM:+0100
TZOFFSETTO:+0200
DTSTART:19170416T020000
RRULE:FREQ=YEARLY;UNTIL=19180415T010000Z;BYMONTH=4;BYDAY=3MO
END:DAYLIGHT
BEGIN:STANDARD
TZNAME:CET
TZOFFSETFROM:+0200
TZOFFSETTO:+0100
DTSTART:19170917T030000
RRULE:FREQ=YEARLY;UNTIL=19180916T010000Z;BYMONTH=9;BYDAY=3MO
END:STANDARD
BEGIN:DAYLIGHT
TZNAME:CEST
TZOFFSETFROM:+0100
TZOFFSETTO:+0200
DTSTART:19440403T020000
RRULE:FREQ=YEARLY;UNTIL=19450402T010000Z;BYMONTH=4;BYDAY=1MO
END:DAYLIGHT
BEGIN:DAYLIGHT
TZNAME:CEMT
TZOFFSETFROM:+0200
TZOFFSETTO:+0300
DTSTART:19450524T020000
RDATE:19470511T030000
END:DAYLIGHT
BEGIN:DAYLIGHT
TZNAME:CEST
TZOFFSETFROM:+0300
TZOFFSETTO:+0200
DTSTART:19450924T030000
RDATE:19470629T030000
END:DAYLIGHT
BEGIN:STANDARD
TZNAME:CET
TZOFFSETFROM:+0100
TZOFFSETTO:+0100
DTSTART:19460101T000000
RDATE:19800101T000000
END:STANDARD
BEGIN:STANDARD
TZNAME:CET
TZOFFSETFROM:+0200
TZOFFSETTO:+0100
DTSTART:19471005T030000
RRULE:FREQ=YEARLY;UNTIL=19491002T010000Z;BYMONTH=10;BYDAY=1SU
END:STANDARD
BEGIN:STANDARD
TZNAME:CET
TZOFFSETFROM:+0200
TZOFFSETTO:+0100
DTSTART:19800928T030000
RRULE:FREQ=YEARLY;UNTIL=19950924T010000Z;BYMONTH=9;BYDAY=-1SU
END:STANDARD
BEGIN:DAYLIGHT
TZNAME:CEST
TZOFFSETFROM:+0100
TZOFFSETTO:+0200
DTSTART:19810329T020000
RRULE:FREQ=YEARLY;BYMONTH=3;BYDAY=-1SU
END:DAYLIGHT
BEGIN:STANDARD
TZNAME:CET
TZOFFSETFROM:+0200
TZOFFSETTO:+0100
DTSTART:19961027T030000
RRULE:FREQ=YEARLY;BYMONTH=10;BYDAY=-1SU
END:STANDARD
END:VTIMEZONE
BEGIN:VEVENT
DTSTAMP:20260421T103323Z
DTSTART;TZID=Europe/Berlin:20251123T121500
DTEND;TZID=Europe/Berlin:20251123T131500
SUMMARY:ROL gJD Ost Grün-Weiß Niederwiesa vs Rotation Weißenborn (502023)
UID:0de222c6-dcb2-46bb-ab99-6d43ceb11fa1
STATUS:CONFIRMED
LAST-MODIFIED:20251130T165747Z
DESCRIPTION:Regionsoberliga gem. D-Jugend\nBegegnungs-Nr: 502023\nHeim: Grün-Weiß Niederwiesa\nGast: Rotation Weißenborn\nHalle: SH S.-v.-Pufendorf-Gymnasium Flöha (32404)\nAdresse: Turnerstr. 16\, 09557 Flöha\n
LOCATION:SH S.-v.-Pufendorf-Gymnasium Flöha (32404): Turnerstr. 16\, 09557 Flöha
CATEGORIES:Saison 2025/26
END:VEVENT
BEGIN:VEVENT
DTSTAMP:20260421T103323Z
DTSTART;TZID=Europe/Berlin:20251207T160000
DTEND;TZID=Europe/Berlin:20251207T170000
SUMMARY:ROL gJD Ost Grün-Weiß Niederwiesa vs VfB Blau-Gelb 21 Flöha (502029)
UID:98a83fc1-25e1-433f-bac8-d0683a021921
STATUS:CONFIRMED
LAST-MODIFIED:20251222T100453Z
DESCRIPTION:Regionsoberliga gem. D-Jugend\nBegegnungs-Nr: 502029\nHeim: Grün-Weiß Niederwiesa\nGast: VfB Blau-Gelb 21 Flöha\nHalle: Sporthalle Niederwiesa (32419)\nAdresse: Mühlenstr. 21\, 09577 Niederwiesa\n
LOCATION:Sporthalle Niederwiesa (32419): Mühlenstr. 21\, 09577 Niederwiesa
CATEGORIES:Saison 2025/26
END:VEVENT
BEGIN:VEVENT
DTSTAMP:20260421T103323Z
DTSTART;TZID=Europe/Berlin:20251101T143000
DTEND;TZID=Europe/Berlin:20251101T153000
SUMMARY:ROL gJD Ost Grün-Weiß Niederwiesa vs Roßweiner SV (502021)
UID:dc41e92c-5aba-4d19-a41e-0c2550a9dfeb
STATUS:CONFIRMED
LAST-MODIFIED:20251103T055235Z
DESCRIPTION:Regionsoberliga gem. D-Jugend\nBegegnungs-Nr: 502021\nHeim: Grün-Weiß Niederwiesa\nGast: Roßweiner SV\nHalle: Sporthalle Niederwiesa (32419)\nAdresse: Mühlenstr. 21\, 09577 Niederwiesa\n
LOCATION:Sporthalle Niederwiesa (32419): Mühlenstr. 21\, 09577 Niederwiesa
CATEGORIES:Saison 2025/26
END:VEVENT
BEGIN:VEVENT
DTSTAMP:20260421T103323Z
DTSTART;TZID=Europe/Berlin:20250927T123000
DTEND;TZID=Europe/Berlin:20250927T133000
SUMMARY:ROL gJD Ost Grün-Weiß Niederwiesa vs HV Oederan (502014)
UID:61712aba-0d05-447d-baad-471fa7d71fc4
STATUS:CONFIRMED
LAST-MODIFIED:20250929T042253Z
DESCRIPTION:Regionsoberliga gem. D-Jugend\nBegegnungs-Nr: 502014\nHeim: Grün-Weiß Niederwiesa\nGast: HV Oederan\nHalle: Sporthalle Niederwiesa (32419)\nAdresse: Mühlenstr. 21\, 09577 Niederwiesa\n
LOCATION:Sporthalle Niederwiesa (32419): Mühlenstr. 21\, 09577 Niederwiesa
CATEGORIES:Saison 2025/26
END:VEVENT
BEGIN:VEVENT
DTSTAMP:20260421T103323Z
DTSTART;TZID=Europe/Berlin:20250921T121500
DTEND;TZID=Europe/Berlin:20250921T131500
SUMMARY:ROL gJD Ost Grün-Weiß Niederwiesa vs Fortschritt Mittweida (502011)
UID:b9edad71-c0a3-4f94-aa2b-1dfddb146862
STATUS:CONFIRMED
LAST-MODIFIED:20250924T043052Z
DESCRIPTION:Regionsoberliga gem. D-Jugend\nBegegnungs-Nr: 502011\nHeim: Grün-Weiß Niederwiesa\nGast: Fortschritt Mittweida\nHalle: SH S.-v.-Pufendorf-Gymnasium Flöha (32404)\nAdresse: Turnerstr. 16\, 09557 Flöha\n
LOCATION:SH S.-v.-Pufendorf-Gymnasium Flöha (32404): Turnerstr. 16\, 09557 Flöha
CATEGORIES:Saison 2025/26
END:VEVENT
BEGIN:VEVENT
DTSTAMP:20260421T103323Z
DTSTART;TZID=Europe/Berlin:20250907T121500
DTEND;TZID=Europe/Berlin:20250907T131500
SUMMARY:ROL gJD Ost Grün-Weiß Niederwiesa vs SG HSC Chemnitz (502004)
UID:e5db7686-78ba-4ef9-8011-359432a2b25d
STATUS:CONFIRMED
LAST-MODIFIED:20250910T045549Z
DESCRIPTION:Regionsoberliga gem. D-Jugend\nBegegnungs-Nr: 502004\nHeim: Grün-Weiß Niederwiesa\nGast: SG HSC Chemnitz\nHalle: SH S.-v.-Pufendorf-Gymnasium Flöha (32404)\nAdresse: Turnerstr. 16\, 09557 Flöha\n
LOCATION:SH S.-v.-Pufendorf-Gymnasium Flöha (32404): Turnerstr. 16\, 09557 Flöha
CATEGORIES:Saison 2025/26
END:VEVENT
BEGIN:VEVENT
DTSTAMP:20260421T103323Z
DTSTART;TZID=Europe/Berlin:20250927T123000
DTEND;TZID=Europe/Berlin:20250927T133000
SUMMARY:ROL gJD Platzierungsr. 7-12 Grün-Weiß Niederwiesa vs HV Oederan (502014)
UID:2e24a77a-d269-4202-9a3a-12c87046701f
STATUS:CONFIRMED
LAST-MODIFIED:20250929T042253Z
DESCRIPTION:Regionsoberliga gem. D-Jugend\nBegegnungs-Nr: 502014\nHeim: Grün-Weiß Niederwiesa\nGast: HV Oederan\n
LOCATION:
CATEGORIES:Saison 2025/26
END:VEVENT
BEGIN:VEVENT
DTSTAMP:20260421T103323Z
DTSTART;TZID=Europe/Berlin:20251101T143000
DTEND;TZID=Europe/Berlin:20251101T153000
SUMMARY:ROL gJD Platzierungsr. 7-12 Grün-Weiß Niederwiesa vs Roßweiner SV (502021)
UID:ca2e43c4-949c-4c10-a814-2cec64d9afdc
STATUS:CONFIRMED
LAST-MODIFIED:20251103T055235Z
DESCRIPTION:Regionsoberliga gem. D-Jugend\nBegegnungs-Nr: 502021\nHeim: Grün-Weiß Niederwiesa\nGast: Roßweiner SV\n
LOCATION:
CATEGORIES:Saison 2025/26
END:VEVENT
BEGIN:VEVENT
DTSTAMP:20260421T103323Z
DTSTART;TZID=Europe/Berlin:20260308T160000
DTEND;TZID=Europe/Berlin:20260308T170000
SUMMARY:ROL gJD Platzierungsr. 7-12 Grün-Weiß Niederwiesa vs TSV Burkhardtsdorf  (504004)
UID:cb7ff99d-b402-40e6-b916-c8bc3e857d22
STATUS:CONFIRMED
LAST-MODIFIED:20260309T103435Z
DESCRIPTION:Regionsoberliga gem. D-Jugend\nBegegnungs-Nr: 504004\nHeim: Grün-Weiß Niederwiesa\nGast: TSV Burkhardtsdorf \nHalle: SH S.-v.-Pufendorf-Gymnasium Flöha (32404)\nAdresse: Turnerstr. 16\, 09557 Flöha\n
LOCATION:SH S.-v.-Pufendorf-Gymnasium Flöha (32404): Turnerstr. 16\, 09557 Flöha
CATEGORIES:Saison 2025/26
END:VEVENT
BEGIN:VEVENT
DTSTAMP:20260421T103323Z
DTSTART;TZID=Europe/Berlin:20260329T160000
DTEND;TZID=Europe/Berlin:20260329T170000
SUMMARY:ROL gJD Platzierungsr. 7-12 Grün-Weiß Niederwiesa vs HV Grüna (504010)
UID:8b12aee7-5c7f-45e9-98c1-b0aece423026
STATUS:CONFIRMED
LAST-MODIFIED:20260330T061713Z
DESCRIPTION:Regionsoberliga gem. D-Jugend\nBegegnungs-Nr: 504010\nHeim: Grün-Weiß Niederwiesa\nGast: HV Grüna\nHalle: SH S.-v.-Pufendorf-Gymnasium Flöha (32404)\nAdresse: Turnerstr. 16\, 09557 Flöha\n
LOCATION:SH S.-v.-Pufendorf-Gymnasium Flöha (32404): Turnerstr. 16\, 09557 Flöha
CATEGORIES:Saison 2025/26
END:VEVENT
BEGIN:VEVENT
DTSTAMP:20260421T103323Z
DTSTART;TZID=Europe/Berlin:20260426T160000
DTEND;TZID=Europe/Berlin:20260426T170000
SUMMARY:ROL gJD Platzierungsr. 7-12 Grün-Weiß Niederwiesa vs HSG Sachsenring (504016)
UID:60fea287-e561-4c60-b3f9-2dfb8f421751
STATUS:CONFIRMED
DESCRIPTION:Regionsoberliga gem. D-Jugend\nBegegnungs-Nr: 504016\nHeim: Grün-Weiß Niederwiesa\nGast: HSG Sachsenring\nHalle: SH S.-v.-Pufendorf-Gymnasium Flöha (32404)\nAdresse: Turnerstr. 16\, 09557 Flöha\n
LOCATION:SH S.-v.-Pufendorf-Gymnasium Flöha (32404): Turnerstr. 16\, 09557 Flöha
CATEGORIES:Saison 2025/26
END:VEVENT
BEGIN:VEVENT
DTSTAMP:20260421T103323Z
DTSTART;TZID=Europe/Berlin:20251109T110000
DTEND;TZID=Europe/Berlin:20251109T120000
SUMMARY:ROL gJD Ost SG HSC Chemnitz vs Grün-Weiß Niederwiesa (502025)
UID:477aa949-dec4-4280-b604-041769099285
STATUS:CONFIRMED
LAST-MODIFIED:20251130T165214Z
DESCRIPTION:Regionsoberliga gem. D-Jugend\nBegegnungs-Nr: 502025\nHeim: SG HSC Chemnitz\nGast: Grün-Weiß Niederwiesa\nHalle: SH Chemnitzer PSV (32108)\nAdresse: Forststraße 9\, 09130 Chemnitz\n
LOCATION:SH Chemnitzer PSV (32108): Forststraße 9\, 09130 Chemnitz
CATEGORIES:Saison 2025/26
END:VEVENT
BEGIN:VEVENT
DTSTAMP:20260421T103323Z
DTSTART;TZID=Europe/Berlin:20260124T110000
DTEND;TZID=Europe/Berlin:20260124T120000
SUMMARY:ROL gJD Ost HV Oederan vs Grün-Weiß Niederwiesa (502035)
UID:66c4a405-03b3-4945-9cc8-b753e14db6b8
STATUS:CONFIRMED
LAST-MODIFIED:20260126T084115Z
DESCRIPTION:Regionsoberliga gem. D-Jugend\nBegegnungs-Nr: 502035\nHeim: HV Oederan\nGast: Grün-Weiß Niederwiesa\nHalle: SH Oederan - neu (32417)\nAdresse: Frankenberger Str. 16a\, 09569 Oederan\n
LOCATION:SH Oederan - neu (32417): Frankenberger Str. 16a\, 09569 Oederan
CATEGORIES:Saison 2025/26
END:VEVENT
BEGIN:VEVENT
DTSTAMP:20260421T103323Z
DTSTART;TZID=Europe/Berlin:20251129T150000
DTEND;TZID=Europe/Berlin:20251129T160000
SUMMARY:ROL gJD Ost Fortschritt Mittweida vs Grün-Weiß Niederwiesa (502032)
UID:d003c074-8b59-4f41-ba5c-4492c30fc781
STATUS:CONFIRMED
LAST-MODIFIED:20251205T055827Z
DESCRIPTION:Regionsoberliga gem. D-Jugend\nBegegnungs-Nr: 502032\nHeim: Fortschritt Mittweida\nGast: Grün-Weiß Niederwiesa\nHalle: SH \"Am Schwanenteich\" Mittweida (32207)\nAdresse: Leipziger Straße 15\, 09648 Mittweida\n
LOCATION:SH \"Am Schwanenteich\" Mittweida (32207): Leipziger Straße 15\, 09648 Mittweida
CATEGORIES:Saison 2025/26
END:VEVENT
BEGIN:VEVENT
DTSTAMP:20260421T103323Z
DTSTART;TZID=Europe/Berlin:20260207T100000
DTEND;TZID=Europe/Berlin:20260207T110000
SUMMARY:ROL gJD Ost Roßweiner SV vs Grün-Weiß Niederwiesa (502042)
UID:a16c3beb-732e-43e4-a3f8-7a32562779a7
STATUS:CONFIRMED
LAST-MODIFIED:20260207T182943Z
DESCRIPTION:Regionsoberliga gem. D-Jugend\nBegegnungs-Nr: 502042\nHeim: Roßweiner SV\nGast: Grün-Weiß Niederwiesa\nHalle: Stadt-SH Roßwein (31203)\nAdresse: Grafestraße 1\, 04741 Roßwein\n
LOCATION:Stadt-SH Roßwein (31203): Grafestraße 1\, 04741 Roßwein
CATEGORIES:Saison 2025/26
END:VEVENT
BEGIN:VEVENT
DTSTAMP:20260421T103323Z
DTSTART;TZID=Europe/Berlin:20250831T103000
DTEND;TZID=Europe/Berlin:20250831T113000
SUMMARY:ROL gJD Ost Rotation Weißenborn vs Grün-Weiß Niederwiesa (502001)
UID:e8be99c4-72fe-4e0b-ba9a-f8d55b47be6c
STATUS:CONFIRMED
LAST-MODIFIED:20250902T052914Z
DESCRIPTION:Regionsoberliga gem. D-Jugend\nBegegnungs-Nr: 502001\nHeim: Rotation Weißenborn\nGast: Grün-Weiß Niederwiesa\nHalle: SH Schoeller Weißenborn (32415)\nAdresse: Lichtenberger Straße 8\, 09600 Weißenborn\n
LOCATION:SH Schoeller Weißenborn (32415): Lichtenberger Straße 8\, 09600 Weißenborn
CATEGORIES:Saison 2025/26
END:VEVENT
BEGIN:VEVENT
DTSTAMP:20260421T103323Z
DTSTART;TZID=Europe/Berlin:20250913T140000
DTEND;TZID=Europe/Berlin:20250913T150000
SUMMARY:ROL gJD Ost VfB Blau-Gelb 21 Flöha vs Grün-Weiß Niederwiesa (502007)
UID:ba7c008f-2997-42e2-80c9-686021b7aa83
STATUS:CONFIRMED
LAST-MODIFIED:20250915T083339Z
DESCRIPTION:Regionsoberliga gem. D-Jugend\nBegegnungs-Nr: 502007\nHeim: VfB Blau-Gelb 21 Flöha\nGast: Grün-Weiß Niederwiesa\nHalle: SH S.-v.-Pufendorf-Gymnasium Flöha (32404)\nAdresse: Turnerstr. 16\, 09557 Flöha\n
LOCATION:SH S.-v.-Pufendorf-Gymnasium Flöha (32404): Turnerstr. 16\, 09557 Flöha
CATEGORIES:Saison 2025/26
END:VEVENT
BEGIN:VEVENT
DTSTAMP:20260421T103323Z
DTSTART;TZID=Europe/Berlin:20260207T100000
DTEND;TZID=Europe/Berlin:20260207T110000
SUMMARY:ROL gJD Platzierungsr. 7-12 Roßweiner SV vs Grün-Weiß Niederwiesa (502042)
UID:0b119215-000c-4bc8-a7d0-41e83a303bd3
STATUS:CONFIRMED
LAST-MODIFIED:20260207T182943Z
DESCRIPTION:Regionsoberliga gem. D-Jugend\nBegegnungs-Nr: 502042\nHeim: Roßweiner SV\nGast: Grün-Weiß Niederwiesa\n
LOCATION:
CATEGORIES:Saison 2025/26
END:VEVENT
BEGIN:VEVENT
DTSTAMP:20260421T103323Z
DTSTART;TZID=Europe/Berlin:20260124T110000
DTEND;TZID=Europe/Berlin:20260124T120000
SUMMARY:ROL gJD Platzierungsr. 7-12 HV Oederan vs Grün-Weiß Niederwiesa (502035)
UID:72d321fe-57c2-4683-8ce5-3395fae51974
STATUS:CONFIRMED
LAST-MODIFIED:20260126T084115Z
DESCRIPTION:Regionsoberliga gem. D-Jugend\nBegegnungs-Nr: 502035\nHeim: HV Oederan\nGast: Grün-Weiß Niederwiesa\n
LOCATION:
CATEGORIES:Saison 2025/26
END:VEVENT
BEGIN:VEVENT
DTSTAMP:20260421T103323Z
DTSTART;TZID=Europe/Berlin:20260228T100000
DTEND;TZID=Europe/Berlin:20260228T110000
SUMMARY:ROL gJD Platzierungsr. 7-12 HV Grüna vs Grün-Weiß Niederwiesa (504002)
UID:6ff9d989-0adb-4a15-b11f-314a7def8041
STATUS:CONFIRMED
LAST-MODIFIED:20260302T101359Z
DESCRIPTION:Regionsoberliga gem. D-Jugend\nBegegnungs-Nr: 504002\nHeim: HV Grüna\nGast: Grün-Weiß Niederwiesa\nHalle: SH Dr.-Wilhelm-André-Gymnasium Chemnitz (32114)\nAdresse: Henriettenstraße 35\, 09112 Chemnitz\n
LOCATION:SH Dr.-Wilhelm-André-Gymnasium Chemnitz (32114): Henriettenstraße 35\, 09112 Chemnitz
CATEGORIES:Saison 2025/26
END:VEVENT
BEGIN:VEVENT
DTSTAMP:20260421T103323Z
DTSTART;TZID=Europe/Berlin:20260322T110000
DTEND;TZID=Europe/Berlin:20260322T120000
SUMMARY:ROL gJD Platzierungsr. 7-12 HSG Sachsenring vs Grün-Weiß Niederwiesa (504007)
UID:f4f944ae-4503-4c61-a55c-e3b5d64840a0
STATUS:CONFIRMED
LAST-MODIFIED:20260330T061230Z
DESCRIPTION:Regionsoberliga gem. D-Jugend\nBegegnungs-Nr: 504007\nHeim: HSG Sachsenring\nGast: Grün-Weiß Niederwiesa\nHalle: SH Lichtenstein (32223)\nAdresse: Innere Zwickauer Straße 5\, 09350 Lichtenstein\n
LOCATION:SH Lichtenstein (32223): Innere Zwickauer Straße 5\, 09350 Lichtenstein
CATEGORIES:Saison 2025/26
END:VEVENT
BEGIN:VEVENT
DTSTAMP:20260421T103323Z
DTSTART;TZID=Europe/Berlin:20260419T140000
DTEND;TZID=Europe/Berlin:20260419T150000
SUMMARY:ROL gJD Platzierungsr. 7-12 TSV Burkhardtsdorf  vs Grün-Weiß Niederwiesa (504015)
UID:c603fd52-1dd2-4bfc-9dd8-831a34f2289b
STATUS:CONFIRMED
LAST-MODIFIED:20260420T050430Z
DESCRIPTION:Regionsoberliga gem. D-Jugend\nBegegnungs-Nr: 504015\nHeim: TSV Burkhardtsdorf \nGast: Grün-Weiß Niederwiesa\nHalle: SH Burkhardtsdorf (32313)\nAdresse: Topfmarkt 15\, 09235 Burkhardtsdorf\n
LOCATION:SH Burkhardtsdorf (32313): Topfmarkt 15\, 09235 Burkhardtsdorf
CATEGORIES:Saison 2025/26
END:VEVENT
END:VCALENDAR
