BEGIN:VCALENDAR
PRODID:-//nuDatenautomaten//framework iCal4j //DE
VERSION:2.0
CALSCALE:GREGORIAN
BEGIN:VTIMEZONE
TZID:Europe/Berlin
LAST-MODIFIED:20260306T231828Z
TZURL:https://www.tzurl.org/zoneinfo/Europe/Berlin
X-LIC-LOCATION:Europe/Berlin
X-PROLEPTIC-TZNAME:LMT
BEGIN:STANDARD
TZNAME:CET
TZOFFSETFROM:+005328
TZOFFSETTO:+0100
DTSTART:18930401T000000
END:STANDARD
BEGIN:DAYLIGHT
TZNAME:CEST
TZOFFSETFROM:+0100
TZOFFSETTO:+0200
DTSTART:19160430T230000
RDATE:19400401T020000
RDATE:19430329T020000
RDATE:19460414T020000
RDATE:19470406T030000
RDATE:19480418T020000
RDATE:19490410T020000
RDATE:19800406T020000
END:DAYLIGHT
BEGIN:STANDARD
TZNAME:CET
TZOFFSETFROM:+0200
TZOFFSETTO:+0100
DTSTART:19161001T010000
RDATE:19421102T030000
RDATE:19431004T030000
RDATE:19441002T030000
RDATE:19451118T030000
RDATE:19461007T030000
END:STANDARD
BEGIN:DAYLIGHT
TZNAME:CEST
TZOFFSETFROM:+0100
TZOFFSETTO:+0200
DTSTART:19170416T020000
RRULE:FREQ=YEARLY;UNTIL=19180415T010000Z;BYMONTH=4;BYDAY=3MO
END:DAYLIGHT
BEGIN:STANDARD
TZNAME:CET
TZOFFSETFROM:+0200
TZOFFSETTO:+0100
DTSTART:19170917T030000
RRULE:FREQ=YEARLY;UNTIL=19180916T010000Z;BYMONTH=9;BYDAY=3MO
END:STANDARD
BEGIN:DAYLIGHT
TZNAME:CEST
TZOFFSETFROM:+0100
TZOFFSETTO:+0200
DTSTART:19440403T020000
RRULE:FREQ=YEARLY;UNTIL=19450402T010000Z;BYMONTH=4;BYDAY=1MO
END:DAYLIGHT
BEGIN:DAYLIGHT
TZNAME:CEMT
TZOFFSETFROM:+0200
TZOFFSETTO:+0300
DTSTART:19450524T020000
RDATE:19470511T030000
END:DAYLIGHT
BEGIN:DAYLIGHT
TZNAME:CEST
TZOFFSETFROM:+0300
TZOFFSETTO:+0200
DTSTART:19450924T030000
RDATE:19470629T030000
END:DAYLIGHT
BEGIN:STANDARD
TZNAME:CET
TZOFFSETFROM:+0100
TZOFFSETTO:+0100
DTSTART:19460101T000000
RDATE:19800101T000000
END:STANDARD
BEGIN:STANDARD
TZNAME:CET
TZOFFSETFROM:+0200
TZOFFSETTO:+0100
DTSTART:19471005T030000
RRULE:FREQ=YEARLY;UNTIL=19491002T010000Z;BYMONTH=10;BYDAY=1SU
END:STANDARD
BEGIN:STANDARD
TZNAME:CET
TZOFFSETFROM:+0200
TZOFFSETTO:+0100
DTSTART:19800928T030000
RRULE:FREQ=YEARLY;UNTIL=19950924T010000Z;BYMONTH=9;BYDAY=-1SU
END:STANDARD
BEGIN:DAYLIGHT
TZNAME:CEST
TZOFFSETFROM:+0100
TZOFFSETTO:+0200
DTSTART:19810329T020000
RRULE:FREQ=YEARLY;BYMONTH=3;BYDAY=-1SU
END:DAYLIGHT
BEGIN:STANDARD
TZNAME:CET
TZOFFSETFROM:+0200
TZOFFSETTO:+0100
DTSTART:19961027T030000
RRULE:FREQ=YEARLY;BYMONTH=10;BYDAY=-1SU
END:STANDARD
END:VTIMEZONE
BEGIN:VEVENT
DTSTAMP:20260424T080645Z
DTSTART;TZID=Europe/Berlin:20251130T121000
DTEND;TZID=Europe/Berlin:20251130T124000
SUMMARY:Regionsliga gFJ A SV Lok Königsbrück  vs HC Rödertal  (14020)
UID:a0351ece-d3f9-473a-8dcd-a50afbe15153
STATUS:CONFIRMED
DESCRIPTION:Regionsliga  gFJ Staffel A\nBegegnungs-Nr: 14020\nHeim: SV Lok Königsbrück \nGast: HC Rödertal \nHalle: Sportkomplex Pulsnitz (34208)\nAdresse: Hempelstr. 8\, 01896 Pulsnitz\n
LOCATION:Sportkomplex Pulsnitz (34208): Hempelstr. 8\, 01896 Pulsnitz
CATEGORIES:Saison 2025/26
END:VEVENT
BEGIN:VEVENT
DTSTAMP:20260424T080645Z
DTSTART;TZID=Europe/Berlin:20251108T103000
DTEND;TZID=Europe/Berlin:20251108T110000
SUMMARY:Regionsliga gFJ A SV Lok Königsbrück  vs HVH Kamenz (14010)
UID:7d6f1435-fe44-4564-a349-6bc4e6335f16
STATUS:CONFIRMED
LAST-MODIFIED:20260126T183020Z
DESCRIPTION:Regionsliga  gFJ Staffel A\nBegegnungs-Nr: 14010\nHeim: SV Lok Königsbrück \nGast: HVH Kamenz\nHalle: 2-Feld-Halle- OS Königsbrück (34513)\nAdresse: An der Schule 3\, 01936 Königsbrück\n
LOCATION:2-Feld-Halle- OS Königsbrück (34513): An der Schule 3\, 01936 Königsbrück
CATEGORIES:Saison 2025/26
END:VEVENT
BEGIN:VEVENT
DTSTAMP:20260424T080645Z
DTSTART;TZID=Europe/Berlin:20260412T105000
DTEND;TZID=Europe/Berlin:20260412T112000
SUMMARY:Regionsliga gFJ A SV Lok Königsbrück  vs LHV Hoyerswerda (14004)
UID:706beec5-ca6b-49fd-a5d4-f55c9f2da4cc
STATUS:CONFIRMED
LAST-MODIFIED:20260218T184050Z
DESCRIPTION:Regionsliga  gFJ Staffel A\nBegegnungs-Nr: 14004\nHeim: SV Lok Königsbrück \nGast: LHV Hoyerswerda\nHalle: Sporthalle \"Neue Oberschule\" (34519)\nAdresse: Claus-von-Stauffenberg-Straße 40a\, 02977 Hoyerswerda\n
LOCATION:Sporthalle \"Neue Oberschule\" (34519): Claus-von-Stauffenberg-Straße 40a\, 02977 Hoyerswerda
CATEGORIES:Saison 2025/26
END:VEVENT
BEGIN:VEVENT
DTSTAMP:20260424T080645Z
DTSTART;TZID=Europe/Berlin:20260314T141000
DTEND;TZID=Europe/Berlin:20260314T144000
SUMMARY:Regionsliga gFJ A SV Lok Königsbrück  vs Radeberger SV (14038)
UID:5d010337-1ef2-474b-ac98-f223b45337e2
STATUS:CONFIRMED
LAST-MODIFIED:20260310T131253Z
DESCRIPTION:Regionsliga  gFJ Staffel A\nBegegnungs-Nr: 14038\nHeim: SV Lok Königsbrück \nGast: Radeberger SV\nHalle: 3-Feld-Halle-BSZ Radeberg (34209)\nAdresse: Robert-Blum-Weg 5\, 01454 Radeberg\n
LOCATION:3-Feld-Halle-BSZ Radeberg (34209): Robert-Blum-Weg 5\, 01454 Radeberg
CATEGORIES:Saison 2025/26
END:VEVENT
BEGIN:VEVENT
DTSTAMP:20260424T080645Z
DTSTART;TZID=Europe/Berlin:20260201T112000
DTEND;TZID=Europe/Berlin:20260201T115000
SUMMARY:Regionsliga gFJ A SV Lok Königsbrück  vs Radeberger SV II (14033)
UID:a1047b07-692f-4504-be3c-561ad06d4adc
STATUS:CONFIRMED
DESCRIPTION:Regionsliga  gFJ Staffel A\nBegegnungs-Nr: 14033\nHeim: SV Lok Königsbrück \nGast: Radeberger SV II\nHalle: Sportkomplex Pulsnitz (34208)\nAdresse: Hempelstr. 8\, 01896 Pulsnitz\n
LOCATION:Sportkomplex Pulsnitz (34208): Hempelstr. 8\, 01896 Pulsnitz
CATEGORIES:Saison 2025/26
END:VEVENT
BEGIN:VEVENT
DTSTAMP:20260424T080645Z
DTSTART;TZID=Europe/Berlin:20260308T104000
DTEND;TZID=Europe/Berlin:20260308T111000
SUMMARY:Regionsliga gFJ A SV Lok Königsbrück  vs HSV 1923 Pulsnitz (14027)
UID:250210a6-4134-47f9-a44d-5a00ae282643
STATUS:CONFIRMED
LAST-MODIFIED:20260130T123716Z
DESCRIPTION:Regionsliga  gFJ Staffel A\nBegegnungs-Nr: 14027\nHeim: SV Lok Königsbrück \nGast: HSV 1923 Pulsnitz\nHalle: SH Albert-Schweitzer-Gymnasium Kamenz (34204)\nAdresse: Am Flugplatz\, 01917 Kamenz\, Parkplatz - Macherstraße 142\n
LOCATION:SH Albert-Schweitzer-Gymnasium Kamenz (34204): Am Flugplatz\, 01917 Kamenz\, Parkplatz - Macherstraße 142
CATEGORIES:Saison 2025/26
END:VEVENT
BEGIN:VEVENT
DTSTAMP:20260424T080645Z
DTSTART;TZID=Europe/Berlin:20260412T105000
DTEND;TZID=Europe/Berlin:20260412T112000
SUMMARY:Regionsliga gFJ A SV Lok Königsbrück  vs LHV Hoyerswerda (14004)
UID:3c5bc96e-0b20-4988-9ad4-02ab2a704461
STATUS:CONFIRMED
LAST-MODIFIED:20260310T133323Z
DESCRIPTION:Regionsliga  gFJ Staffel A\nBegegnungs-Nr: 14004\nHeim: SV Lok Königsbrück \nGast: LHV Hoyerswerda\nHalle: 3-Feld-Halle-GY Großröhrsdorf (34514)\nAdresse: Melanchthonstraße 21\, 01900  Großröhrsdorf\n
LOCATION:3-Feld-Halle-GY Großröhrsdorf (34514): Melanchthonstraße 21\, 01900  Großröhrsdorf
CATEGORIES:Saison 2025/26
END:VEVENT
BEGIN:VEVENT
DTSTAMP:20260424T080645Z
DTSTART;TZID=Europe/Berlin:20251130T112000
DTEND;TZID=Europe/Berlin:20251130T115000
SUMMARY:Regionsliga gFJ A LHV Hoyerswerda vs SV Lok Königsbrück  (14019)
UID:5edd451c-b427-4ff4-8fcd-12783386e1a6
STATUS:CONFIRMED
DESCRIPTION:Regionsliga  gFJ Staffel A\nBegegnungs-Nr: 14019\nHeim: LHV Hoyerswerda\nGast: SV Lok Königsbrück \nHalle: Sportkomplex Pulsnitz (34208)\nAdresse: Hempelstr. 8\, 01896 Pulsnitz\n
LOCATION:Sportkomplex Pulsnitz (34208): Hempelstr. 8\, 01896 Pulsnitz
CATEGORIES:Saison 2025/26
END:VEVENT
BEGIN:VEVENT
DTSTAMP:20260424T080645Z
DTSTART;TZID=Europe/Berlin:20251108T090000
DTEND;TZID=Europe/Berlin:20251108T093000
SUMMARY:Regionsliga gFJ A HSV 1923 Pulsnitz vs SV Lok Königsbrück  (14008)
UID:65c3f82a-52b3-4da7-b5c0-519f659fd3f2
STATUS:CONFIRMED
LAST-MODIFIED:20260126T182710Z
DESCRIPTION:Regionsliga  gFJ Staffel A\nBegegnungs-Nr: 14008\nHeim: HSV 1923 Pulsnitz\nGast: SV Lok Königsbrück \nHalle: 2-Feld-Halle- OS Königsbrück (34513)\nAdresse: An der Schule 3\, 01936 Königsbrück\n
LOCATION:2-Feld-Halle- OS Königsbrück (34513): An der Schule 3\, 01936 Königsbrück
CATEGORIES:Saison 2025/26
END:VEVENT
BEGIN:VEVENT
DTSTAMP:20260424T080645Z
DTSTART;TZID=Europe/Berlin:20260412T123000
DTEND;TZID=Europe/Berlin:20260412T130000
SUMMARY:Regionsliga gFJ A HC Rödertal  vs SV Lok Königsbrück  (14007)
UID:3dc11f4e-9ca6-48cd-9737-f8501f11c309
STATUS:CONFIRMED
LAST-MODIFIED:20260218T184538Z
DESCRIPTION:Regionsliga  gFJ Staffel A\nBegegnungs-Nr: 14007\nHeim: HC Rödertal \nGast: SV Lok Königsbrück \nHalle: Sporthalle \"Neue Oberschule\" (34519)\nAdresse: Claus-von-Stauffenberg-Straße 40a\, 02977 Hoyerswerda\n
LOCATION:Sporthalle \"Neue Oberschule\" (34519): Claus-von-Stauffenberg-Straße 40a\, 02977 Hoyerswerda
CATEGORIES:Saison 2025/26
END:VEVENT
BEGIN:VEVENT
DTSTAMP:20260424T080645Z
DTSTART;TZID=Europe/Berlin:20260314T132000
DTEND;TZID=Europe/Berlin:20260314T135000
SUMMARY:Regionsliga gFJ A HVH Kamenz vs SV Lok Königsbrück  (14037)
UID:a2d80dfc-5aa6-4066-9a84-bf8d4e3d0d9a
STATUS:CONFIRMED
LAST-MODIFIED:20260310T131225Z
DESCRIPTION:Regionsliga  gFJ Staffel A\nBegegnungs-Nr: 14037\nHeim: HVH Kamenz\nGast: SV Lok Königsbrück \nHalle: 3-Feld-Halle-BSZ Radeberg (34209)\nAdresse: Robert-Blum-Weg 5\, 01454 Radeberg\n
LOCATION:3-Feld-Halle-BSZ Radeberg (34209): Robert-Blum-Weg 5\, 01454 Radeberg
CATEGORIES:Saison 2025/26
END:VEVENT
BEGIN:VEVENT
DTSTAMP:20260424T080645Z
DTSTART;TZID=Europe/Berlin:20260201T121000
DTEND;TZID=Europe/Berlin:20260201T124000
SUMMARY:Regionsliga gFJ A Radeberger SV vs SV Lok Königsbrück  (14034)
UID:856f3b53-c5d5-4268-a5e9-bd3f68b478f7
STATUS:CONFIRMED
DESCRIPTION:Regionsliga  gFJ Staffel A\nBegegnungs-Nr: 14034\nHeim: Radeberger SV\nGast: SV Lok Königsbrück \nHalle: Sportkomplex Pulsnitz (34208)\nAdresse: Hempelstr. 8\, 01896 Pulsnitz\n
LOCATION:Sportkomplex Pulsnitz (34208): Hempelstr. 8\, 01896 Pulsnitz
CATEGORIES:Saison 2025/26
END:VEVENT
BEGIN:VEVENT
DTSTAMP:20260424T080645Z
DTSTART;TZID=Europe/Berlin:20260308T095000
DTEND;TZID=Europe/Berlin:20260308T102000
SUMMARY:Regionsliga gFJ A Radeberger SV II vs SV Lok Königsbrück  (14026)
UID:60fc6c92-21ee-4150-af17-299637256f0c
STATUS:CONFIRMED
LAST-MODIFIED:20260130T123558Z
DESCRIPTION:Regionsliga  gFJ Staffel A\nBegegnungs-Nr: 14026\nHeim: Radeberger SV II\nGast: SV Lok Königsbrück \nHalle: SH Albert-Schweitzer-Gymnasium Kamenz (34204)\nAdresse: Am Flugplatz\, 01917 Kamenz\, Parkplatz - Macherstraße 142\n
LOCATION:SH Albert-Schweitzer-Gymnasium Kamenz (34204): Am Flugplatz\, 01917 Kamenz\, Parkplatz - Macherstraße 142
CATEGORIES:Saison 2025/26
END:VEVENT
BEGIN:VEVENT
DTSTAMP:20260424T080645Z
DTSTART;TZID=Europe/Berlin:20260412T123000
DTEND;TZID=Europe/Berlin:20260412T130000
SUMMARY:Regionsliga gFJ A HC Rödertal  vs SV Lok Königsbrück  (14007)
UID:31319146-9b14-41ce-b949-fc4bf9cf14a5
STATUS:CONFIRMED
LAST-MODIFIED:20260310T133557Z
DESCRIPTION:Regionsliga  gFJ Staffel A\nBegegnungs-Nr: 14007\nHeim: HC Rödertal \nGast: SV Lok Königsbrück \nHalle: 3-Feld-Halle-GY Großröhrsdorf (34514)\nAdresse: Melanchthonstraße 21\, 01900  Großröhrsdorf\n
LOCATION:3-Feld-Halle-GY Großröhrsdorf (34514): Melanchthonstraße 21\, 01900  Großröhrsdorf
CATEGORIES:Saison 2025/26
END:VEVENT
END:VCALENDAR
