BEGIN:VCALENDAR
PRODID:-//nuDatenautomaten//framework iCal4j //DE
VERSION:2.0
CALSCALE:GREGORIAN
BEGIN:VTIMEZONE
TZID:Europe/Berlin
LAST-MODIFIED:20260306T231828Z
TZURL:https://www.tzurl.org/zoneinfo/Europe/Berlin
X-LIC-LOCATION:Europe/Berlin
X-PROLEPTIC-TZNAME:LMT
BEGIN:STANDARD
TZNAME:CET
TZOFFSETFROM:+005328
TZOFFSETTO:+0100
DTSTART:18930401T000000
END:STANDARD
BEGIN:DAYLIGHT
TZNAME:CEST
TZOFFSETFROM:+0100
TZOFFSETTO:+0200
DTSTART:19160430T230000
RDATE:19400401T020000
RDATE:19430329T020000
RDATE:19460414T020000
RDATE:19470406T030000
RDATE:19480418T020000
RDATE:19490410T020000
RDATE:19800406T020000
END:DAYLIGHT
BEGIN:STANDARD
TZNAME:CET
TZOFFSETFROM:+0200
TZOFFSETTO:+0100
DTSTART:19161001T010000
RDATE:19421102T030000
RDATE:19431004T030000
RDATE:19441002T030000
RDATE:19451118T030000
RDATE:19461007T030000
END:STANDARD
BEGIN:DAYLIGHT
TZNAME:CEST
TZOFFSETFROM:+0100
TZOFFSETTO:+0200
DTSTART:19170416T020000
RRULE:FREQ=YEARLY;UNTIL=19180415T010000Z;BYMONTH=4;BYDAY=3MO
END:DAYLIGHT
BEGIN:STANDARD
TZNAME:CET
TZOFFSETFROM:+0200
TZOFFSETTO:+0100
DTSTART:19170917T030000
RRULE:FREQ=YEARLY;UNTIL=19180916T010000Z;BYMONTH=9;BYDAY=3MO
END:STANDARD
BEGIN:DAYLIGHT
TZNAME:CEST
TZOFFSETFROM:+0100
TZOFFSETTO:+0200
DTSTART:19440403T020000
RRULE:FREQ=YEARLY;UNTIL=19450402T010000Z;BYMONTH=4;BYDAY=1MO
END:DAYLIGHT
BEGIN:DAYLIGHT
TZNAME:CEMT
TZOFFSETFROM:+0200
TZOFFSETTO:+0300
DTSTART:19450524T020000
RDATE:19470511T030000
END:DAYLIGHT
BEGIN:DAYLIGHT
TZNAME:CEST
TZOFFSETFROM:+0300
TZOFFSETTO:+0200
DTSTART:19450924T030000
RDATE:19470629T030000
END:DAYLIGHT
BEGIN:STANDARD
TZNAME:CET
TZOFFSETFROM:+0100
TZOFFSETTO:+0100
DTSTART:19460101T000000
RDATE:19800101T000000
END:STANDARD
BEGIN:STANDARD
TZNAME:CET
TZOFFSETFROM:+0200
TZOFFSETTO:+0100
DTSTART:19471005T030000
RRULE:FREQ=YEARLY;UNTIL=19491002T010000Z;BYMONTH=10;BYDAY=1SU
END:STANDARD
BEGIN:STANDARD
TZNAME:CET
TZOFFSETFROM:+0200
TZOFFSETTO:+0100
DTSTART:19800928T030000
RRULE:FREQ=YEARLY;UNTIL=19950924T010000Z;BYMONTH=9;BYDAY=-1SU
END:STANDARD
BEGIN:DAYLIGHT
TZNAME:CEST
TZOFFSETFROM:+0100
TZOFFSETTO:+0200
DTSTART:19810329T020000
RRULE:FREQ=YEARLY;BYMONTH=3;BYDAY=-1SU
END:DAYLIGHT
BEGIN:STANDARD
TZNAME:CET
TZOFFSETFROM:+0200
TZOFFSETTO:+0100
DTSTART:19961027T030000
RRULE:FREQ=YEARLY;BYMONTH=10;BYDAY=-1SU
END:STANDARD
END:VTIMEZONE
BEGIN:VEVENT
DTSTAMP:20260425T235929Z
DTSTART;TZID=Europe/Berlin:20250924T180000
DTEND;TZID=Europe/Berlin:20250924T190000
SUMMARY:Regionsoberliga S-M mJD HC Elbflorenz 2006 III vs SV Niederau (60016)
UID:616b4617-b3db-4e6f-b738-ff17ead572c4
STATUS:CONFIRMED
LAST-MODIFIED:20251103T065503Z
DESCRIPTION:Regionsoberliga S-M mJD\nBegegnungs-Nr: 60016\nHeim: HC Elbflorenz 2006 III\nGast: SV Niederau\nHalle: BallsportARENA Dresden (33133)\nAdresse: Weißeritzstraße 4\, 01067 Dresden\n
LOCATION:BallsportARENA Dresden (33133): Weißeritzstraße 4\, 01067 Dresden
CATEGORIES:Saison 2025/26
END:VEVENT
BEGIN:VEVENT
DTSTAMP:20260425T235929Z
DTSTART;TZID=Europe/Berlin:20260228T100000
DTEND;TZID=Europe/Berlin:20260228T110000
SUMMARY:Regionsoberliga S-M mJD HC Elbflorenz 2006 III vs ESV Dresden (60102)
UID:5b2d29ae-453f-43a8-bee0-1cae3646ea78
STATUS:CONFIRMED
LAST-MODIFIED:20260302T060408Z
DESCRIPTION:Regionsoberliga S-M mJD\nBegegnungs-Nr: 60102\nHeim: HC Elbflorenz 2006 III\nGast: ESV Dresden\nHalle: Lok-SH Dresden (33106)\nAdresse: Emmerich-Ambros-Ufer 74\, 01159 Dresden\n
LOCATION:Lok-SH Dresden (33106): Emmerich-Ambros-Ufer 74\, 01159 Dresden
CATEGORIES:Saison 2025/26
END:VEVENT
BEGIN:VEVENT
DTSTAMP:20260425T235929Z
DTSTART;TZID=Europe/Berlin:20260308T130000
DTEND;TZID=Europe/Berlin:20260308T140000
SUMMARY:Regionsoberliga S-M mJD HC Elbflorenz 2006 III vs Coswiger HSG (60108)
UID:4b821afb-66eb-4f36-a141-ca47aefff763
STATUS:CONFIRMED
LAST-MODIFIED:20260309T120306Z
DESCRIPTION:Regionsoberliga S-M mJD\nBegegnungs-Nr: 60108\nHeim: HC Elbflorenz 2006 III\nGast: Coswiger HSG\nHalle: BallsportARENA Dresden (33133)\nAdresse: Weißeritzstraße 4\, 01067 Dresden\n
LOCATION:BallsportARENA Dresden (33133): Weißeritzstraße 4\, 01067 Dresden
CATEGORIES:Saison 2025/26
END:VEVENT
BEGIN:VEVENT
DTSTAMP:20260425T235929Z
DTSTART;TZID=Europe/Berlin:20260329T123000
DTEND;TZID=Europe/Berlin:20260329T133000
SUMMARY:Regionsoberliga S-M mJD HC Elbflorenz 2006 III vs HSV Weinböhla (60115)
UID:7d1f857d-106b-445d-9d8c-9fd51f0de5ce
STATUS:CONFIRMED
LAST-MODIFIED:20260401T071449Z
DESCRIPTION:Regionsoberliga S-M mJD\nBegegnungs-Nr: 60115\nHeim: HC Elbflorenz 2006 III\nGast: HSV Weinböhla\nHalle: BallsportARENA Dresden - 2.Spielfeld (33137)\nAdresse: Weißeritzstraße 4\, 01067 Dresden\n
LOCATION:BallsportARENA Dresden - 2.Spielfeld (33137): Weißeritzstraße 4\, 01067 Dresden
CATEGORIES:Saison 2025/26
END:VEVENT
BEGIN:VEVENT
DTSTAMP:20260425T235929Z
DTSTART;TZID=Europe/Berlin:20250927T143000
DTEND;TZID=Europe/Berlin:20250927T153000
SUMMARY:Regionsoberliga S-M mJD HC Elbflorenz 2006 III vs HC Großenhain  (60029)
UID:231589ca-8e56-4adc-ac68-b5a2b4503ed4
STATUS:CONFIRMED
LAST-MODIFIED:20251003T065548Z
DESCRIPTION:Regionsoberliga S-M mJD\nBegegnungs-Nr: 60029\nHeim: HC Elbflorenz 2006 III\nGast: HC Großenhain \nHalle: BallsportARENA Dresden (33133)\nAdresse: Weißeritzstraße 4\, 01067 Dresden\n
LOCATION:BallsportARENA Dresden (33133): Weißeritzstraße 4\, 01067 Dresden
CATEGORIES:Saison 2025/26
END:VEVENT
BEGIN:VEVENT
DTSTAMP:20260425T235929Z
DTSTART;TZID=Europe/Berlin:20260425T120000
DTEND;TZID=Europe/Berlin:20260425T130000
SUMMARY:Regionsoberliga S-M mJD HC Elbflorenz 2006 III vs HSV Dresden II (60129)
UID:faa44a92-b6f0-40eb-ae34-74cd5f565c20
STATUS:CONFIRMED
LAST-MODIFIED:20250808T053934Z
DESCRIPTION:Regionsoberliga S-M mJD\nBegegnungs-Nr: 60129\nHeim: HC Elbflorenz 2006 III\nGast: HSV Dresden II\nHalle: SH Marie-Curie-Gymnasium Dresden (33128)\nAdresse: Zirkusstraße 7\, 01069 Dresden\n
LOCATION:SH Marie-Curie-Gymnasium Dresden (33128): Zirkusstraße 7\, 01069 Dresden
CATEGORIES:Saison 2025/26
END:VEVENT
BEGIN:VEVENT
DTSTAMP:20260425T235929Z
DTSTART;TZID=Europe/Berlin:20250831T143000
DTEND;TZID=Europe/Berlin:20250831T153000
SUMMARY:Regionsoberliga S-M mJD HC Elbflorenz 2006 III vs SC Riesa (60003)
UID:687a2a08-6a51-456d-97d1-9caa26e6a878
STATUS:CONFIRMED
LAST-MODIFIED:20250908T062619Z
DESCRIPTION:Regionsoberliga S-M mJD\nBegegnungs-Nr: 60003\nHeim: HC Elbflorenz 2006 III\nGast: SC Riesa\nHalle: BallsportARENA Dresden (33133)\nAdresse: Weißeritzstraße 4\, 01067 Dresden\n
LOCATION:BallsportARENA Dresden (33133): Weißeritzstraße 4\, 01067 Dresden
CATEGORIES:Saison 2025/26
END:VEVENT
BEGIN:VEVENT
DTSTAMP:20260425T235929Z
DTSTART;TZID=Europe/Berlin:20251214T100000
DTEND;TZID=Europe/Berlin:20251214T110000
SUMMARY:Regionsoberliga S-M mJD HC Elbflorenz 2006 III vs Radebeuler HV (60048)
UID:76e00832-006b-419c-a41c-42059d458226
STATUS:CONFIRMED
LAST-MODIFIED:20251218T101240Z
DESCRIPTION:Regionsoberliga S-M mJD\nBegegnungs-Nr: 60048\nHeim: HC Elbflorenz 2006 III\nGast: Radebeuler HV\nHalle: BallsportARENA Dresden - 2.Spielfeld (33137)\nAdresse: Weißeritzstraße 4\, 01067 Dresden\n
LOCATION:BallsportARENA Dresden - 2.Spielfeld (33137): Weißeritzstraße 4\, 01067 Dresden
CATEGORIES:Saison 2025/26
END:VEVENT
BEGIN:VEVENT
DTSTAMP:20260425T235929Z
DTSTART;TZID=Europe/Berlin:20251130T100000
DTEND;TZID=Europe/Berlin:20251130T110000
SUMMARY:Regionsoberliga S-M mJD HC Elbflorenz 2006 III vs USV TU Dresden (60056)
UID:c0879756-a754-46ac-9313-3674971086eb
STATUS:CONFIRMED
LAST-MODIFIED:20251203T130203Z
DESCRIPTION:Regionsoberliga S-M mJD\nBegegnungs-Nr: 60056\nHeim: HC Elbflorenz 2006 III\nGast: USV TU Dresden\nHalle: BallsportARENA Dresden (33133)\nAdresse: Weißeritzstraße 4\, 01067 Dresden\n
LOCATION:BallsportARENA Dresden (33133): Weißeritzstraße 4\, 01067 Dresden
CATEGORIES:Saison 2025/26
END:VEVENT
BEGIN:VEVENT
DTSTAMP:20260425T235929Z
DTSTART;TZID=Europe/Berlin:20260117T120000
DTEND;TZID=Europe/Berlin:20260117T130000
SUMMARY:Regionsoberliga S-M mJD HC Elbflorenz 2006 III vs Motor Wilsdruff  (60076)
UID:ed2c9c51-9f09-4525-bfa0-5aff4428c1ee
STATUS:CONFIRMED
LAST-MODIFIED:20260118T204215Z
DESCRIPTION:Regionsoberliga S-M mJD\nBegegnungs-Nr: 60076\nHeim: HC Elbflorenz 2006 III\nGast: Motor Wilsdruff \nHalle: SH Marie-Curie-Gymnasium Dresden (33128)\nAdresse: Zirkusstraße 7\, 01069 Dresden\n
LOCATION:SH Marie-Curie-Gymnasium Dresden (33128): Zirkusstraße 7\, 01069 Dresden
CATEGORIES:Saison 2025/26
END:VEVENT
BEGIN:VEVENT
DTSTAMP:20260425T235929Z
DTSTART;TZID=Europe/Berlin:20260131T100000
DTEND;TZID=Europe/Berlin:20260131T110000
SUMMARY:Regionsoberliga S-M mJD HC Elbflorenz 2006 III vs TSV Dresden-Bühlau (60089)
UID:e6d67096-5d62-475e-9899-c0c33c92f5ca
STATUS:CONFIRMED
LAST-MODIFIED:20260202T075216Z
DESCRIPTION:Regionsoberliga S-M mJD\nBegegnungs-Nr: 60089\nHeim: HC Elbflorenz 2006 III\nGast: TSV Dresden-Bühlau\nHalle: BallsportARENA Dresden (33133)\nAdresse: Weißeritzstraße 4\, 01067 Dresden\n
LOCATION:BallsportARENA Dresden (33133): Weißeritzstraße 4\, 01067 Dresden
CATEGORIES:Saison 2025/26
END:VEVENT
BEGIN:VEVENT
DTSTAMP:20260425T235929Z
DTSTART;TZID=Europe/Berlin:20260314T150000
DTEND;TZID=Europe/Berlin:20260314T160000
SUMMARY:Regionsoberliga S-M mJD HC Großenhain  vs HC Elbflorenz 2006 III (60095)
UID:13c4250d-1205-4ac5-8421-304bcf149e6a
STATUS:CONFIRMED
LAST-MODIFIED:20260320T150922Z
DESCRIPTION:Regionsoberliga S-M mJD\nBegegnungs-Nr: 60095\nHeim: HC Großenhain \nGast: HC Elbflorenz 2006 III\nHalle: Rödertal-SH (33205)\nAdresse: Am Marstall 4\, 01558 Großenhain\n
LOCATION:Rödertal-SH (33205): Am Marstall 4\, 01558 Großenhain
CATEGORIES:Saison 2025/26
END:VEVENT
BEGIN:VEVENT
DTSTAMP:20260425T235929Z
DTSTART;TZID=Europe/Berlin:20250921T100000
DTEND;TZID=Europe/Berlin:20250921T110000
SUMMARY:Regionsoberliga S-M mJD TSV Dresden-Bühlau vs HC Elbflorenz 2006 III (60023)
UID:aa64b626-b186-486b-9dbe-450642f8d881
STATUS:CONFIRMED
LAST-MODIFIED:20250922T062820Z
DESCRIPTION:Regionsoberliga S-M mJD\nBegegnungs-Nr: 60023\nHeim: TSV Dresden-Bühlau\nGast: HC Elbflorenz 2006 III\nHalle: SH Gymnasium Dresden-Bühlau (33118)\nAdresse: Quohrener Str. 12\, 01324 Dresden\n
LOCATION:SH Gymnasium Dresden-Bühlau (33118): Quohrener Str. 12\, 01324 Dresden
CATEGORIES:Saison 2025/26
END:VEVENT
BEGIN:VEVENT
DTSTAMP:20260425T235929Z
DTSTART;TZID=Europe/Berlin:20260322T100000
DTEND;TZID=Europe/Berlin:20260322T110000
SUMMARY:Regionsoberliga S-M mJD Radebeuler HV vs HC Elbflorenz 2006 III (60114)
UID:2dba1d11-f3c7-4f2c-8ab2-001b15956b5e
STATUS:CONFIRMED
LAST-MODIFIED:20260323T112406Z
DESCRIPTION:Regionsoberliga S-M mJD\nBegegnungs-Nr: 60114\nHeim: Radebeuler HV\nGast: HC Elbflorenz 2006 III\nHalle: Elb-SH Radebeul West (33203)\nAdresse: An der Festwiese 1\, 01445 Radebeul\n
LOCATION:Elb-SH Radebeul West (33203): An der Festwiese 1\, 01445 Radebeul
CATEGORIES:Saison 2025/26
END:VEVENT
BEGIN:VEVENT
DTSTAMP:20260425T235929Z
DTSTART;TZID=Europe/Berlin:20260418T113000
DTEND;TZID=Europe/Berlin:20260418T123000
SUMMARY:Regionsoberliga S-M mJD USV TU Dresden vs HC Elbflorenz 2006 III (60122)
UID:ffacd2a3-b1e6-431a-a3b2-d9fd1c80c6d3
STATUS:CONFIRMED
LAST-MODIFIED:20260420T060105Z
DESCRIPTION:Regionsoberliga S-M mJD\nBegegnungs-Nr: 60122\nHeim: USV TU Dresden\nGast: HC Elbflorenz 2006 III\nHalle: SH 145. Oberschule Dresden-Pieschen (33140)\nAdresse: Gehestraße 10\, 01127 Dresden\n
LOCATION:SH 145. Oberschule Dresden-Pieschen (33140): Gehestraße 10\, 01127 Dresden
CATEGORIES:Saison 2025/26
END:VEVENT
BEGIN:VEVENT
DTSTAMP:20260425T235929Z
DTSTART;TZID=Europe/Berlin:20251026T100000
DTEND;TZID=Europe/Berlin:20251026T110000
SUMMARY:Regionsoberliga S-M mJD ESV Dresden vs HC Elbflorenz 2006 III (60036)
UID:1944fe4e-fea1-4f81-806b-f3b4eb2a603a
STATUS:CONFIRMED
LAST-MODIFIED:20251030T140915Z
DESCRIPTION:Regionsoberliga S-M mJD\nBegegnungs-Nr: 60036\nHeim: ESV Dresden\nGast: HC Elbflorenz 2006 III\nHalle: Lok-SH Dresden (33106)\nAdresse: Emmerich-Ambros-Ufer 74\, 01159 Dresden\n
LOCATION:Lok-SH Dresden (33106): Emmerich-Ambros-Ufer 74\, 01159 Dresden
CATEGORIES:Saison 2025/26
END:VEVENT
BEGIN:VEVENT
DTSTAMP:20260425T235929Z
DTSTART;TZID=Europe/Berlin:20251022T164500
DTEND;TZID=Europe/Berlin:20251022T174500
SUMMARY:Regionsoberliga S-M mJD Coswiger HSG vs HC Elbflorenz 2006 III (60042)
UID:25d0702b-b7d1-432f-b85e-6097b8a9a7b0
STATUS:CONFIRMED
LAST-MODIFIED:20251023T150200Z
DESCRIPTION:Regionsoberliga S-M mJD\nBegegnungs-Nr: 60042\nHeim: Coswiger HSG\nGast: HC Elbflorenz 2006 III\nHalle: Sporthalle Spitzgrund Coswig (33237)\nAdresse: Sachsenlaufweg\, 01640 Coswig\n
LOCATION:Sporthalle Spitzgrund Coswig (33237): Sachsenlaufweg\, 01640 Coswig
CATEGORIES:Saison 2025/26
END:VEVENT
BEGIN:VEVENT
DTSTAMP:20260425T235929Z
DTSTART;TZID=Europe/Berlin:20251115T143000
DTEND;TZID=Europe/Berlin:20251115T153000
SUMMARY:Regionsoberliga S-M mJD HSV Weinböhla vs HC Elbflorenz 2006 III (60049)
UID:bf16aa25-1c03-4e8e-a896-d29f0ca8d5d6
STATUS:CONFIRMED
LAST-MODIFIED:20251117T123112Z
DESCRIPTION:Regionsoberliga S-M mJD\nBegegnungs-Nr: 60049\nHeim: HSV Weinböhla\nGast: HC Elbflorenz 2006 III\nHalle: Nassau-SH Weinböhla (33224)\nAdresse: Meißner Str. 1\, 01689 Weinböhla\n
LOCATION:Nassau-SH Weinböhla (33224): Meißner Str. 1\, 01689 Weinböhla
CATEGORIES:Saison 2025/26
END:VEVENT
BEGIN:VEVENT
DTSTAMP:20260425T235929Z
DTSTART;TZID=Europe/Berlin:20250910T163000
DTEND;TZID=Europe/Berlin:20250910T173000
SUMMARY:Regionsoberliga S-M mJD Motor Wilsdruff  vs HC Elbflorenz 2006 III (60010)
UID:01ecc6b8-1194-40ca-810f-7355d1bffbbd
STATUS:CONFIRMED
LAST-MODIFIED:20250916T083536Z
DESCRIPTION:Regionsoberliga S-M mJD\nBegegnungs-Nr: 60010\nHeim: Motor Wilsdruff \nGast: HC Elbflorenz 2006 III\nHalle: Saubach-SH Wilsdruff (33208)\nAdresse: Nossener Str. 21b\, 01723 Wilsdruff\n
LOCATION:Saubach-SH Wilsdruff (33208): Nossener Str. 21b\, 01723 Wilsdruff
CATEGORIES:Saison 2025/26
END:VEVENT
BEGIN:VEVENT
DTSTAMP:20260425T235929Z
DTSTART;TZID=Europe/Berlin:20251206T100000
DTEND;TZID=Europe/Berlin:20251206T110000
SUMMARY:Regionsoberliga S-M mJD HSV Dresden II vs HC Elbflorenz 2006 III (60063)
UID:b3142e63-4bf6-4048-9209-5416564405e6
STATUS:CONFIRMED
LAST-MODIFIED:20251208T074507Z
DESCRIPTION:Regionsoberliga S-M mJD\nBegegnungs-Nr: 60063\nHeim: HSV Dresden II\nGast: HC Elbflorenz 2006 III\nHalle: SH 121. Oberschule Dresden (33102)\nAdresse: Gamigstraße 28/30\, 01239 Dresden\n
LOCATION:SH 121. Oberschule Dresden (33102): Gamigstraße 28/30\, 01239 Dresden
CATEGORIES:Saison 2025/26
END:VEVENT
BEGIN:VEVENT
DTSTAMP:20260425T235929Z
DTSTART;TZID=Europe/Berlin:20260110T110000
DTEND;TZID=Europe/Berlin:20260110T120000
SUMMARY:Regionsoberliga S-M mJD SC Riesa vs HC Elbflorenz 2006 III (60069)
UID:d36d55bd-cebb-4e9a-af54-39faf0dce4bd
STATUS:CONFIRMED
LAST-MODIFIED:20260112T073352Z
DESCRIPTION:Regionsoberliga S-M mJD\nBegegnungs-Nr: 60069\nHeim: SC Riesa\nGast: HC Elbflorenz 2006 III\nHalle: WM-Sporthalle Riesa (33213)\nAdresse: Am Sportzentrum 1\, 01587 Riesa\n
LOCATION:WM-Sporthalle Riesa (33213): Am Sportzentrum 1\, 01587 Riesa
CATEGORIES:Saison 2025/26
END:VEVENT
BEGIN:VEVENT
DTSTAMP:20260425T235929Z
DTSTART;TZID=Europe/Berlin:20260124T110000
DTEND;TZID=Europe/Berlin:20260124T120000
SUMMARY:Regionsoberliga S-M mJD SV Niederau vs HC Elbflorenz 2006 III (60082)
UID:557f7f06-69d5-42f1-b76a-6087010c7621
STATUS:CONFIRMED
LAST-MODIFIED:20260126T053824Z
DESCRIPTION:Regionsoberliga S-M mJD\nBegegnungs-Nr: 60082\nHeim: SV Niederau\nGast: HC Elbflorenz 2006 III\nHalle: SH BSZ Meißen (33220)\nAdresse: Goethestraße 21\, 01662 Meißen\n
LOCATION:SH BSZ Meißen (33220): Goethestraße 21\, 01662 Meißen
CATEGORIES:Saison 2025/26
END:VEVENT
END:VCALENDAR
