BEGIN:VCALENDAR
PRODID:-//nuDatenautomaten//framework iCal4j //DE
VERSION:2.0
CALSCALE:GREGORIAN
BEGIN:VTIMEZONE
TZID:Europe/Berlin
LAST-MODIFIED:20260306T231828Z
TZURL:https://www.tzurl.org/zoneinfo/Europe/Berlin
X-LIC-LOCATION:Europe/Berlin
X-PROLEPTIC-TZNAME:LMT
BEGIN:STANDARD
TZNAME:CET
TZOFFSETFROM:+005328
TZOFFSETTO:+0100
DTSTART:18930401T000000
END:STANDARD
BEGIN:DAYLIGHT
TZNAME:CEST
TZOFFSETFROM:+0100
TZOFFSETTO:+0200
DTSTART:19160430T230000
RDATE:19400401T020000
RDATE:19430329T020000
RDATE:19460414T020000
RDATE:19470406T030000
RDATE:19480418T020000
RDATE:19490410T020000
RDATE:19800406T020000
END:DAYLIGHT
BEGIN:STANDARD
TZNAME:CET
TZOFFSETFROM:+0200
TZOFFSETTO:+0100
DTSTART:19161001T010000
RDATE:19421102T030000
RDATE:19431004T030000
RDATE:19441002T030000
RDATE:19451118T030000
RDATE:19461007T030000
END:STANDARD
BEGIN:DAYLIGHT
TZNAME:CEST
TZOFFSETFROM:+0100
TZOFFSETTO:+0200
DTSTART:19170416T020000
RRULE:FREQ=YEARLY;UNTIL=19180415T010000Z;BYMONTH=4;BYDAY=3MO
END:DAYLIGHT
BEGIN:STANDARD
TZNAME:CET
TZOFFSETFROM:+0200
TZOFFSETTO:+0100
DTSTART:19170917T030000
RRULE:FREQ=YEARLY;UNTIL=19180916T010000Z;BYMONTH=9;BYDAY=3MO
END:STANDARD
BEGIN:DAYLIGHT
TZNAME:CEST
TZOFFSETFROM:+0100
TZOFFSETTO:+0200
DTSTART:19440403T020000
RRULE:FREQ=YEARLY;UNTIL=19450402T010000Z;BYMONTH=4;BYDAY=1MO
END:DAYLIGHT
BEGIN:DAYLIGHT
TZNAME:CEMT
TZOFFSETFROM:+0200
TZOFFSETTO:+0300
DTSTART:19450524T020000
RDATE:19470511T030000
END:DAYLIGHT
BEGIN:DAYLIGHT
TZNAME:CEST
TZOFFSETFROM:+0300
TZOFFSETTO:+0200
DTSTART:19450924T030000
RDATE:19470629T030000
END:DAYLIGHT
BEGIN:STANDARD
TZNAME:CET
TZOFFSETFROM:+0100
TZOFFSETTO:+0100
DTSTART:19460101T000000
RDATE:19800101T000000
END:STANDARD
BEGIN:STANDARD
TZNAME:CET
TZOFFSETFROM:+0200
TZOFFSETTO:+0100
DTSTART:19471005T030000
RRULE:FREQ=YEARLY;UNTIL=19491002T010000Z;BYMONTH=10;BYDAY=1SU
END:STANDARD
BEGIN:STANDARD
TZNAME:CET
TZOFFSETFROM:+0200
TZOFFSETTO:+0100
DTSTART:19800928T030000
RRULE:FREQ=YEARLY;UNTIL=19950924T010000Z;BYMONTH=9;BYDAY=-1SU
END:STANDARD
BEGIN:DAYLIGHT
TZNAME:CEST
TZOFFSETFROM:+0100
TZOFFSETTO:+0200
DTSTART:19810329T020000
RRULE:FREQ=YEARLY;BYMONTH=3;BYDAY=-1SU
END:DAYLIGHT
BEGIN:STANDARD
TZNAME:CET
TZOFFSETFROM:+0200
TZOFFSETTO:+0100
DTSTART:19961027T030000
RRULE:FREQ=YEARLY;BYMONTH=10;BYDAY=-1SU
END:STANDARD
END:VTIMEZONE
BEGIN:VEVENT
DTSTAMP:20260425T193225Z
DTSTART;TZID=Europe/Berlin:20250831T100000
DTEND;TZID=Europe/Berlin:20250831T110000
SUMMARY:Regionsoberliga S-M wJB SG Klotzsche vs TSV Dresden-Bühlau (32004)
UID:fe9677ae-9236-4ade-991a-98aaaf08d2c5
STATUS:CONFIRMED
LAST-MODIFIED:20250901T044948Z
DESCRIPTION:Regionsoberliga S-M wJB\nBegegnungs-Nr: 32004\nHeim: SG Klotzsche\nGast: TSV Dresden-Bühlau\nHalle: SH Gymnasium Klotzsche (33126)\nAdresse: Karl-Marx-Straße 44\, 01109 Dresden\n
LOCATION:SH Gymnasium Klotzsche (33126): Karl-Marx-Straße 44\, 01109 Dresden
CATEGORIES:Saison 2025/26
END:VEVENT
BEGIN:VEVENT
DTSTAMP:20260425T193225Z
DTSTART;TZID=Europe/Berlin:20260118T150000
DTEND;TZID=Europe/Berlin:20260118T160000
SUMMARY:Regionsoberliga S-M wJB SG Klotzsche vs HSG Weißeritztal (32033)
UID:111b8d0e-193a-4223-a8eb-fd8d574976c7
STATUS:CONFIRMED
LAST-MODIFIED:20260119T094912Z
DESCRIPTION:Regionsoberliga S-M wJB\nBegegnungs-Nr: 32033\nHeim: SG Klotzsche\nGast: HSG Weißeritztal\nHalle: SH Gymnasium Dresden-Bühlau (33118)\nAdresse: Quohrener Str. 12\, 01324 Dresden\n
LOCATION:SH Gymnasium Dresden-Bühlau (33118): Quohrener Str. 12\, 01324 Dresden
CATEGORIES:Saison 2025/26
END:VEVENT
BEGIN:VEVENT
DTSTAMP:20260425T193225Z
DTSTART;TZID=Europe/Berlin:20260426T100000
DTEND;TZID=Europe/Berlin:20260426T110000
SUMMARY:Regionsoberliga S-M wJB SG Klotzsche vs HSV Weinböhla (32070)
UID:4ed3e077-b0da-4533-abca-2909a97da09b
STATUS:CONFIRMED
DESCRIPTION:Regionsoberliga S-M wJB\nBegegnungs-Nr: 32070\nHeim: SG Klotzsche\nGast: HSV Weinböhla\nHalle: SH Gymnasium Klotzsche (33126)\nAdresse: Karl-Marx-Straße 44\, 01109 Dresden\n
LOCATION:SH Gymnasium Klotzsche (33126): Karl-Marx-Straße 44\, 01109 Dresden
CATEGORIES:Saison 2025/26
END:VEVENT
BEGIN:VEVENT
DTSTAMP:20260425T193225Z
DTSTART;TZID=Europe/Berlin:20260328T130000
DTEND;TZID=Europe/Berlin:20260328T140000
SUMMARY:Regionsoberliga S-M wJB SG Klotzsche vs Radebeuler HV (32066)
UID:1857887d-10c9-4085-85c5-2bcd6f1fa2e1
STATUS:CONFIRMED
LAST-MODIFIED:20260413T120943Z
DESCRIPTION:Regionsoberliga S-M wJB\nBegegnungs-Nr: 32066\nHeim: SG Klotzsche\nGast: Radebeuler HV\nHalle: SH Gymnasium Klotzsche (33126)\nAdresse: Karl-Marx-Straße 44\, 01109 Dresden\n
LOCATION:SH Gymnasium Klotzsche (33126): Karl-Marx-Straße 44\, 01109 Dresden
CATEGORIES:Saison 2025/26
END:VEVENT
BEGIN:VEVENT
DTSTAMP:20260425T193225Z
DTSTART;TZID=Europe/Berlin:20260315T153000
DTEND;TZID=Europe/Berlin:20260315T163000
SUMMARY:Regionsoberliga S-M wJB SG Klotzsche vs Medizin Bad Gottleuba (32047)
UID:23fc7c77-3d44-426d-b243-77eb04316b00
STATUS:CONFIRMED
LAST-MODIFIED:20260316T083857Z
DESCRIPTION:Regionsoberliga S-M wJB\nBegegnungs-Nr: 32047\nHeim: SG Klotzsche\nGast: Medizin Bad Gottleuba\nHalle: SH Gymnasium Klotzsche (33126)\nAdresse: Karl-Marx-Straße 44\, 01109 Dresden\n
LOCATION:SH Gymnasium Klotzsche (33126): Karl-Marx-Straße 44\, 01109 Dresden
CATEGORIES:Saison 2025/26
END:VEVENT
BEGIN:VEVENT
DTSTAMP:20260425T193225Z
DTSTART;TZID=Europe/Berlin:20251102T150000
DTEND;TZID=Europe/Berlin:20251102T160000
SUMMARY:Regionsoberliga S-M wJB SG Klotzsche vs SF 01 Dresden (32023)
UID:c199ef14-07f2-46a9-9c9f-d1a406d1c890
STATUS:CONFIRMED
LAST-MODIFIED:20251103T123948Z
DESCRIPTION:Regionsoberliga S-M wJB\nBegegnungs-Nr: 32023\nHeim: SG Klotzsche\nGast: SF 01 Dresden\nHalle: SH Gymnasium Klotzsche (33126)\nAdresse: Karl-Marx-Straße 44\, 01109 Dresden\n
LOCATION:SH Gymnasium Klotzsche (33126): Karl-Marx-Straße 44\, 01109 Dresden
CATEGORIES:Saison 2025/26
END:VEVENT
BEGIN:VEVENT
DTSTAMP:20260425T193225Z
DTSTART;TZID=Europe/Berlin:20260301T140000
DTEND;TZID=Europe/Berlin:20260301T150000
SUMMARY:Regionsoberliga S-M wJB SG Klotzsche vs SHV Oschatz (32055)
UID:1b5b9c7c-173f-4325-9e77-05c5f394deee
STATUS:CONFIRMED
LAST-MODIFIED:20260302T112918Z
DESCRIPTION:Regionsoberliga S-M wJB\nBegegnungs-Nr: 32055\nHeim: SG Klotzsche\nGast: SHV Oschatz\nHalle: SH Gymnasium Klotzsche (33126)\nAdresse: Karl-Marx-Straße 44\, 01109 Dresden\n
LOCATION:SH Gymnasium Klotzsche (33126): Karl-Marx-Straße 44\, 01109 Dresden
CATEGORIES:Saison 2025/26
END:VEVENT
BEGIN:VEVENT
DTSTAMP:20260425T193225Z
DTSTART;TZID=Europe/Berlin:20250914T100000
DTEND;TZID=Europe/Berlin:20250914T110000
SUMMARY:Regionsoberliga S-M wJB SG Klotzsche vs HC Großenhain  (32010)
UID:e9357f02-75a4-49e2-8a58-ebf9826f9f20
STATUS:CONFIRMED
LAST-MODIFIED:20250921T171746Z
DESCRIPTION:Regionsoberliga S-M wJB\nBegegnungs-Nr: 32010\nHeim: SG Klotzsche\nGast: HC Großenhain \nHalle: SH Gymnasium Klotzsche (33126)\nAdresse: Karl-Marx-Straße 44\, 01109 Dresden\n
LOCATION:SH Gymnasium Klotzsche (33126): Karl-Marx-Straße 44\, 01109 Dresden
CATEGORIES:Saison 2025/26
END:VEVENT
BEGIN:VEVENT
DTSTAMP:20260425T193225Z
DTSTART;TZID=Europe/Berlin:20251207T124500
DTEND;TZID=Europe/Berlin:20251207T134500
SUMMARY:Regionsoberliga S-M wJB HSV Weinböhla vs SG Klotzsche (32034)
UID:dae14bb3-e24e-47bb-b32a-79f40989501a
STATUS:CONFIRMED
LAST-MODIFIED:20251207T174720Z
DESCRIPTION:Regionsoberliga S-M wJB\nBegegnungs-Nr: 32034\nHeim: HSV Weinböhla\nGast: SG Klotzsche\nHalle: Nassau-SH Weinböhla (33224)\nAdresse: Meißner Str. 1\, 01689 Weinböhla\n
LOCATION:Nassau-SH Weinböhla (33224): Meißner Str. 1\, 01689 Weinböhla
CATEGORIES:Saison 2025/26
END:VEVENT
BEGIN:VEVENT
DTSTAMP:20260425T193225Z
DTSTART;TZID=Europe/Berlin:20260418T143000
DTEND;TZID=Europe/Berlin:20260418T153000
SUMMARY:Regionsoberliga S-M wJB HSG Weißeritztal vs SG Klotzsche (32069)
UID:ea980206-a1e7-49e7-91a0-bd645872ff7e
STATUS:CONFIRMED
LAST-MODIFIED:20260420T185406Z
DESCRIPTION:Regionsoberliga S-M wJB\nBegegnungs-Nr: 32069\nHeim: HSG Weißeritztal\nGast: SG Klotzsche\nHalle: Saubach-SH Wilsdruff (33208)\nAdresse: Nossener Str. 21b\, 01723 Wilsdruff\n
LOCATION:Saubach-SH Wilsdruff (33208): Nossener Str. 21b\, 01723 Wilsdruff
CATEGORIES:Saison 2025/26
END:VEVENT
BEGIN:VEVENT
DTSTAMP:20260425T193225Z
DTSTART;TZID=Europe/Berlin:20260307T150000
DTEND;TZID=Europe/Berlin:20260307T160000
SUMMARY:Regionsoberliga S-M wJB SF 01 Dresden vs SG Klotzsche (32059)
UID:be2a54a6-9f70-4b47-a9dc-4044bb299f16
STATUS:CONFIRMED
LAST-MODIFIED:20260314T151226Z
DESCRIPTION:Regionsoberliga S-M wJB\nBegegnungs-Nr: 32059\nHeim: SF 01 Dresden\nGast: SG Klotzsche\nHalle: SH 151. Gesamtschule Dresden (33142)\nAdresse: Stauffenbergallee 8\, 01099 Dresden\n
LOCATION:SH 151. Gesamtschule Dresden (33142): Stauffenbergallee 8\, 01099 Dresden
CATEGORIES:Saison 2025/26
END:VEVENT
BEGIN:VEVENT
DTSTAMP:20260425T193225Z
DTSTART;TZID=Europe/Berlin:20260124T123000
DTEND;TZID=Europe/Berlin:20260124T133000
SUMMARY:Regionsoberliga S-M wJB HC Großenhain  vs SG Klotzsche (32046)
UID:689491dc-6091-4f28-932e-67dfabdb00b5
STATUS:CONFIRMED
LAST-MODIFIED:20260128T132931Z
DESCRIPTION:Regionsoberliga S-M wJB\nBegegnungs-Nr: 32046\nHeim: HC Großenhain \nGast: SG Klotzsche\nHalle: Rödertal-SH (33205)\nAdresse: Am Marstall 4\, 01558 Großenhain\n
LOCATION:Rödertal-SH (33205): Am Marstall 4\, 01558 Großenhain
CATEGORIES:Saison 2025/26
END:VEVENT
BEGIN:VEVENT
DTSTAMP:20260425T193225Z
DTSTART;TZID=Europe/Berlin:20260111T141500
DTEND;TZID=Europe/Berlin:20260111T151500
SUMMARY:Regionsoberliga S-M wJB TSV Dresden-Bühlau vs SG Klotzsche (32040)
UID:615e5913-6a9c-45a6-84d0-7645d8af489d
STATUS:CONFIRMED
LAST-MODIFIED:20260112T135947Z
DESCRIPTION:Regionsoberliga S-M wJB\nBegegnungs-Nr: 32040\nHeim: TSV Dresden-Bühlau\nGast: SG Klotzsche\nHalle: SH Gymnasium Dresden-Bühlau (33118)\nAdresse: Quohrener Str. 12\, 01324 Dresden\n
LOCATION:SH Gymnasium Dresden-Bühlau (33118): Quohrener Str. 12\, 01324 Dresden
CATEGORIES:Saison 2025/26
END:VEVENT
BEGIN:VEVENT
DTSTAMP:20260425T193225Z
DTSTART;TZID=Europe/Berlin:20251026T143000
DTEND;TZID=Europe/Berlin:20251026T153000
SUMMARY:Regionsoberliga S-M wJB SHV Oschatz vs SG Klotzsche (32019)
UID:f5506828-dfc2-4460-a39e-1e66944516f8
STATUS:CONFIRMED
LAST-MODIFIED:20251101T075603Z
DESCRIPTION:Regionsoberliga S-M wJB\nBegegnungs-Nr: 32019\nHeim: SHV Oschatz\nGast: SG Klotzsche\nHalle: Rosental-SH Oschatz (31604)\nAdresse: Berufsschulstraße 8\, 04758 Oschatz\n
LOCATION:Rosental-SH Oschatz (31604): Berufsschulstraße 8\, 04758 Oschatz
CATEGORIES:Saison 2025/26
END:VEVENT
BEGIN:VEVENT
DTSTAMP:20260425T193225Z
DTSTART;TZID=Europe/Berlin:20251123T150000
DTEND;TZID=Europe/Berlin:20251123T160000
SUMMARY:Regionsoberliga S-M wJB Radebeuler HV vs SG Klotzsche (32030)
UID:4349cafb-21fa-4b82-9f55-1aa44126c749
STATUS:CONFIRMED
LAST-MODIFIED:20251124T074919Z
DESCRIPTION:Regionsoberliga S-M wJB\nBegegnungs-Nr: 32030\nHeim: Radebeuler HV\nGast: SG Klotzsche\nHalle: Elb-SH Radebeul West (33203)\nAdresse: An der Festwiese 1\, 01445 Radebeul\n
LOCATION:Elb-SH Radebeul West (33203): An der Festwiese 1\, 01445 Radebeul
CATEGORIES:Saison 2025/26
END:VEVENT
BEGIN:VEVENT
DTSTAMP:20260425T193225Z
DTSTART;TZID=Europe/Berlin:20250920T141500
DTEND;TZID=Europe/Berlin:20250920T151500
SUMMARY:Regionsoberliga S-M wJB Medizin Bad Gottleuba vs SG Klotzsche (32011)
UID:38662262-c8a2-4e6a-8e66-c8495e1e3050
STATUS:CONFIRMED
LAST-MODIFIED:20250923T063316Z
DESCRIPTION:Regionsoberliga S-M wJB\nBegegnungs-Nr: 32011\nHeim: Medizin Bad Gottleuba\nGast: SG Klotzsche\nHalle: SH Geising (33201)\nAdresse: Lange Str. 25\, 01778 Altenberg ST Geising\n
LOCATION:SH Geising (33201): Lange Str. 25\, 01778 Altenberg ST Geising
CATEGORIES:Saison 2025/26
END:VEVENT
END:VCALENDAR
