BEGIN:VCALENDAR
PRODID:-//nuDatenautomaten//framework iCal4j //DE
VERSION:2.0
CALSCALE:GREGORIAN
BEGIN:VTIMEZONE
TZID:Europe/Berlin
LAST-MODIFIED:20260306T231828Z
TZURL:https://www.tzurl.org/zoneinfo/Europe/Berlin
X-LIC-LOCATION:Europe/Berlin
X-PROLEPTIC-TZNAME:LMT
BEGIN:STANDARD
TZNAME:CET
TZOFFSETFROM:+005328
TZOFFSETTO:+0100
DTSTART:18930401T000000
END:STANDARD
BEGIN:DAYLIGHT
TZNAME:CEST
TZOFFSETFROM:+0100
TZOFFSETTO:+0200
DTSTART:19160430T230000
RDATE:19400401T020000
RDATE:19430329T020000
RDATE:19460414T020000
RDATE:19470406T030000
RDATE:19480418T020000
RDATE:19490410T020000
RDATE:19800406T020000
END:DAYLIGHT
BEGIN:STANDARD
TZNAME:CET
TZOFFSETFROM:+0200
TZOFFSETTO:+0100
DTSTART:19161001T010000
RDATE:19421102T030000
RDATE:19431004T030000
RDATE:19441002T030000
RDATE:19451118T030000
RDATE:19461007T030000
END:STANDARD
BEGIN:DAYLIGHT
TZNAME:CEST
TZOFFSETFROM:+0100
TZOFFSETTO:+0200
DTSTART:19170416T020000
RRULE:FREQ=YEARLY;UNTIL=19180415T010000Z;BYMONTH=4;BYDAY=3MO
END:DAYLIGHT
BEGIN:STANDARD
TZNAME:CET
TZOFFSETFROM:+0200
TZOFFSETTO:+0100
DTSTART:19170917T030000
RRULE:FREQ=YEARLY;UNTIL=19180916T010000Z;BYMONTH=9;BYDAY=3MO
END:STANDARD
BEGIN:DAYLIGHT
TZNAME:CEST
TZOFFSETFROM:+0100
TZOFFSETTO:+0200
DTSTART:19440403T020000
RRULE:FREQ=YEARLY;UNTIL=19450402T010000Z;BYMONTH=4;BYDAY=1MO
END:DAYLIGHT
BEGIN:DAYLIGHT
TZNAME:CEMT
TZOFFSETFROM:+0200
TZOFFSETTO:+0300
DTSTART:19450524T020000
RDATE:19470511T030000
END:DAYLIGHT
BEGIN:DAYLIGHT
TZNAME:CEST
TZOFFSETFROM:+0300
TZOFFSETTO:+0200
DTSTART:19450924T030000
RDATE:19470629T030000
END:DAYLIGHT
BEGIN:STANDARD
TZNAME:CET
TZOFFSETFROM:+0100
TZOFFSETTO:+0100
DTSTART:19460101T000000
RDATE:19800101T000000
END:STANDARD
BEGIN:STANDARD
TZNAME:CET
TZOFFSETFROM:+0200
TZOFFSETTO:+0100
DTSTART:19471005T030000
RRULE:FREQ=YEARLY;UNTIL=19491002T010000Z;BYMONTH=10;BYDAY=1SU
END:STANDARD
BEGIN:STANDARD
TZNAME:CET
TZOFFSETFROM:+0200
TZOFFSETTO:+0100
DTSTART:19800928T030000
RRULE:FREQ=YEARLY;UNTIL=19950924T010000Z;BYMONTH=9;BYDAY=-1SU
END:STANDARD
BEGIN:DAYLIGHT
TZNAME:CEST
TZOFFSETFROM:+0100
TZOFFSETTO:+0200
DTSTART:19810329T020000
RRULE:FREQ=YEARLY;BYMONTH=3;BYDAY=-1SU
END:DAYLIGHT
BEGIN:STANDARD
TZNAME:CET
TZOFFSETFROM:+0200
TZOFFSETTO:+0100
DTSTART:19961027T030000
RRULE:FREQ=YEARLY;BYMONTH=10;BYDAY=-1SU
END:STANDARD
END:VTIMEZONE
BEGIN:VEVENT
DTSTAMP:20260425T200022Z
DTSTART;TZID=Europe/Berlin:20260228T143000
DTEND;TZID=Europe/Berlin:20260228T150000
SUMMARY:2025 West Jg 2018 SHV Oschatz II vs SSV Lommatzsch II (21)
UID:268ccf32-6b13-4c06-a3b5-28c16a43cab6
STATUS:CONFIRMED
LAST-MODIFIED:20260420T185637Z
DESCRIPTION:2025 West Jg. 2018 und jünger\nBegegnungs-Nr: 21\nHeim: SHV Oschatz II\nGast: SSV Lommatzsch II\nHalle: Rödertal-SH (33205)\nAdresse: Am Marstall 4\, 01558 Großenhain\n
LOCATION:Rödertal-SH (33205): Am Marstall 4\, 01558 Großenhain
CATEGORIES:Saison 2025/26
END:VEVENT
BEGIN:VEVENT
DTSTAMP:20260425T200022Z
DTSTART;TZID=Europe/Berlin:20260419T093000
DTEND;TZID=Europe/Berlin:20260419T100000
SUMMARY:2025 West Jg 2018 SHV Oschatz II vs HC Großenhain  II (37)
UID:a2a466fb-de1f-490e-af71-1bcc27cf56b6
STATUS:CONFIRMED
LAST-MODIFIED:20260420T190121Z
DESCRIPTION:2025 West Jg. 2018 und jünger\nBegegnungs-Nr: 37\nHeim: SHV Oschatz II\nGast: HC Großenhain  II\nHalle: Rosental-SH Oschatz (31604)\nAdresse: Berufsschulstraße 8\, 04758 Oschatz\n
LOCATION:Rosental-SH Oschatz (31604): Berufsschulstraße 8\, 04758 Oschatz
CATEGORIES:Saison 2025/26
END:VEVENT
BEGIN:VEVENT
DTSTAMP:20260425T200022Z
DTSTART;TZID=Europe/Berlin:20260419T090000
DTEND;TZID=Europe/Berlin:20260419T093000
SUMMARY:2025 West Jg 2018 SHV Oschatz II vs VfL Meißen II (35)
UID:aaec3d91-1929-45f3-a7d1-4f5c602e3ad2
STATUS:CONFIRMED
LAST-MODIFIED:20260420T190100Z
DESCRIPTION:2025 West Jg. 2018 und jünger\nBegegnungs-Nr: 35\nHeim: SHV Oschatz II\nGast: VfL Meißen II\nHalle: Rosental-SH Oschatz (31604)\nAdresse: Berufsschulstraße 8\, 04758 Oschatz\n
LOCATION:Rosental-SH Oschatz (31604): Berufsschulstraße 8\, 04758 Oschatz
CATEGORIES:Saison 2025/26
END:VEVENT
BEGIN:VEVENT
DTSTAMP:20260425T200022Z
DTSTART;TZID=Europe/Berlin:20260228T140000
DTEND;TZID=Europe/Berlin:20260228T143000
SUMMARY:2025 West Jg 2018 SHV Oschatz II vs HSV Weinböhla III (19)
UID:2852ec64-e1dc-4063-9345-e0c2932c1ce6
STATUS:CONFIRMED
LAST-MODIFIED:20260420T185501Z
DESCRIPTION:2025 West Jg. 2018 und jünger\nBegegnungs-Nr: 19\nHeim: SHV Oschatz II\nGast: HSV Weinböhla III\nHalle: Rödertal-SH (33205)\nAdresse: Am Marstall 4\, 01558 Großenhain\n
LOCATION:Rödertal-SH (33205): Am Marstall 4\, 01558 Großenhain
CATEGORIES:Saison 2025/26
END:VEVENT
BEGIN:VEVENT
DTSTAMP:20260425T200022Z
DTSTART;TZID=Europe/Berlin:20260201T120000
DTEND;TZID=Europe/Berlin:20260201T123000
SUMMARY:2025 West Jg 2018 SHV Oschatz II vs TSV 1862 Radeburg II (17)
UID:9ac6924c-f46f-4a61-bf44-55c2bc3ffe8a
STATUS:CONFIRMED
LAST-MODIFIED:20260209T142155Z
DESCRIPTION:2025 West Jg. 2018 und jünger\nBegegnungs-Nr: 17\nHeim: SHV Oschatz II\nGast: TSV 1862 Radeburg II\nHalle: SH Niederau (33222)\nAdresse: Meißner Straße 65\, 01689 Niederau\n
LOCATION:SH Niederau (33222): Meißner Straße 65\, 01689 Niederau
CATEGORIES:Saison 2025/26
END:VEVENT
BEGIN:VEVENT
DTSTAMP:20260425T200022Z
DTSTART;TZID=Europe/Berlin:20260314T103000
DTEND;TZID=Europe/Berlin:20260314T110000
SUMMARY:2025 West Jg 2018 SHV Oschatz II vs SV Niederau II (2)
UID:8c2157e2-9723-478b-9df2-ce687583e757
STATUS:CONFIRMED
LAST-MODIFIED:20260420T185855Z
DESCRIPTION:2025 West Jg. 2018 und jünger\nBegegnungs-Nr: 2\nHeim: SHV Oschatz II\nGast: SV Niederau II\nHalle: Lothar-Krauße-SH Lommatzsch (33211)\nAdresse: Domselwitzer Str. 21\, 01623 Lommatzsch\n
LOCATION:Lothar-Krauße-SH Lommatzsch (33211): Domselwitzer Str. 21\, 01623 Lommatzsch
CATEGORIES:Saison 2025/26
END:VEVENT
BEGIN:VEVENT
DTSTAMP:20260425T200022Z
DTSTART;TZID=Europe/Berlin:20260419T110000
DTEND;TZID=Europe/Berlin:20260419T113000
SUMMARY:2025 West Jg 2018 HSV Weinböhla III vs SHV Oschatz II (39)
UID:b5e5979c-060d-46ec-a132-3184ab572b22
STATUS:CONFIRMED
LAST-MODIFIED:20260420T190310Z
DESCRIPTION:2025 West Jg. 2018 und jünger\nBegegnungs-Nr: 39\nHeim: HSV Weinböhla III\nGast: SHV Oschatz II\nHalle: Rosental-SH Oschatz (31604)\nAdresse: Berufsschulstraße 8\, 04758 Oschatz\n
LOCATION:Rosental-SH Oschatz (31604): Berufsschulstraße 8\, 04758 Oschatz
CATEGORIES:Saison 2025/26
END:VEVENT
BEGIN:VEVENT
DTSTAMP:20260425T200022Z
DTSTART;TZID=Europe/Berlin:20260228T153000
DTEND;TZID=Europe/Berlin:20260228T160000
SUMMARY:2025 West Jg 2018 VfL Meißen II vs SHV Oschatz II (25)
UID:8c10c693-d0b8-4335-b579-1e71b990748a
STATUS:CONFIRMED
LAST-MODIFIED:20260420T185658Z
DESCRIPTION:2025 West Jg. 2018 und jünger\nBegegnungs-Nr: 25\nHeim: VfL Meißen II\nGast: SHV Oschatz II\nHalle: Rödertal-SH (33205)\nAdresse: Am Marstall 4\, 01558 Großenhain\n
LOCATION:Rödertal-SH (33205): Am Marstall 4\, 01558 Großenhain
CATEGORIES:Saison 2025/26
END:VEVENT
BEGIN:VEVENT
DTSTAMP:20260425T200022Z
DTSTART;TZID=Europe/Berlin:20260201T110000
DTEND;TZID=Europe/Berlin:20260201T113000
SUMMARY:2025 West Jg 2018 HC Großenhain  II vs SHV Oschatz II (15)
UID:ff080d92-ce79-4917-8ecf-b63fef3c4fca
STATUS:CONFIRMED
LAST-MODIFIED:20260209T142107Z
DESCRIPTION:2025 West Jg. 2018 und jünger\nBegegnungs-Nr: 15\nHeim: HC Großenhain  II\nGast: SHV Oschatz II\nHalle: SH Niederau (33222)\nAdresse: Meißner Straße 65\, 01689 Niederau\n
LOCATION:SH Niederau (33222): Meißner Straße 65\, 01689 Niederau
CATEGORIES:Saison 2025/26
END:VEVENT
BEGIN:VEVENT
DTSTAMP:20260425T200022Z
DTSTART;TZID=Europe/Berlin:20260201T100000
DTEND;TZID=Europe/Berlin:20260201T103000
SUMMARY:2025 West Jg 2018 SV Niederau II vs SHV Oschatz II (13)
UID:6b682a3d-cd49-45b0-84c1-2c9fa3ac697b
STATUS:CONFIRMED
LAST-MODIFIED:20260209T141918Z
DESCRIPTION:2025 West Jg. 2018 und jünger\nBegegnungs-Nr: 13\nHeim: SV Niederau II\nGast: SHV Oschatz II\nHalle: SH Niederau (33222)\nAdresse: Meißner Straße 65\, 01689 Niederau\n
LOCATION:SH Niederau (33222): Meißner Straße 65\, 01689 Niederau
CATEGORIES:Saison 2025/26
END:VEVENT
BEGIN:VEVENT
DTSTAMP:20260425T200022Z
DTSTART;TZID=Europe/Berlin:20260314T123000
DTEND;TZID=Europe/Berlin:20260314T130000
SUMMARY:2025 West Jg 2018 TSV 1862 Radeburg II vs SHV Oschatz II (6)
UID:3a5529f4-d448-4f60-8c66-47aa3a39e605
STATUS:CONFIRMED
LAST-MODIFIED:20260420T190040Z
DESCRIPTION:2025 West Jg. 2018 und jünger\nBegegnungs-Nr: 6\nHeim: TSV 1862 Radeburg II\nGast: SHV Oschatz II\nHalle: Lothar-Krauße-SH Lommatzsch (33211)\nAdresse: Domselwitzer Str. 21\, 01623 Lommatzsch\n
LOCATION:Lothar-Krauße-SH Lommatzsch (33211): Domselwitzer Str. 21\, 01623 Lommatzsch
CATEGORIES:Saison 2025/26
END:VEVENT
BEGIN:VEVENT
DTSTAMP:20260425T200022Z
DTSTART;TZID=Europe/Berlin:20260314T110000
DTEND;TZID=Europe/Berlin:20260314T113000
SUMMARY:2025 West Jg 2018 SSV Lommatzsch II vs SHV Oschatz II (3)
UID:be5f56c0-84a8-4cb5-9585-3b960e3b2f47
STATUS:CONFIRMED
LAST-MODIFIED:20260420T185935Z
DESCRIPTION:2025 West Jg. 2018 und jünger\nBegegnungs-Nr: 3\nHeim: SSV Lommatzsch II\nGast: SHV Oschatz II\nHalle: Lothar-Krauße-SH Lommatzsch (33211)\nAdresse: Domselwitzer Str. 21\, 01623 Lommatzsch\n
LOCATION:Lothar-Krauße-SH Lommatzsch (33211): Domselwitzer Str. 21\, 01623 Lommatzsch
CATEGORIES:Saison 2025/26
END:VEVENT
END:VCALENDAR
