BEGIN:VCALENDAR
PRODID:-//nuDatenautomaten//framework iCal4j //DE
VERSION:2.0
CALSCALE:GREGORIAN
BEGIN:VTIMEZONE
TZID:Europe/Berlin
LAST-MODIFIED:20260306T231828Z
TZURL:https://www.tzurl.org/zoneinfo/Europe/Berlin
X-LIC-LOCATION:Europe/Berlin
X-PROLEPTIC-TZNAME:LMT
BEGIN:STANDARD
TZNAME:CET
TZOFFSETFROM:+005328
TZOFFSETTO:+0100
DTSTART:18930401T000000
END:STANDARD
BEGIN:DAYLIGHT
TZNAME:CEST
TZOFFSETFROM:+0100
TZOFFSETTO:+0200
DTSTART:19160430T230000
RDATE:19400401T020000
RDATE:19430329T020000
RDATE:19460414T020000
RDATE:19470406T030000
RDATE:19480418T020000
RDATE:19490410T020000
RDATE:19800406T020000
END:DAYLIGHT
BEGIN:STANDARD
TZNAME:CET
TZOFFSETFROM:+0200
TZOFFSETTO:+0100
DTSTART:19161001T010000
RDATE:19421102T030000
RDATE:19431004T030000
RDATE:19441002T030000
RDATE:19451118T030000
RDATE:19461007T030000
END:STANDARD
BEGIN:DAYLIGHT
TZNAME:CEST
TZOFFSETFROM:+0100
TZOFFSETTO:+0200
DTSTART:19170416T020000
RRULE:FREQ=YEARLY;UNTIL=19180415T010000Z;BYMONTH=4;BYDAY=3MO
END:DAYLIGHT
BEGIN:STANDARD
TZNAME:CET
TZOFFSETFROM:+0200
TZOFFSETTO:+0100
DTSTART:19170917T030000
RRULE:FREQ=YEARLY;UNTIL=19180916T010000Z;BYMONTH=9;BYDAY=3MO
END:STANDARD
BEGIN:DAYLIGHT
TZNAME:CEST
TZOFFSETFROM:+0100
TZOFFSETTO:+0200
DTSTART:19440403T020000
RRULE:FREQ=YEARLY;UNTIL=19450402T010000Z;BYMONTH=4;BYDAY=1MO
END:DAYLIGHT
BEGIN:DAYLIGHT
TZNAME:CEMT
TZOFFSETFROM:+0200
TZOFFSETTO:+0300
DTSTART:19450524T020000
RDATE:19470511T030000
END:DAYLIGHT
BEGIN:DAYLIGHT
TZNAME:CEST
TZOFFSETFROM:+0300
TZOFFSETTO:+0200
DTSTART:19450924T030000
RDATE:19470629T030000
END:DAYLIGHT
BEGIN:STANDARD
TZNAME:CET
TZOFFSETFROM:+0100
TZOFFSETTO:+0100
DTSTART:19460101T000000
RDATE:19800101T000000
END:STANDARD
BEGIN:STANDARD
TZNAME:CET
TZOFFSETFROM:+0200
TZOFFSETTO:+0100
DTSTART:19471005T030000
RRULE:FREQ=YEARLY;UNTIL=19491002T010000Z;BYMONTH=10;BYDAY=1SU
END:STANDARD
BEGIN:STANDARD
TZNAME:CET
TZOFFSETFROM:+0200
TZOFFSETTO:+0100
DTSTART:19800928T030000
RRULE:FREQ=YEARLY;UNTIL=19950924T010000Z;BYMONTH=9;BYDAY=-1SU
END:STANDARD
BEGIN:DAYLIGHT
TZNAME:CEST
TZOFFSETFROM:+0100
TZOFFSETTO:+0200
DTSTART:19810329T020000
RRULE:FREQ=YEARLY;BYMONTH=3;BYDAY=-1SU
END:DAYLIGHT
BEGIN:STANDARD
TZNAME:CET
TZOFFSETFROM:+0200
TZOFFSETTO:+0100
DTSTART:19961027T030000
RRULE:FREQ=YEARLY;BYMONTH=10;BYDAY=-1SU
END:STANDARD
END:VTIMEZONE
BEGIN:VEVENT
DTSTAMP:20260424T130145Z
DTSTART;TZID=Europe/Berlin:20260419T110000
DTEND;TZID=Europe/Berlin:20260419T113000
SUMMARY:2025 West Jg 2018 HSV Weinböhla III vs SHV Oschatz II (39)
UID:b5e5979c-060d-46ec-a132-3184ab572b22
STATUS:CONFIRMED
LAST-MODIFIED:20260420T190310Z
DESCRIPTION:2025 West Jg. 2018 und jünger\nBegegnungs-Nr: 39\nHeim: HSV Weinböhla III\nGast: SHV Oschatz II\nHalle: Rosental-SH Oschatz (31604)\nAdresse: Berufsschulstraße 8\, 04758 Oschatz\n
LOCATION:Rosental-SH Oschatz (31604): Berufsschulstraße 8\, 04758 Oschatz
CATEGORIES:Saison 2025/26
END:VEVENT
BEGIN:VEVENT
DTSTAMP:20260424T130145Z
DTSTART;TZID=Europe/Berlin:20251214T103500
DTEND;TZID=Europe/Berlin:20251214T110500
SUMMARY:2025 West Jg 2018 HSV Weinböhla III vs TSV 1862 Radeburg II (30)
UID:3dac8217-d7aa-49a3-8263-8403d17605ed
STATUS:CONFIRMED
LAST-MODIFIED:20260209T140859Z
DESCRIPTION:2025 West Jg. 2018 und jünger\nBegegnungs-Nr: 30\nHeim: HSV Weinböhla III\nGast: TSV 1862 Radeburg II\nHalle: Paul-Tiedemann-SH Radeburg (33214)\nAdresse: Meißner Berg 83c\, 01471 Radeburg\n
LOCATION:Paul-Tiedemann-SH Radeburg (33214): Meißner Berg 83c\, 01471 Radeburg
CATEGORIES:Saison 2025/26
END:VEVENT
BEGIN:VEVENT
DTSTAMP:20260424T130145Z
DTSTART;TZID=Europe/Berlin:20260228T150000
DTEND;TZID=Europe/Berlin:20260228T153000
SUMMARY:2025 West Jg 2018 HSV Weinböhla III vs SV Niederau II (22)
UID:58b67f73-f6bb-42dd-aed1-2bbfbbb62feb
STATUS:CONFIRMED
LAST-MODIFIED:20260420T185619Z
DESCRIPTION:2025 West Jg. 2018 und jünger\nBegegnungs-Nr: 22\nHeim: HSV Weinböhla III\nGast: SV Niederau II\nHalle: Rödertal-SH (33205)\nAdresse: Am Marstall 4\, 01558 Großenhain\n
LOCATION:Rödertal-SH (33205): Am Marstall 4\, 01558 Großenhain
CATEGORIES:Saison 2025/26
END:VEVENT
BEGIN:VEVENT
DTSTAMP:20260424T130145Z
DTSTART;TZID=Europe/Berlin:20260125T120000
DTEND;TZID=Europe/Berlin:20260125T123000
SUMMARY:2025 West Jg 2018 HSV Weinböhla III vs SSV Lommatzsch II (11)
UID:66b2ab4b-afbf-40ab-b442-733a5c0ae046
STATUS:CONFIRMED
LAST-MODIFIED:20260209T141151Z
DESCRIPTION:2025 West Jg. 2018 und jünger\nBegegnungs-Nr: 11\nHeim: HSV Weinböhla III\nGast: SSV Lommatzsch II\nHalle: SH Weinböhla (33223)\nAdresse: Köhlerstraße\, 01689 Weinböhla\n
LOCATION:SH Weinböhla (33223): Köhlerstraße\, 01689 Weinböhla
CATEGORIES:Saison 2025/26
END:VEVENT
BEGIN:VEVENT
DTSTAMP:20260424T130145Z
DTSTART;TZID=Europe/Berlin:20260125T110000
DTEND;TZID=Europe/Berlin:20260125T113000
SUMMARY:2025 West Jg 2018 HSV Weinböhla III vs HC Großenhain  II (9)
UID:dcb7f49d-695d-4a05-89d2-80b61d71e807
STATUS:CONFIRMED
LAST-MODIFIED:20260209T141801Z
DESCRIPTION:2025 West Jg. 2018 und jünger\nBegegnungs-Nr: 9\nHeim: HSV Weinböhla III\nGast: HC Großenhain  II\nHalle: SH Weinböhla (33223)\nAdresse: Köhlerstraße\, 01689 Weinböhla\n
LOCATION:SH Weinböhla (33223): Köhlerstraße\, 01689 Weinböhla
CATEGORIES:Saison 2025/26
END:VEVENT
BEGIN:VEVENT
DTSTAMP:20260424T130145Z
DTSTART;TZID=Europe/Berlin:20260125T100000
DTEND;TZID=Europe/Berlin:20260125T103000
SUMMARY:2025 West Jg 2018 HSV Weinböhla III vs VfL Meißen II (7)
UID:3a1194f0-c02e-4e7b-bec3-42cb8a66afb1
STATUS:CONFIRMED
LAST-MODIFIED:20260419T083758Z
DESCRIPTION:2025 West Jg. 2018 und jünger\nBegegnungs-Nr: 7\nHeim: HSV Weinböhla III\nGast: VfL Meißen II\nHalle: SH Weinböhla (33223)\nAdresse: Köhlerstraße\, 01689 Weinböhla\n
LOCATION:SH Weinböhla (33223): Köhlerstraße\, 01689 Weinböhla
CATEGORIES:Saison 2025/26
END:VEVENT
BEGIN:VEVENT
DTSTAMP:20260424T130145Z
DTSTART;TZID=Europe/Berlin:20260419T093000
DTEND;TZID=Europe/Berlin:20260419T100000
SUMMARY:2025 West Jg 2018 SV Niederau II vs HSV Weinböhla III (36)
UID:85eafe47-a9f5-4dce-8584-950705c313ca
STATUS:CONFIRMED
LAST-MODIFIED:20260420T190146Z
DESCRIPTION:2025 West Jg. 2018 und jünger\nBegegnungs-Nr: 36\nHeim: SV Niederau II\nGast: HSV Weinböhla III\nHalle: Rosental-SH Oschatz (31604)\nAdresse: Berufsschulstraße 8\, 04758 Oschatz\n
LOCATION:Rosental-SH Oschatz (31604): Berufsschulstraße 8\, 04758 Oschatz
CATEGORIES:Saison 2025/26
END:VEVENT
BEGIN:VEVENT
DTSTAMP:20260424T130145Z
DTSTART;TZID=Europe/Berlin:20260419T090000
DTEND;TZID=Europe/Berlin:20260419T093000
SUMMARY:2025 West Jg 2018 TSV 1862 Radeburg II vs HSV Weinböhla III (34)
UID:dffbbd7f-1fd0-4403-902a-c80129344895
STATUS:CONFIRMED
LAST-MODIFIED:20260420T190020Z
DESCRIPTION:2025 West Jg. 2018 und jünger\nBegegnungs-Nr: 34\nHeim: TSV 1862 Radeburg II\nGast: HSV Weinböhla III\nHalle: Rosental-SH Oschatz (31604)\nAdresse: Berufsschulstraße 8\, 04758 Oschatz\n
LOCATION:Rosental-SH Oschatz (31604): Berufsschulstraße 8\, 04758 Oschatz
CATEGORIES:Saison 2025/26
END:VEVENT
BEGIN:VEVENT
DTSTAMP:20260424T130145Z
DTSTART;TZID=Europe/Berlin:20251214T111000
DTEND;TZID=Europe/Berlin:20251214T114000
SUMMARY:2025 West Jg 2018 SSV Lommatzsch II vs HSV Weinböhla III (32)
UID:5cc1a66e-f632-440d-9dbe-25c756fc3775
STATUS:CONFIRMED
LAST-MODIFIED:20260209T140922Z
DESCRIPTION:2025 West Jg. 2018 und jünger\nBegegnungs-Nr: 32\nHeim: SSV Lommatzsch II\nGast: HSV Weinböhla III\nHalle: Paul-Tiedemann-SH Radeburg (33214)\nAdresse: Meißner Berg 83c\, 01471 Radeburg\n
LOCATION:Paul-Tiedemann-SH Radeburg (33214): Meißner Berg 83c\, 01471 Radeburg
CATEGORIES:Saison 2025/26
END:VEVENT
BEGIN:VEVENT
DTSTAMP:20260424T130145Z
DTSTART;TZID=Europe/Berlin:20251214T113000
DTEND;TZID=Europe/Berlin:20251214T120000
SUMMARY:2025 West Jg 2018 VfL Meißen II vs HSV Weinböhla III (28)
UID:d2ac0911-3a58-4e87-8308-e785509c65c0
STATUS:CONFIRMED
LAST-MODIFIED:20260419T083823Z
DESCRIPTION:2025 West Jg. 2018 und jünger\nBegegnungs-Nr: 28\nHeim: VfL Meißen II\nGast: HSV Weinböhla III\nHalle: Paul-Tiedemann-SH Radeburg (33214)\nAdresse: Meißner Berg 83c\, 01471 Radeburg\n
LOCATION:Paul-Tiedemann-SH Radeburg (33214): Meißner Berg 83c\, 01471 Radeburg
CATEGORIES:Saison 2025/26
END:VEVENT
BEGIN:VEVENT
DTSTAMP:20260424T130145Z
DTSTART;TZID=Europe/Berlin:20260228T153000
DTEND;TZID=Europe/Berlin:20260228T160000
SUMMARY:2025 West Jg 2018 HC Großenhain  II vs HSV Weinböhla III (26)
UID:4a6d3369-c71c-4db4-8d38-003e2a7c13fc
STATUS:CONFIRMED
LAST-MODIFIED:20260420T185758Z
DESCRIPTION:2025 West Jg. 2018 und jünger\nBegegnungs-Nr: 26\nHeim: HC Großenhain  II\nGast: HSV Weinböhla III\nHalle: Rödertal-SH (33205)\nAdresse: Am Marstall 4\, 01558 Großenhain\n
LOCATION:Rödertal-SH (33205): Am Marstall 4\, 01558 Großenhain
CATEGORIES:Saison 2025/26
END:VEVENT
BEGIN:VEVENT
DTSTAMP:20260424T130145Z
DTSTART;TZID=Europe/Berlin:20260228T140000
DTEND;TZID=Europe/Berlin:20260228T143000
SUMMARY:2025 West Jg 2018 SHV Oschatz II vs HSV Weinböhla III (19)
UID:2852ec64-e1dc-4063-9345-e0c2932c1ce6
STATUS:CONFIRMED
LAST-MODIFIED:20260420T185501Z
DESCRIPTION:2025 West Jg. 2018 und jünger\nBegegnungs-Nr: 19\nHeim: SHV Oschatz II\nGast: HSV Weinböhla III\nHalle: Rödertal-SH (33205)\nAdresse: Am Marstall 4\, 01558 Großenhain\n
LOCATION:Rödertal-SH (33205): Am Marstall 4\, 01558 Großenhain
CATEGORIES:Saison 2025/26
END:VEVENT
END:VCALENDAR
