BEGIN:VCALENDAR
PRODID:-//nuDatenautomaten//framework iCal4j //DE
VERSION:2.0
CALSCALE:GREGORIAN
BEGIN:VTIMEZONE
TZID:Europe/Berlin
LAST-MODIFIED:20260306T231828Z
TZURL:https://www.tzurl.org/zoneinfo/Europe/Berlin
X-LIC-LOCATION:Europe/Berlin
X-PROLEPTIC-TZNAME:LMT
BEGIN:STANDARD
TZNAME:CET
TZOFFSETFROM:+005328
TZOFFSETTO:+0100
DTSTART:18930401T000000
END:STANDARD
BEGIN:DAYLIGHT
TZNAME:CEST
TZOFFSETFROM:+0100
TZOFFSETTO:+0200
DTSTART:19160430T230000
RDATE:19400401T020000
RDATE:19430329T020000
RDATE:19460414T020000
RDATE:19470406T030000
RDATE:19480418T020000
RDATE:19490410T020000
RDATE:19800406T020000
END:DAYLIGHT
BEGIN:STANDARD
TZNAME:CET
TZOFFSETFROM:+0200
TZOFFSETTO:+0100
DTSTART:19161001T010000
RDATE:19421102T030000
RDATE:19431004T030000
RDATE:19441002T030000
RDATE:19451118T030000
RDATE:19461007T030000
END:STANDARD
BEGIN:DAYLIGHT
TZNAME:CEST
TZOFFSETFROM:+0100
TZOFFSETTO:+0200
DTSTART:19170416T020000
RRULE:FREQ=YEARLY;UNTIL=19180415T010000Z;BYMONTH=4;BYDAY=3MO
END:DAYLIGHT
BEGIN:STANDARD
TZNAME:CET
TZOFFSETFROM:+0200
TZOFFSETTO:+0100
DTSTART:19170917T030000
RRULE:FREQ=YEARLY;UNTIL=19180916T010000Z;BYMONTH=9;BYDAY=3MO
END:STANDARD
BEGIN:DAYLIGHT
TZNAME:CEST
TZOFFSETFROM:+0100
TZOFFSETTO:+0200
DTSTART:19440403T020000
RRULE:FREQ=YEARLY;UNTIL=19450402T010000Z;BYMONTH=4;BYDAY=1MO
END:DAYLIGHT
BEGIN:DAYLIGHT
TZNAME:CEMT
TZOFFSETFROM:+0200
TZOFFSETTO:+0300
DTSTART:19450524T020000
RDATE:19470511T030000
END:DAYLIGHT
BEGIN:DAYLIGHT
TZNAME:CEST
TZOFFSETFROM:+0300
TZOFFSETTO:+0200
DTSTART:19450924T030000
RDATE:19470629T030000
END:DAYLIGHT
BEGIN:STANDARD
TZNAME:CET
TZOFFSETFROM:+0100
TZOFFSETTO:+0100
DTSTART:19460101T000000
RDATE:19800101T000000
END:STANDARD
BEGIN:STANDARD
TZNAME:CET
TZOFFSETFROM:+0200
TZOFFSETTO:+0100
DTSTART:19471005T030000
RRULE:FREQ=YEARLY;UNTIL=19491002T010000Z;BYMONTH=10;BYDAY=1SU
END:STANDARD
BEGIN:STANDARD
TZNAME:CET
TZOFFSETFROM:+0200
TZOFFSETTO:+0100
DTSTART:19800928T030000
RRULE:FREQ=YEARLY;UNTIL=19950924T010000Z;BYMONTH=9;BYDAY=-1SU
END:STANDARD
BEGIN:DAYLIGHT
TZNAME:CEST
TZOFFSETFROM:+0100
TZOFFSETTO:+0200
DTSTART:19810329T020000
RRULE:FREQ=YEARLY;BYMONTH=3;BYDAY=-1SU
END:DAYLIGHT
BEGIN:STANDARD
TZNAME:CET
TZOFFSETFROM:+0200
TZOFFSETTO:+0100
DTSTART:19961027T030000
RRULE:FREQ=YEARLY;BYMONTH=10;BYDAY=-1SU
END:STANDARD
END:VTIMEZONE
BEGIN:VEVENT
DTSTAMP:20260420T221230Z
DTSTART;TZID=Europe/Berlin:20251115T100000
DTEND;TZID=Europe/Berlin:20251115T110000
SUMMARY:ROL wJE HV Chemnitz vs HSV Marienberg (480037)
UID:ca42fc1f-4d9e-4cdd-98b6-ab76def1652a
STATUS:CONFIRMED
LAST-MODIFIED:20251124T120911Z
DESCRIPTION:Regionsoberliga weibl. E-Jugend\nBegegnungs-Nr: 480037\nHeim: HV Chemnitz\nGast: HSV Marienberg\nHalle: Sachsenhalle Chemnitz (32101)\nAdresse: Straße Usti nad Labem 275\, 09119 Chemnitz\n
LOCATION:Sachsenhalle Chemnitz (32101): Straße Usti nad Labem 275\, 09119 Chemnitz
CATEGORIES:Saison 2025/26
END:VEVENT
BEGIN:VEVENT
DTSTAMP:20260420T221230Z
DTSTART;TZID=Europe/Berlin:20251115T130000
DTEND;TZID=Europe/Berlin:20251115T140000
SUMMARY:ROL wJE HV Chemnitz vs HSV Marienberg II (480040)
UID:6189c1e1-c0d9-4ece-ac95-0d3379915c17
STATUS:CONFIRMED
LAST-MODIFIED:20251124T121154Z
DESCRIPTION:Regionsoberliga weibl. E-Jugend\nBegegnungs-Nr: 480040\nHeim: HV Chemnitz\nGast: HSV Marienberg II\nHalle: Sachsenhalle Chemnitz (32101)\nAdresse: Straße Usti nad Labem 275\, 09119 Chemnitz\n
LOCATION:Sachsenhalle Chemnitz (32101): Straße Usti nad Labem 275\, 09119 Chemnitz
CATEGORIES:Saison 2025/26
END:VEVENT
BEGIN:VEVENT
DTSTAMP:20260420T221230Z
DTSTART;TZID=Europe/Berlin:20251129T110000
DTEND;TZID=Europe/Berlin:20251129T120000
SUMMARY:ROL wJE HV Chemnitz vs HSG Sachsenring (480050)
UID:3f4adc79-fbb8-4a3d-a605-1e5ecbc5ee97
STATUS:CONFIRMED
LAST-MODIFIED:20251130T125945Z
DESCRIPTION:Regionsoberliga weibl. E-Jugend\nBegegnungs-Nr: 480050\nHeim: HV Chemnitz\nGast: HSG Sachsenring\nHalle: GSH Limbach-Oberfrohna (32201)\nAdresse: Anna-Esche-Gäßchen 1\, 09212 Limbach-Oberfrohna\n
LOCATION:GSH Limbach-Oberfrohna (32201): Anna-Esche-Gäßchen 1\, 09212 Limbach-Oberfrohna
CATEGORIES:Saison 2025/26
END:VEVENT
BEGIN:VEVENT
DTSTAMP:20260420T221230Z
DTSTART;TZID=Europe/Berlin:20251129T120000
DTEND;TZID=Europe/Berlin:20251129T130000
SUMMARY:ROL wJE HV Chemnitz vs Rotation Weißenborn (480051)
UID:72c1d188-b32e-46f1-ba85-d09703b4a111
STATUS:CONFIRMED
LAST-MODIFIED:20251130T130055Z
DESCRIPTION:Regionsoberliga weibl. E-Jugend\nBegegnungs-Nr: 480051\nHeim: HV Chemnitz\nGast: Rotation Weißenborn\nHalle: GSH Limbach-Oberfrohna (32201)\nAdresse: Anna-Esche-Gäßchen 1\, 09212 Limbach-Oberfrohna\n
LOCATION:GSH Limbach-Oberfrohna (32201): Anna-Esche-Gäßchen 1\, 09212 Limbach-Oberfrohna
CATEGORIES:Saison 2025/26
END:VEVENT
BEGIN:VEVENT
DTSTAMP:20260420T221230Z
DTSTART;TZID=Europe/Berlin:20251213T123000
DTEND;TZID=Europe/Berlin:20251213T133000
SUMMARY:ROL wJE HV Chemnitz vs BSV Limbach-O. (480068)
UID:b40c1896-c42d-43fb-bdd5-c504976f4f01
STATUS:CONFIRMED
LAST-MODIFIED:20251213T164446Z
DESCRIPTION:Regionsoberliga weibl. E-Jugend\nBegegnungs-Nr: 480068\nHeim: HV Chemnitz\nGast: BSV Limbach-O.\nHalle: GSH Limbach-Oberfrohna (32201)\nAdresse: Anna-Esche-Gäßchen 1\, 09212 Limbach-Oberfrohna\n
LOCATION:GSH Limbach-Oberfrohna (32201): Anna-Esche-Gäßchen 1\, 09212 Limbach-Oberfrohna
CATEGORIES:Saison 2025/26
END:VEVENT
BEGIN:VEVENT
DTSTAMP:20260420T221230Z
DTSTART;TZID=Europe/Berlin:20260301T100000
DTEND;TZID=Europe/Berlin:20260301T110000
SUMMARY:ROL wJE HV Chemnitz vs Chemie Zwickau (480089)
UID:5109daac-d0f7-4d35-a2e9-16b60c131295
STATUS:CONFIRMED
LAST-MODIFIED:20260302T135205Z
DESCRIPTION:Regionsoberliga weibl. E-Jugend\nBegegnungs-Nr: 480089\nHeim: HV Chemnitz\nGast: Chemie Zwickau\nHalle: SH Terra Nova Campus (32115)\nAdresse: Heinrich-Schütz-Straße 61\, 09130 Chemnitz\n
LOCATION:SH Terra Nova Campus (32115): Heinrich-Schütz-Straße 61\, 09130 Chemnitz
CATEGORIES:Saison 2025/26
END:VEVENT
BEGIN:VEVENT
DTSTAMP:20260420T221230Z
DTSTART;TZID=Europe/Berlin:20260301T130000
DTEND;TZID=Europe/Berlin:20260301T140000
SUMMARY:ROL wJE HV Chemnitz vs BSV Sa. Zwickau (480092)
UID:f255a0d7-236f-4260-bfac-c8daf518dd1e
STATUS:CONFIRMED
LAST-MODIFIED:20260302T135540Z
DESCRIPTION:Regionsoberliga weibl. E-Jugend\nBegegnungs-Nr: 480092\nHeim: HV Chemnitz\nGast: BSV Sa. Zwickau\nHalle: SH Terra Nova Campus (32115)\nAdresse: Heinrich-Schütz-Straße 61\, 09130 Chemnitz\n
LOCATION:SH Terra Nova Campus (32115): Heinrich-Schütz-Straße 61\, 09130 Chemnitz
CATEGORIES:Saison 2025/26
END:VEVENT
BEGIN:VEVENT
DTSTAMP:20260420T221230Z
DTSTART;TZID=Europe/Berlin:20250914T114500
DTEND;TZID=Europe/Berlin:20250914T124500
SUMMARY:ROL wJE HV Chemnitz vs SG Zschorlau/Schneeberg (480005)
UID:43ef8243-c045-46e2-8947-8e7726cb5d55
STATUS:CONFIRMED
LAST-MODIFIED:20250916T070539Z
DESCRIPTION:Regionsoberliga weibl. E-Jugend\nBegegnungs-Nr: 480005\nHeim: HV Chemnitz\nGast: SG Zschorlau/Schneeberg\nHalle: Sachsenhalle Chemnitz (32101)\nAdresse: Straße Usti nad Labem 275\, 09119 Chemnitz\n
LOCATION:Sachsenhalle Chemnitz (32101): Straße Usti nad Labem 275\, 09119 Chemnitz
CATEGORIES:Saison 2025/26
END:VEVENT
BEGIN:VEVENT
DTSTAMP:20260420T221230Z
DTSTART;TZID=Europe/Berlin:20250914T144500
DTEND;TZID=Europe/Berlin:20250914T154500
SUMMARY:ROL wJE HV Chemnitz vs HC Fraureuth (480008)
UID:22089c87-c5ae-4139-b339-b165283c5269
STATUS:CONFIRMED
LAST-MODIFIED:20250916T070838Z
DESCRIPTION:Regionsoberliga weibl. E-Jugend\nBegegnungs-Nr: 480008\nHeim: HV Chemnitz\nGast: HC Fraureuth\nHalle: Sachsenhalle Chemnitz (32101)\nAdresse: Straße Usti nad Labem 275\, 09119 Chemnitz\n
LOCATION:Sachsenhalle Chemnitz (32101): Straße Usti nad Labem 275\, 09119 Chemnitz
CATEGORIES:Saison 2025/26
END:VEVENT
BEGIN:VEVENT
DTSTAMP:20260420T221230Z
DTSTART;TZID=Europe/Berlin:20251108T110000
DTEND;TZID=Europe/Berlin:20251108T120000
SUMMARY:ROL wJE HV Chemnitz vs HC Glauchau/Meerane (480030)
UID:fd787cc7-56cf-404c-af8a-6ffa78a5c599
STATUS:CONFIRMED
LAST-MODIFIED:20251110T133434Z
DESCRIPTION:Regionsoberliga weibl. E-Jugend\nBegegnungs-Nr: 480030\nHeim: HV Chemnitz\nGast: HC Glauchau/Meerane\nHalle: GSH Limbach-Oberfrohna (32201)\nAdresse: Anna-Esche-Gäßchen 1\, 09212 Limbach-Oberfrohna\n
LOCATION:GSH Limbach-Oberfrohna (32201): Anna-Esche-Gäßchen 1\, 09212 Limbach-Oberfrohna
CATEGORIES:Saison 2025/26
END:VEVENT
BEGIN:VEVENT
DTSTAMP:20260420T221230Z
DTSTART;TZID=Europe/Berlin:20251108T120000
DTEND;TZID=Europe/Berlin:20251108T130000
SUMMARY:ROL wJE HV Chemnitz vs SV 04 Plauen-O. (480031)
UID:99747664-0195-4ed0-b736-eb9613974140
STATUS:CONFIRMED
LAST-MODIFIED:20251110T133529Z
DESCRIPTION:Regionsoberliga weibl. E-Jugend\nBegegnungs-Nr: 480031\nHeim: HV Chemnitz\nGast: SV 04 Plauen-O.\nHalle: GSH Limbach-Oberfrohna (32201)\nAdresse: Anna-Esche-Gäßchen 1\, 09212 Limbach-Oberfrohna\n
LOCATION:GSH Limbach-Oberfrohna (32201): Anna-Esche-Gäßchen 1\, 09212 Limbach-Oberfrohna
CATEGORIES:Saison 2025/26
END:VEVENT
BEGIN:VEVENT
DTSTAMP:20260420T221230Z
DTSTART;TZID=Europe/Berlin:20260328T110000
DTEND;TZID=Europe/Berlin:20260328T120000
SUMMARY:ROL wJE HSV Marienberg II vs HV Chemnitz (480114)
UID:abe5accf-686b-457c-9fd8-9f5b9c954043
STATUS:CONFIRMED
LAST-MODIFIED:20260409T092550Z
DESCRIPTION:Regionsoberliga weibl. E-Jugend\nBegegnungs-Nr: 480114\nHeim: HSV Marienberg II\nGast: HV Chemnitz\nHalle: SH am Goldkindstein Marienberg (32416)\nAdresse: Dr.-Wilhelm-Külz-Allee 23\, 09496 Marienberg\n
LOCATION:SH am Goldkindstein Marienberg (32416): Dr.-Wilhelm-Külz-Allee 23\, 09496 Marienberg
CATEGORIES:Saison 2025/26
END:VEVENT
BEGIN:VEVENT
DTSTAMP:20260420T221230Z
DTSTART;TZID=Europe/Berlin:20251213T113000
DTEND;TZID=Europe/Berlin:20251213T123000
SUMMARY:ROL wJE BSV Limbach-O. vs HV Chemnitz (480067)
UID:27a98c7a-e7cb-45dc-9bf7-59a57dd4df27
STATUS:CONFIRMED
LAST-MODIFIED:20251213T164356Z
DESCRIPTION:Regionsoberliga weibl. E-Jugend\nBegegnungs-Nr: 480067\nHeim: BSV Limbach-O.\nGast: HV Chemnitz\nHalle: GSH Limbach-Oberfrohna (32201)\nAdresse: Anna-Esche-Gäßchen 1\, 09212 Limbach-Oberfrohna\n
LOCATION:GSH Limbach-Oberfrohna (32201): Anna-Esche-Gäßchen 1\, 09212 Limbach-Oberfrohna
CATEGORIES:Saison 2025/26
END:VEVENT
BEGIN:VEVENT
DTSTAMP:20260420T221230Z
DTSTART;TZID=Europe/Berlin:20260117T110000
DTEND;TZID=Europe/Berlin:20260117T120000
SUMMARY:ROL wJE SG Zschorlau/Schneeberg vs HV Chemnitz (480081)
UID:43698288-e334-4f66-a712-10107667df7b
STATUS:CONFIRMED
LAST-MODIFIED:20260120T123855Z
DESCRIPTION:Regionsoberliga weibl. E-Jugend\nBegegnungs-Nr: 480081\nHeim: SG Zschorlau/Schneeberg\nGast: HV Chemnitz\nHalle: Silberstrom-Halle Schneeberg (32307)\nAdresse: Keilbergring 20\, 08289 Schneeberg\n
LOCATION:Silberstrom-Halle Schneeberg (32307): Keilbergring 20\, 08289 Schneeberg
CATEGORIES:Saison 2025/26
END:VEVENT
BEGIN:VEVENT
DTSTAMP:20260420T221230Z
DTSTART;TZID=Europe/Berlin:20260117T130000
DTEND;TZID=Europe/Berlin:20260117T140000
SUMMARY:ROL wJE HC Fraureuth vs HV Chemnitz (480083)
UID:ca69fe7a-3e23-45c3-8fd2-28009934cab4
STATUS:CONFIRMED
LAST-MODIFIED:20260120T124203Z
DESCRIPTION:Regionsoberliga weibl. E-Jugend\nBegegnungs-Nr: 480083\nHeim: HC Fraureuth\nGast: HV Chemnitz\nHalle: Silberstrom-Halle Schneeberg (32307)\nAdresse: Keilbergring 20\, 08289 Schneeberg\n
LOCATION:Silberstrom-Halle Schneeberg (32307): Keilbergring 20\, 08289 Schneeberg
CATEGORIES:Saison 2025/26
END:VEVENT
BEGIN:VEVENT
DTSTAMP:20260420T221230Z
DTSTART;TZID=Europe/Berlin:20260308T100000
DTEND;TZID=Europe/Berlin:20260308T110000
SUMMARY:ROL wJE SV 04 Plauen-O. vs HV Chemnitz (480097)
UID:3e0ce227-53fa-487a-83b3-3ab72808b5c0
STATUS:CONFIRMED
LAST-MODIFIED:20260310T112507Z
DESCRIPTION:Regionsoberliga weibl. E-Jugend\nBegegnungs-Nr: 480097\nHeim: SV 04 Plauen-O.\nGast: HV Chemnitz\nHalle: SH Kurt-Helbig Plauen (32701)\nAdresse: Comeniusstr. 15\, 08523 Plauen\n
LOCATION:SH Kurt-Helbig Plauen (32701): Comeniusstr. 15\, 08523 Plauen
CATEGORIES:Saison 2025/26
END:VEVENT
BEGIN:VEVENT
DTSTAMP:20260420T221230Z
DTSTART;TZID=Europe/Berlin:20260308T120000
DTEND;TZID=Europe/Berlin:20260308T130000
SUMMARY:ROL wJE HC Glauchau/Meerane vs HV Chemnitz (480099)
UID:c9748179-6fab-4887-bcaf-2d40cac312c7
STATUS:CONFIRMED
LAST-MODIFIED:20260310T112143Z
DESCRIPTION:Regionsoberliga weibl. E-Jugend\nBegegnungs-Nr: 480099\nHeim: HC Glauchau/Meerane\nGast: HV Chemnitz\nHalle: SH Kurt-Helbig Plauen (32701)\nAdresse: Comeniusstr. 15\, 08523 Plauen\n
LOCATION:SH Kurt-Helbig Plauen (32701): Comeniusstr. 15\, 08523 Plauen
CATEGORIES:Saison 2025/26
END:VEVENT
BEGIN:VEVENT
DTSTAMP:20260420T221230Z
DTSTART;TZID=Europe/Berlin:20260328T130000
DTEND;TZID=Europe/Berlin:20260328T140000
SUMMARY:ROL wJE HSV Marienberg vs HV Chemnitz (480116)
UID:46fc561f-3b4d-4757-9cb7-a4077cef3623
STATUS:CONFIRMED
LAST-MODIFIED:20260409T092820Z
DESCRIPTION:Regionsoberliga weibl. E-Jugend\nBegegnungs-Nr: 480116\nHeim: HSV Marienberg\nGast: HV Chemnitz\nHalle: SH am Goldkindstein Marienberg (32416)\nAdresse: Dr.-Wilhelm-Külz-Allee 23\, 09496 Marienberg\n
LOCATION:SH am Goldkindstein Marienberg (32416): Dr.-Wilhelm-Külz-Allee 23\, 09496 Marienberg
CATEGORIES:Saison 2025/26
END:VEVENT
BEGIN:VEVENT
DTSTAMP:20260420T221230Z
DTSTART;TZID=Europe/Berlin:20260425T100000
DTEND;TZID=Europe/Berlin:20260425T110000
SUMMARY:ROL wJE Rotation Weißenborn vs HV Chemnitz (480125)
UID:4fded3ec-60cd-496f-a4f4-a1c092e4b066
STATUS:CONFIRMED
DESCRIPTION:Regionsoberliga weibl. E-Jugend\nBegegnungs-Nr: 480125\nHeim: Rotation Weißenborn\nGast: HV Chemnitz\nHalle: SH Schoeller Weißenborn (32415)\nAdresse: Lichtenberger Straße 8\, 09600 Weißenborn\n
LOCATION:SH Schoeller Weißenborn (32415): Lichtenberger Straße 8\, 09600 Weißenborn
CATEGORIES:Saison 2025/26
END:VEVENT
BEGIN:VEVENT
DTSTAMP:20260420T221230Z
DTSTART;TZID=Europe/Berlin:20260425T120000
DTEND;TZID=Europe/Berlin:20260425T130000
SUMMARY:ROL wJE HSG Sachsenring vs HV Chemnitz (480127)
UID:1765f6e7-39f3-44cd-a07b-6d2671e2cd31
STATUS:CONFIRMED
DESCRIPTION:Regionsoberliga weibl. E-Jugend\nBegegnungs-Nr: 480127\nHeim: HSG Sachsenring\nGast: HV Chemnitz\nHalle: SH Schoeller Weißenborn (32415)\nAdresse: Lichtenberger Straße 8\, 09600 Weißenborn\n
LOCATION:SH Schoeller Weißenborn (32415): Lichtenberger Straße 8\, 09600 Weißenborn
CATEGORIES:Saison 2025/26
END:VEVENT
BEGIN:VEVENT
DTSTAMP:20260420T221230Z
DTSTART;TZID=Europe/Berlin:20250928T100000
DTEND;TZID=Europe/Berlin:20250928T110000
SUMMARY:ROL wJE BSV Sa. Zwickau vs HV Chemnitz (480017)
UID:d4ab7915-d9c9-47ec-a9bd-37b4f9280f70
STATUS:CONFIRMED
LAST-MODIFIED:20251010T113933Z
DESCRIPTION:Regionsoberliga weibl. E-Jugend\nBegegnungs-Nr: 480017\nHeim: BSV Sa. Zwickau\nGast: HV Chemnitz\nHalle: SH am Käthe Kollwitz Gymnasium (32512)\nAdresse: Lassallestraße 1\, 08058 Zwickau\n
LOCATION:SH am Käthe Kollwitz Gymnasium (32512): Lassallestraße 1\, 08058 Zwickau
CATEGORIES:Saison 2025/26
END:VEVENT
BEGIN:VEVENT
DTSTAMP:20260420T221230Z
DTSTART;TZID=Europe/Berlin:20250928T120000
DTEND;TZID=Europe/Berlin:20250928T130000
SUMMARY:ROL wJE Chemie Zwickau vs HV Chemnitz (480019)
UID:25520ac1-6df9-403c-8c70-2d7d6de99544
STATUS:CONFIRMED
LAST-MODIFIED:20251010T114147Z
DESCRIPTION:Regionsoberliga weibl. E-Jugend\nBegegnungs-Nr: 480019\nHeim: Chemie Zwickau\nGast: HV Chemnitz\nHalle: SH am Käthe Kollwitz Gymnasium (32512)\nAdresse: Lassallestraße 1\, 08058 Zwickau\n
LOCATION:SH am Käthe Kollwitz Gymnasium (32512): Lassallestraße 1\, 08058 Zwickau
CATEGORIES:Saison 2025/26
END:VEVENT
END:VCALENDAR
