BEGIN:VCALENDAR
PRODID:-//nuDatenautomaten//framework iCal4j //DE
VERSION:2.0
CALSCALE:GREGORIAN
BEGIN:VTIMEZONE
TZID:Europe/Berlin
LAST-MODIFIED:20260306T231828Z
TZURL:https://www.tzurl.org/zoneinfo/Europe/Berlin
X-LIC-LOCATION:Europe/Berlin
X-PROLEPTIC-TZNAME:LMT
BEGIN:STANDARD
TZNAME:CET
TZOFFSETFROM:+005328
TZOFFSETTO:+0100
DTSTART:18930401T000000
END:STANDARD
BEGIN:DAYLIGHT
TZNAME:CEST
TZOFFSETFROM:+0100
TZOFFSETTO:+0200
DTSTART:19160430T230000
RDATE:19400401T020000
RDATE:19430329T020000
RDATE:19460414T020000
RDATE:19470406T030000
RDATE:19480418T020000
RDATE:19490410T020000
RDATE:19800406T020000
END:DAYLIGHT
BEGIN:STANDARD
TZNAME:CET
TZOFFSETFROM:+0200
TZOFFSETTO:+0100
DTSTART:19161001T010000
RDATE:19421102T030000
RDATE:19431004T030000
RDATE:19441002T030000
RDATE:19451118T030000
RDATE:19461007T030000
END:STANDARD
BEGIN:DAYLIGHT
TZNAME:CEST
TZOFFSETFROM:+0100
TZOFFSETTO:+0200
DTSTART:19170416T020000
RRULE:FREQ=YEARLY;UNTIL=19180415T010000Z;BYMONTH=4;BYDAY=3MO
END:DAYLIGHT
BEGIN:STANDARD
TZNAME:CET
TZOFFSETFROM:+0200
TZOFFSETTO:+0100
DTSTART:19170917T030000
RRULE:FREQ=YEARLY;UNTIL=19180916T010000Z;BYMONTH=9;BYDAY=3MO
END:STANDARD
BEGIN:DAYLIGHT
TZNAME:CEST
TZOFFSETFROM:+0100
TZOFFSETTO:+0200
DTSTART:19440403T020000
RRULE:FREQ=YEARLY;UNTIL=19450402T010000Z;BYMONTH=4;BYDAY=1MO
END:DAYLIGHT
BEGIN:DAYLIGHT
TZNAME:CEMT
TZOFFSETFROM:+0200
TZOFFSETTO:+0300
DTSTART:19450524T020000
RDATE:19470511T030000
END:DAYLIGHT
BEGIN:DAYLIGHT
TZNAME:CEST
TZOFFSETFROM:+0300
TZOFFSETTO:+0200
DTSTART:19450924T030000
RDATE:19470629T030000
END:DAYLIGHT
BEGIN:STANDARD
TZNAME:CET
TZOFFSETFROM:+0100
TZOFFSETTO:+0100
DTSTART:19460101T000000
RDATE:19800101T000000
END:STANDARD
BEGIN:STANDARD
TZNAME:CET
TZOFFSETFROM:+0200
TZOFFSETTO:+0100
DTSTART:19471005T030000
RRULE:FREQ=YEARLY;UNTIL=19491002T010000Z;BYMONTH=10;BYDAY=1SU
END:STANDARD
BEGIN:STANDARD
TZNAME:CET
TZOFFSETFROM:+0200
TZOFFSETTO:+0100
DTSTART:19800928T030000
RRULE:FREQ=YEARLY;UNTIL=19950924T010000Z;BYMONTH=9;BYDAY=-1SU
END:STANDARD
BEGIN:DAYLIGHT
TZNAME:CEST
TZOFFSETFROM:+0100
TZOFFSETTO:+0200
DTSTART:19810329T020000
RRULE:FREQ=YEARLY;BYMONTH=3;BYDAY=-1SU
END:DAYLIGHT
BEGIN:STANDARD
TZNAME:CET
TZOFFSETFROM:+0200
TZOFFSETTO:+0100
DTSTART:19961027T030000
RRULE:FREQ=YEARLY;BYMONTH=10;BYDAY=-1SU
END:STANDARD
END:VTIMEZONE
BEGIN:VEVENT
DTSTAMP:20260421T045627Z
DTSTART;TZID=Europe/Berlin:20250920T120000
DTEND;TZID=Europe/Berlin:20250920T130000
SUMMARY:Regionsliga mEJ B  OSV Zittau vs HV Eibau (12303)
UID:c5f2958b-0700-4700-bb74-a107f30b215d
STATUS:CONFIRMED
LAST-MODIFIED:20250925T110611Z
DESCRIPTION:Regionsliga  mEJ Staffel B\nBegegnungs-Nr: 12303\nHeim: OSV Zittau\nGast: HV Eibau\nHalle: SH Am Kottmar Eibau (34105)\nAdresse: Jahnstr. 20 a\, 02739 Eibau\n
LOCATION:SH Am Kottmar Eibau (34105): Jahnstr. 20 a\, 02739 Eibau
CATEGORIES:Saison 2025/26
END:VEVENT
BEGIN:VEVENT
DTSTAMP:20260421T045627Z
DTSTART;TZID=Europe/Berlin:20251026T093000
DTEND;TZID=Europe/Berlin:20251026T103000
SUMMARY:Regionsliga mEJ B  OSV Zittau vs Lok Schleife (12308)
UID:c8ee1858-5703-4a84-98cf-7e0e592a816e
STATUS:CONFIRMED
LAST-MODIFIED:20251102T150929Z
DESCRIPTION:Regionsliga  mEJ Staffel B\nBegegnungs-Nr: 12308\nHeim: OSV Zittau\nGast: Lok Schleife\nHalle: SH Zittau (34107)\nAdresse: Lisa - Tetzner - Str.\, 02763 Zittau\n
LOCATION:SH Zittau (34107): Lisa - Tetzner - Str.\, 02763 Zittau
CATEGORIES:Saison 2025/26
END:VEVENT
BEGIN:VEVENT
DTSTAMP:20260421T045627Z
DTSTART;TZID=Europe/Berlin:20251116T130000
DTEND;TZID=Europe/Berlin:20251116T140000
SUMMARY:Regionsliga mEJ B  OSV Zittau vs Koweg Görlitz (12317)
UID:1e212264-9965-4f4e-ba35-97c7bf08da44
STATUS:CONFIRMED
LAST-MODIFIED:20251117T154822Z
DESCRIPTION:Regionsliga  mEJ Staffel B\nBegegnungs-Nr: 12317\nHeim: OSV Zittau\nGast: Koweg Görlitz\nHalle: SH Rauschwalde (34301)\nAdresse: Diesterwegplatz 8\, 02827 Görlitz\n
LOCATION:SH Rauschwalde (34301): Diesterwegplatz 8\, 02827 Görlitz
CATEGORIES:Saison 2025/26
END:VEVENT
BEGIN:VEVENT
DTSTAMP:20260421T045627Z
DTSTART;TZID=Europe/Berlin:20251123T125000
DTEND;TZID=Europe/Berlin:20251123T135000
SUMMARY:Regionsliga mEJ B  OSV Zittau vs TBSV Neugersdorf (12323)
UID:a4fec99c-ca94-4d4f-b7bf-ee69b96cbb78
STATUS:CONFIRMED
LAST-MODIFIED:20251209T153307Z
DESCRIPTION:Regionsliga  mEJ Staffel B\nBegegnungs-Nr: 12323\nHeim: OSV Zittau\nGast: TBSV Neugersdorf\nHalle: Sporthalle \"Pließnitztal\" Bernstadt (34108)\nAdresse: Am Pließnitztal 3\, 02748 Bernstadt a.d. Eigen OT Kunnersdorf\n
LOCATION:Sporthalle \"Pließnitztal\" Bernstadt (34108): Am Pließnitztal 3\, 02748 Bernstadt a.d. Eigen OT Kunnersdorf
CATEGORIES:Saison 2025/26
END:VEVENT
BEGIN:VEVENT
DTSTAMP:20260421T045627Z
DTSTART;TZID=Europe/Berlin:20251207T105000
DTEND;TZID=Europe/Berlin:20251207T115000
SUMMARY:Regionsliga mEJ B  OSV Zittau vs OHC Bernstadt (12334)
UID:164cac50-96ed-4ec4-9e2f-98fb28d270a2
STATUS:CONFIRMED
LAST-MODIFIED:20251209T154244Z
DESCRIPTION:Regionsliga  mEJ Staffel B\nBegegnungs-Nr: 12334\nHeim: OSV Zittau\nGast: OHC Bernstadt\nHalle: SH Rauschwalde (34301)\nAdresse: Diesterwegplatz 8\, 02827 Görlitz\n
LOCATION:SH Rauschwalde (34301): Diesterwegplatz 8\, 02827 Görlitz
CATEGORIES:Saison 2025/26
END:VEVENT
BEGIN:VEVENT
DTSTAMP:20260421T045627Z
DTSTART;TZID=Europe/Berlin:20251220T124000
DTEND;TZID=Europe/Berlin:20251220T134000
SUMMARY:Regionsliga mEJ B  OSV Zittau vs SG Cunewalde/Sohland (12339)
UID:fe0ee10f-f423-4b8b-89a9-326d68e6d66a
STATUS:CONFIRMED
LAST-MODIFIED:20251221T095808Z
DESCRIPTION:Regionsliga  mEJ Staffel B\nBegegnungs-Nr: 12339\nHeim: OSV Zittau\nGast: SG Cunewalde/Sohland\nHalle: \"Oberland-Sporthalle\" Sohland (34501)\nAdresse: G. - Hauptmann - Str. 4 A\, 02689 Sohland\n
LOCATION:\"Oberland-Sporthalle\" Sohland (34501): G. - Hauptmann - Str. 4 A\, 02689 Sohland
CATEGORIES:Saison 2025/26
END:VEVENT
BEGIN:VEVENT
DTSTAMP:20260421T045627Z
DTSTART;TZID=Europe/Berlin:20260425T104500
DTEND;TZID=Europe/Berlin:20260425T114500
SUMMARY:Regionsliga mEJ C OSV Zittau vs LHV Hoyerswerda (12554)
UID:fec19df0-b165-4b22-8db2-55317df4e175
STATUS:CONFIRMED
DESCRIPTION:Regionsliga  mEJ Staffel C (1-8)\nBegegnungs-Nr: 12554\nHeim: OSV Zittau\nGast: LHV Hoyerswerda\nHalle: SH Rauschwalde (34301)\nAdresse: Diesterwegplatz 8\, 02827 Görlitz\n
LOCATION:SH Rauschwalde (34301): Diesterwegplatz 8\, 02827 Görlitz
CATEGORIES:Saison 2025/26
END:VEVENT
BEGIN:VEVENT
DTSTAMP:20260421T045627Z
DTSTART;TZID=Europe/Berlin:20260416T163000
DTEND;TZID=Europe/Berlin:20260416T173000
SUMMARY:Regionsliga mEJ C OSV Zittau vs HV Eibau (12547)
UID:24555bc6-979c-426c-b2f8-7e93bb827e7d
STATUS:CONFIRMED
LAST-MODIFIED:20260412T081421Z
DESCRIPTION:Regionsliga  mEJ Staffel C (1-8)\nBegegnungs-Nr: 12547\nHeim: OSV Zittau\nGast: HV Eibau\nHalle: SH Am Kottmar Eibau (34105)\nAdresse: Jahnstr. 20 a\, 02739 Eibau\n
LOCATION:SH Am Kottmar Eibau (34105): Jahnstr. 20 a\, 02739 Eibau
CATEGORIES:Saison 2025/26
END:VEVENT
BEGIN:VEVENT
DTSTAMP:20260421T045627Z
DTSTART;TZID=Europe/Berlin:20260314T120000
DTEND;TZID=Europe/Berlin:20260314T130000
SUMMARY:Regionsliga mEJ C OSV Zittau vs HSV 1923 Pulsnitz (12537)
UID:9f2589d8-67c2-4c78-b406-b2ec5c81af60
STATUS:CONFIRMED
LAST-MODIFIED:20260319T190430Z
DESCRIPTION:Regionsliga  mEJ Staffel C (1-8)\nBegegnungs-Nr: 12537\nHeim: OSV Zittau\nGast: HSV 1923 Pulsnitz\nHalle: SH Zittau (34107)\nAdresse: Lisa - Tetzner - Str.\, 02763 Zittau\n
LOCATION:SH Zittau (34107): Lisa - Tetzner - Str.\, 02763 Zittau
CATEGORIES:Saison 2025/26
END:VEVENT
BEGIN:VEVENT
DTSTAMP:20260421T045627Z
DTSTART;TZID=Europe/Berlin:20260301T104500
DTEND;TZID=Europe/Berlin:20260301T114500
SUMMARY:Regionsliga mEJ C OSV Zittau vs Radeberger SV (12530)
UID:248c3e29-7ad7-4c63-b2c5-3d85b95a0ace
STATUS:CONFIRMED
LAST-MODIFIED:20260302T181003Z
DESCRIPTION:Regionsliga  mEJ Staffel C (1-8)\nBegegnungs-Nr: 12530\nHeim: OSV Zittau\nGast: Radeberger SV\nHalle: Sportkomplex Pulsnitz (34208)\nAdresse: Hempelstr. 8\, 01896 Pulsnitz\n
LOCATION:Sportkomplex Pulsnitz (34208): Hempelstr. 8\, 01896 Pulsnitz
CATEGORIES:Saison 2025/26
END:VEVENT
BEGIN:VEVENT
DTSTAMP:20260421T045627Z
DTSTART;TZID=Europe/Berlin:20260125T121000
DTEND;TZID=Europe/Berlin:20260125T131000
SUMMARY:Regionsliga mEJ C OSV Zittau vs Lok Schleife (12516)
UID:12e9d432-5c93-486e-8cde-9e01aef3d111
STATUS:CONFIRMED
LAST-MODIFIED:20260203T161716Z
DESCRIPTION:Regionsliga  mEJ Staffel C (1-8)\nBegegnungs-Nr: 12516\nHeim: OSV Zittau\nGast: Lok Schleife\nHalle: SH Zittau (34107)\nAdresse: Lisa - Tetzner - Str.\, 02763 Zittau\n
LOCATION:SH Zittau (34107): Lisa - Tetzner - Str.\, 02763 Zittau
CATEGORIES:Saison 2025/26
END:VEVENT
BEGIN:VEVENT
DTSTAMP:20260421T045627Z
DTSTART;TZID=Europe/Berlin:20260131T100000
DTEND;TZID=Europe/Berlin:20260131T110000
SUMMARY:Regionsliga mEJ C OSV Zittau vs Koweg Görlitz (12518)
UID:b9438fff-fe5d-421a-ad25-f6758eb21838
STATUS:CONFIRMED
LAST-MODIFIED:20260203T162020Z
DESCRIPTION:Regionsliga  mEJ Staffel C (1-8)\nBegegnungs-Nr: 12518\nHeim: OSV Zittau\nGast: Koweg Görlitz\nHalle: SH Schleife (34402)\nAdresse: Spremberger Straße 29\, 02959 Schleife\n
LOCATION:SH Schleife (34402): Spremberger Straße 29\, 02959 Schleife
CATEGORIES:Saison 2025/26
END:VEVENT
BEGIN:VEVENT
DTSTAMP:20260421T045627Z
DTSTART;TZID=Europe/Berlin:20250920T110000
DTEND;TZID=Europe/Berlin:20250920T120000
SUMMARY:Regionsliga mEJ B  TBSV Neugersdorf vs OSV Zittau (12302)
UID:0f154ecc-5677-4fd1-a448-46c48a829753
STATUS:CONFIRMED
LAST-MODIFIED:20250925T110445Z
DESCRIPTION:Regionsliga  mEJ Staffel B\nBegegnungs-Nr: 12302\nHeim: TBSV Neugersdorf\nGast: OSV Zittau\nHalle: SH Am Kottmar Eibau (34105)\nAdresse: Jahnstr. 20 a\, 02739 Eibau\n
LOCATION:SH Am Kottmar Eibau (34105): Jahnstr. 20 a\, 02739 Eibau
CATEGORIES:Saison 2025/26
END:VEVENT
BEGIN:VEVENT
DTSTAMP:20260421T045627Z
DTSTART;TZID=Europe/Berlin:20251026T121000
DTEND;TZID=Europe/Berlin:20251026T131000
SUMMARY:Regionsliga mEJ B  SG Cunewalde/Sohland vs OSV Zittau (12311)
UID:78c41233-1ca0-4e87-8b2c-dbe6b5c12189
STATUS:CONFIRMED
LAST-MODIFIED:20251102T151724Z
DESCRIPTION:Regionsliga  mEJ Staffel B\nBegegnungs-Nr: 12311\nHeim: SG Cunewalde/Sohland\nGast: OSV Zittau\nHalle: SH Zittau (34107)\nAdresse: Lisa - Tetzner - Str.\, 02763 Zittau\n
LOCATION:SH Zittau (34107): Lisa - Tetzner - Str.\, 02763 Zittau
CATEGORIES:Saison 2025/26
END:VEVENT
BEGIN:VEVENT
DTSTAMP:20260421T045627Z
DTSTART;TZID=Europe/Berlin:20251116T120000
DTEND;TZID=Europe/Berlin:20251116T130000
SUMMARY:Regionsliga mEJ B  HV Eibau vs OSV Zittau (12316)
UID:03762d13-7312-4387-9468-492245e0ebe3
STATUS:CONFIRMED
LAST-MODIFIED:20251117T154721Z
DESCRIPTION:Regionsliga  mEJ Staffel B\nBegegnungs-Nr: 12316\nHeim: HV Eibau\nGast: OSV Zittau\nHalle: SH Rauschwalde (34301)\nAdresse: Diesterwegplatz 8\, 02827 Görlitz\n
LOCATION:SH Rauschwalde (34301): Diesterwegplatz 8\, 02827 Görlitz
CATEGORIES:Saison 2025/26
END:VEVENT
BEGIN:VEVENT
DTSTAMP:20260421T045627Z
DTSTART;TZID=Europe/Berlin:20251123T115000
DTEND;TZID=Europe/Berlin:20251123T125000
SUMMARY:Regionsliga mEJ B  OHC Bernstadt vs OSV Zittau (12325)
UID:a3b29936-6e87-4f48-83ee-49f9798989a5
STATUS:CONFIRMED
LAST-MODIFIED:20251209T153140Z
DESCRIPTION:Regionsliga  mEJ Staffel B\nBegegnungs-Nr: 12325\nHeim: OHC Bernstadt\nGast: OSV Zittau\nHalle: Sporthalle \"Pließnitztal\" Bernstadt (34108)\nAdresse: Am Pließnitztal 3\, 02748 Bernstadt a.d. Eigen OT Kunnersdorf\n
LOCATION:Sporthalle \"Pließnitztal\" Bernstadt (34108): Am Pließnitztal 3\, 02748 Bernstadt a.d. Eigen OT Kunnersdorf
CATEGORIES:Saison 2025/26
END:VEVENT
BEGIN:VEVENT
DTSTAMP:20260421T045627Z
DTSTART;TZID=Europe/Berlin:20251207T090000
DTEND;TZID=Europe/Berlin:20251207T100000
SUMMARY:Regionsliga mEJ B  Koweg Görlitz vs OSV Zittau (12332)
UID:4453be1d-fafb-4bb1-9aef-c883e4737d06
STATUS:CONFIRMED
LAST-MODIFIED:20251209T154052Z
DESCRIPTION:Regionsliga  mEJ Staffel B\nBegegnungs-Nr: 12332\nHeim: Koweg Görlitz\nGast: OSV Zittau\nHalle: SH Rauschwalde (34301)\nAdresse: Diesterwegplatz 8\, 02827 Görlitz\n
LOCATION:SH Rauschwalde (34301): Diesterwegplatz 8\, 02827 Görlitz
CATEGORIES:Saison 2025/26
END:VEVENT
BEGIN:VEVENT
DTSTAMP:20260421T045627Z
DTSTART;TZID=Europe/Berlin:20251220T105000
DTEND;TZID=Europe/Berlin:20251220T115000
SUMMARY:Regionsliga mEJ B  Lok Schleife vs OSV Zittau (12337)
UID:c14ce3a6-3776-4a92-aaec-6603f6ef33c2
STATUS:CONFIRMED
LAST-MODIFIED:20251221T095605Z
DESCRIPTION:Regionsliga  mEJ Staffel B\nBegegnungs-Nr: 12337\nHeim: Lok Schleife\nGast: OSV Zittau\nHalle: \"Oberland-Sporthalle\" Sohland (34501)\nAdresse: G. - Hauptmann - Str. 4 A\, 02689 Sohland\n
LOCATION:\"Oberland-Sporthalle\" Sohland (34501): G. - Hauptmann - Str. 4 A\, 02689 Sohland
CATEGORIES:Saison 2025/26
END:VEVENT
BEGIN:VEVENT
DTSTAMP:20260421T045627Z
DTSTART;TZID=Europe/Berlin:20260425T114500
DTEND;TZID=Europe/Berlin:20260425T124500
SUMMARY:Regionsliga mEJ C HVH Kamenz vs OSV Zittau (12555)
UID:78a01ebe-f8ef-469c-8ab9-8103008f9f88
STATUS:CONFIRMED
DESCRIPTION:Regionsliga  mEJ Staffel C (1-8)\nBegegnungs-Nr: 12555\nHeim: HVH Kamenz\nGast: OSV Zittau\nHalle: SH Rauschwalde (34301)\nAdresse: Diesterwegplatz 8\, 02827 Görlitz\n
LOCATION:SH Rauschwalde (34301): Diesterwegplatz 8\, 02827 Görlitz
CATEGORIES:Saison 2025/26
END:VEVENT
BEGIN:VEVENT
DTSTAMP:20260421T045627Z
DTSTART;TZID=Europe/Berlin:20260314T144000
DTEND;TZID=Europe/Berlin:20260314T154000
SUMMARY:Regionsliga mEJ C Radeberger SV vs OSV Zittau (12540)
UID:ecd8eb72-3afe-43e5-885f-633972cd41b7
STATUS:CONFIRMED
LAST-MODIFIED:20260326T180350Z
DESCRIPTION:Regionsliga  mEJ Staffel C (1-8)\nBegegnungs-Nr: 12540\nHeim: Radeberger SV\nGast: OSV Zittau\nHalle: SH Zittau (34107)\nAdresse: Lisa - Tetzner - Str.\, 02763 Zittau\n
LOCATION:SH Zittau (34107): Lisa - Tetzner - Str.\, 02763 Zittau
CATEGORIES:Saison 2025/26
END:VEVENT
BEGIN:VEVENT
DTSTAMP:20260421T045627Z
DTSTART;TZID=Europe/Berlin:20260301T124500
DTEND;TZID=Europe/Berlin:20260301T134500
SUMMARY:Regionsliga mEJ C HSV 1923 Pulsnitz vs OSV Zittau (12532)
UID:b54e7428-da35-4a09-9123-dfdb4960421b
STATUS:CONFIRMED
LAST-MODIFIED:20260302T181255Z
DESCRIPTION:Regionsliga  mEJ Staffel C (1-8)\nBegegnungs-Nr: 12532\nHeim: HSV 1923 Pulsnitz\nGast: OSV Zittau\nHalle: Sportkomplex Pulsnitz (34208)\nAdresse: Hempelstr. 8\, 01896 Pulsnitz\n
LOCATION:Sportkomplex Pulsnitz (34208): Hempelstr. 8\, 01896 Pulsnitz
CATEGORIES:Saison 2025/26
END:VEVENT
BEGIN:VEVENT
DTSTAMP:20260421T045627Z
DTSTART;TZID=Europe/Berlin:20260125T093000
DTEND;TZID=Europe/Berlin:20260125T103000
SUMMARY:Regionsliga mEJ C HV Eibau vs OSV Zittau (12513)
UID:858300ca-ad38-4cca-ba1c-2cd3c9bd74e6
STATUS:CONFIRMED
LAST-MODIFIED:20260203T161100Z
DESCRIPTION:Regionsliga  mEJ Staffel C (1-8)\nBegegnungs-Nr: 12513\nHeim: HV Eibau\nGast: OSV Zittau\nHalle: SH Zittau (34107)\nAdresse: Lisa - Tetzner - Str.\, 02763 Zittau\n
LOCATION:SH Zittau (34107): Lisa - Tetzner - Str.\, 02763 Zittau
CATEGORIES:Saison 2025/26
END:VEVENT
BEGIN:VEVENT
DTSTAMP:20260421T045627Z
DTSTART;TZID=Europe/Berlin:20260110T120000
DTEND;TZID=Europe/Berlin:20260110T130000
SUMMARY:Regionsliga mEJ C LHV Hoyerswerda vs OSV Zittau (12506)
UID:1e740a19-7189-4eea-a228-785dda1ee23d
STATUS:CONFIRMED
LAST-MODIFIED:20260115T192250Z
DESCRIPTION:Regionsliga  mEJ Staffel C (1-8)\nBegegnungs-Nr: 12506\nHeim: LHV Hoyerswerda\nGast: OSV Zittau\nHalle: SH Rauschwalde (34301)\nAdresse: Diesterwegplatz 8\, 02827 Görlitz\n
LOCATION:SH Rauschwalde (34301): Diesterwegplatz 8\, 02827 Görlitz
CATEGORIES:Saison 2025/26
END:VEVENT
BEGIN:VEVENT
DTSTAMP:20260421T045627Z
DTSTART;TZID=Europe/Berlin:20260131T120000
DTEND;TZID=Europe/Berlin:20260131T130000
SUMMARY:Regionsliga mEJ C Lok Schleife vs OSV Zittau (12520)
UID:ec1c6305-472c-4239-a555-9394b91d5497
STATUS:CONFIRMED
LAST-MODIFIED:20260203T162134Z
DESCRIPTION:Regionsliga  mEJ Staffel C (1-8)\nBegegnungs-Nr: 12520\nHeim: Lok Schleife\nGast: OSV Zittau\nHalle: SH Schleife (34402)\nAdresse: Spremberger Straße 29\, 02959 Schleife\n
LOCATION:SH Schleife (34402): Spremberger Straße 29\, 02959 Schleife
CATEGORIES:Saison 2025/26
END:VEVENT
BEGIN:VEVENT
DTSTAMP:20260421T045627Z
DTSTART;TZID=Europe/Berlin:20260422T161500
DTEND;TZID=Europe/Berlin:20260422T171500
SUMMARY:Regionsliga mEJ C Koweg Görlitz vs OSV Zittau (12546)
UID:fc36adf8-2ae5-437b-9a7f-e4ff0d65ebb4
STATUS:CONFIRMED
LAST-MODIFIED:20260412T081319Z
DESCRIPTION:Regionsliga  mEJ Staffel C (1-8)\nBegegnungs-Nr: 12546\nHeim: Koweg Görlitz\nGast: OSV Zittau\nHalle: SH Rauschwalde (34301)\nAdresse: Diesterwegplatz 8\, 02827 Görlitz\n
LOCATION:SH Rauschwalde (34301): Diesterwegplatz 8\, 02827 Görlitz
CATEGORIES:Saison 2025/26
END:VEVENT
END:VCALENDAR
