BEGIN:VCALENDAR
PRODID:-//nuDatenautomaten//framework iCal4j //DE
VERSION:2.0
CALSCALE:GREGORIAN
BEGIN:VTIMEZONE
TZID:Europe/Berlin
LAST-MODIFIED:20260306T231828Z
TZURL:https://www.tzurl.org/zoneinfo/Europe/Berlin
X-LIC-LOCATION:Europe/Berlin
X-PROLEPTIC-TZNAME:LMT
BEGIN:STANDARD
TZNAME:CET
TZOFFSETFROM:+005328
TZOFFSETTO:+0100
DTSTART:18930401T000000
END:STANDARD
BEGIN:DAYLIGHT
TZNAME:CEST
TZOFFSETFROM:+0100
TZOFFSETTO:+0200
DTSTART:19160430T230000
RDATE:19400401T020000
RDATE:19430329T020000
RDATE:19460414T020000
RDATE:19470406T030000
RDATE:19480418T020000
RDATE:19490410T020000
RDATE:19800406T020000
END:DAYLIGHT
BEGIN:STANDARD
TZNAME:CET
TZOFFSETFROM:+0200
TZOFFSETTO:+0100
DTSTART:19161001T010000
RDATE:19421102T030000
RDATE:19431004T030000
RDATE:19441002T030000
RDATE:19451118T030000
RDATE:19461007T030000
END:STANDARD
BEGIN:DAYLIGHT
TZNAME:CEST
TZOFFSETFROM:+0100
TZOFFSETTO:+0200
DTSTART:19170416T020000
RRULE:FREQ=YEARLY;UNTIL=19180415T010000Z;BYMONTH=4;BYDAY=3MO
END:DAYLIGHT
BEGIN:STANDARD
TZNAME:CET
TZOFFSETFROM:+0200
TZOFFSETTO:+0100
DTSTART:19170917T030000
RRULE:FREQ=YEARLY;UNTIL=19180916T010000Z;BYMONTH=9;BYDAY=3MO
END:STANDARD
BEGIN:DAYLIGHT
TZNAME:CEST
TZOFFSETFROM:+0100
TZOFFSETTO:+0200
DTSTART:19440403T020000
RRULE:FREQ=YEARLY;UNTIL=19450402T010000Z;BYMONTH=4;BYDAY=1MO
END:DAYLIGHT
BEGIN:DAYLIGHT
TZNAME:CEMT
TZOFFSETFROM:+0200
TZOFFSETTO:+0300
DTSTART:19450524T020000
RDATE:19470511T030000
END:DAYLIGHT
BEGIN:DAYLIGHT
TZNAME:CEST
TZOFFSETFROM:+0300
TZOFFSETTO:+0200
DTSTART:19450924T030000
RDATE:19470629T030000
END:DAYLIGHT
BEGIN:STANDARD
TZNAME:CET
TZOFFSETFROM:+0100
TZOFFSETTO:+0100
DTSTART:19460101T000000
RDATE:19800101T000000
END:STANDARD
BEGIN:STANDARD
TZNAME:CET
TZOFFSETFROM:+0200
TZOFFSETTO:+0100
DTSTART:19471005T030000
RRULE:FREQ=YEARLY;UNTIL=19491002T010000Z;BYMONTH=10;BYDAY=1SU
END:STANDARD
BEGIN:STANDARD
TZNAME:CET
TZOFFSETFROM:+0200
TZOFFSETTO:+0100
DTSTART:19800928T030000
RRULE:FREQ=YEARLY;UNTIL=19950924T010000Z;BYMONTH=9;BYDAY=-1SU
END:STANDARD
BEGIN:DAYLIGHT
TZNAME:CEST
TZOFFSETFROM:+0100
TZOFFSETTO:+0200
DTSTART:19810329T020000
RRULE:FREQ=YEARLY;BYMONTH=3;BYDAY=-1SU
END:DAYLIGHT
BEGIN:STANDARD
TZNAME:CET
TZOFFSETFROM:+0200
TZOFFSETTO:+0100
DTSTART:19961027T030000
RRULE:FREQ=YEARLY;BYMONTH=10;BYDAY=-1SU
END:STANDARD
END:VTIMEZONE
BEGIN:VEVENT
DTSTAMP:20260422T095241Z
DTSTART;TZID=Europe/Berlin:20260314T143000
DTEND;TZID=Europe/Berlin:20260314T150000
SUMMARY:Regionsliga gFJ B HC Rödertal  II vs Lok Schleife (14333)
UID:c40a7d2a-51dd-4320-949c-b6a92be79d63
STATUS:CONFIRMED
LAST-MODIFIED:20260216T172330Z
DESCRIPTION:Regionsliga  gFJ Staffel B\nBegegnungs-Nr: 14333\nHeim: HC Rödertal  II\nGast: Lok Schleife\nHalle: SH Schleife (34402)\nAdresse: Spremberger Straße 29\, 02959 Schleife\n
LOCATION:SH Schleife (34402): Spremberger Straße 29\, 02959 Schleife
CATEGORIES:Saison 2025/26
END:VEVENT
BEGIN:VEVENT
DTSTAMP:20260422T095241Z
DTSTART;TZID=Europe/Berlin:20260118T114000
DTEND;TZID=Europe/Berlin:20260118T121000
SUMMARY:Regionsliga gFJ B HC Rödertal  II vs Radeberger SV III (14327)
UID:68c53cab-d147-47e4-b7a6-7150ddfe9626
STATUS:CONFIRMED
DESCRIPTION:Regionsliga  gFJ Staffel B\nBegegnungs-Nr: 14327\nHeim: HC Rödertal  II\nGast: Radeberger SV III\nHalle: SH Albert-Schweitzer-Gymnasium Kamenz (34204)\nAdresse: Am Flugplatz\, 01917 Kamenz\, Parkplatz - Macherstraße 142\n
LOCATION:SH Albert-Schweitzer-Gymnasium Kamenz (34204): Am Flugplatz\, 01917 Kamenz\, Parkplatz - Macherstraße 142
CATEGORIES:Saison 2025/26
END:VEVENT
BEGIN:VEVENT
DTSTAMP:20260422T095241Z
DTSTART;TZID=Europe/Berlin:20251214T104000
DTEND;TZID=Europe/Berlin:20251214T111000
SUMMARY:Regionsliga gFJ B HC Rödertal  II vs LHV Hoyerswerda II (14320)
UID:ad8c2a9f-2df4-4c99-855c-49d010accfa9
STATUS:CONFIRMED
DESCRIPTION:Regionsliga  gFJ Staffel B\nBegegnungs-Nr: 14320\nHeim: HC Rödertal  II\nGast: LHV Hoyerswerda II\nHalle: 3-Feld-Halle-BSZ Radeberg (34209)\nAdresse: Robert-Blum-Weg 5\, 01454 Radeberg\n
LOCATION:3-Feld-Halle-BSZ Radeberg (34209): Robert-Blum-Weg 5\, 01454 Radeberg
CATEGORIES:Saison 2025/26
END:VEVENT
BEGIN:VEVENT
DTSTAMP:20260422T095241Z
DTSTART;TZID=Europe/Berlin:20251116T104000
DTEND;TZID=Europe/Berlin:20251116T111000
SUMMARY:Regionsliga gFJ B HC Rödertal  II vs HVH Kamenz II (14310)
UID:94300981-1b3b-401a-98b3-bdb3ef0f99b5
STATUS:CONFIRMED
DESCRIPTION:Regionsliga  gFJ Staffel B\nBegegnungs-Nr: 14310\nHeim: HC Rödertal  II\nGast: HVH Kamenz II\nHalle: 3-Feld-Halle-GY Großröhrsdorf (34514)\nAdresse: Melanchthonstraße 21\, 01900  Großröhrsdorf\n
LOCATION:3-Feld-Halle-GY Großröhrsdorf (34514): Melanchthonstraße 21\, 01900  Großröhrsdorf
CATEGORIES:Saison 2025/26
END:VEVENT
BEGIN:VEVENT
DTSTAMP:20260422T095241Z
DTSTART;TZID=Europe/Berlin:20250927T114500
DTEND;TZID=Europe/Berlin:20250927T121500
SUMMARY:Regionsliga gFJ B HC Rödertal  II vs SV Lok Königsbrück  II (14304)
UID:e83af2e0-48aa-4049-80c9-842e4eb17863
STATUS:CONFIRMED
LAST-MODIFIED:20251022T182819Z
DESCRIPTION:Regionsliga  gFJ Staffel B\nBegegnungs-Nr: 14304\nHeim: HC Rödertal  II\nGast: SV Lok Königsbrück  II\nHalle: 2-Feld-Halle- OS Königsbrück (34513)\nAdresse: An der Schule 3\, 01936 Königsbrück\n
LOCATION:2-Feld-Halle- OS Königsbrück (34513): An der Schule 3\, 01936 Königsbrück
CATEGORIES:Saison 2025/26
END:VEVENT
BEGIN:VEVENT
DTSTAMP:20260422T095241Z
DTSTART;TZID=Europe/Berlin:20260301T114000
DTEND;TZID=Europe/Berlin:20260301T121000
SUMMARY:Regionsliga gFJ B HVH Kamenz II vs HC Rödertal  II (14338)
UID:0502a5ab-c167-44c1-ade5-252afee39e37
STATUS:CONFIRMED
DESCRIPTION:Regionsliga  gFJ Staffel B\nBegegnungs-Nr: 14338\nHeim: HVH Kamenz II\nGast: HC Rödertal  II\nHalle: 3-Feld-Halle-GY Großröhrsdorf (34514)\nAdresse: Melanchthonstraße 21\, 01900  Großröhrsdorf\n
LOCATION:3-Feld-Halle-GY Großröhrsdorf (34514): Melanchthonstraße 21\, 01900  Großröhrsdorf
CATEGORIES:Saison 2025/26
END:VEVENT
BEGIN:VEVENT
DTSTAMP:20260422T095241Z
DTSTART;TZID=Europe/Berlin:20260301T100000
DTEND;TZID=Europe/Berlin:20260301T103000
SUMMARY:Regionsliga gFJ B VfB Bischofswerda vs HC Rödertal  II (14336)
UID:1abd72f4-1c99-4b65-877d-5a0b2eb2ab4c
STATUS:CONFIRMED
DESCRIPTION:Regionsliga  gFJ Staffel B\nBegegnungs-Nr: 14336\nHeim: VfB Bischofswerda\nGast: HC Rödertal  II\nHalle: 3-Feld-Halle-GY Großröhrsdorf (34514)\nAdresse: Melanchthonstraße 21\, 01900  Großröhrsdorf\n
LOCATION:3-Feld-Halle-GY Großröhrsdorf (34514): Melanchthonstraße 21\, 01900  Großröhrsdorf
CATEGORIES:Saison 2025/26
END:VEVENT
BEGIN:VEVENT
DTSTAMP:20260422T095241Z
DTSTART;TZID=Europe/Berlin:20260314T134000
DTEND;TZID=Europe/Berlin:20260314T141000
SUMMARY:Regionsliga gFJ B VfB Bischofswerda vs HC Rödertal  II (14334)
UID:5af9eec9-312f-4965-8b3c-a83d92e7b634
STATUS:CONFIRMED
LAST-MODIFIED:20260216T172505Z
DESCRIPTION:Regionsliga  gFJ Staffel B\nBegegnungs-Nr: 14334\nHeim: VfB Bischofswerda\nGast: HC Rödertal  II\nHalle: SH Schleife (34402)\nAdresse: Spremberger Straße 29\, 02959 Schleife\n
LOCATION:SH Schleife (34402): Spremberger Straße 29\, 02959 Schleife
CATEGORIES:Saison 2025/26
END:VEVENT
BEGIN:VEVENT
DTSTAMP:20260422T095241Z
DTSTART;TZID=Europe/Berlin:20260118T105000
DTEND;TZID=Europe/Berlin:20260118T112000
SUMMARY:Regionsliga gFJ B Lok Schleife vs HC Rödertal  II (14326)
UID:69a28121-03b6-4db0-9266-ecbfc61a9797
STATUS:CONFIRMED
DESCRIPTION:Regionsliga  gFJ Staffel B\nBegegnungs-Nr: 14326\nHeim: Lok Schleife\nGast: HC Rödertal  II\nHalle: SH Albert-Schweitzer-Gymnasium Kamenz (34204)\nAdresse: Am Flugplatz\, 01917 Kamenz\, Parkplatz - Macherstraße 142\n
LOCATION:SH Albert-Schweitzer-Gymnasium Kamenz (34204): Am Flugplatz\, 01917 Kamenz\, Parkplatz - Macherstraße 142
CATEGORIES:Saison 2025/26
END:VEVENT
BEGIN:VEVENT
DTSTAMP:20260422T095241Z
DTSTART;TZID=Europe/Berlin:20251214T095000
DTEND;TZID=Europe/Berlin:20251214T102000
SUMMARY:Regionsliga gFJ B SV Lok Königsbrück  II vs HC Rödertal  II (14319)
UID:87b11547-af74-4f81-b4fd-df09475b1672
STATUS:CONFIRMED
DESCRIPTION:Regionsliga  gFJ Staffel B\nBegegnungs-Nr: 14319\nHeim: SV Lok Königsbrück  II\nGast: HC Rödertal  II\nHalle: 3-Feld-Halle-BSZ Radeberg (34209)\nAdresse: Robert-Blum-Weg 5\, 01454 Radeberg\n
LOCATION:3-Feld-Halle-BSZ Radeberg (34209): Robert-Blum-Weg 5\, 01454 Radeberg
CATEGORIES:Saison 2025/26
END:VEVENT
BEGIN:VEVENT
DTSTAMP:20260422T095241Z
DTSTART;TZID=Europe/Berlin:20251116T090000
DTEND;TZID=Europe/Berlin:20251116T093000
SUMMARY:Regionsliga gFJ B Radeberger SV III vs HC Rödertal  II (14308)
UID:432b31cb-fc5f-478c-8846-b4ea9e16c491
STATUS:CONFIRMED
DESCRIPTION:Regionsliga  gFJ Staffel B\nBegegnungs-Nr: 14308\nHeim: Radeberger SV III\nGast: HC Rödertal  II\nHalle: 3-Feld-Halle-GY Großröhrsdorf (34514)\nAdresse: Melanchthonstraße 21\, 01900  Großröhrsdorf\n
LOCATION:3-Feld-Halle-GY Großröhrsdorf (34514): Melanchthonstraße 21\, 01900  Großröhrsdorf
CATEGORIES:Saison 2025/26
END:VEVENT
BEGIN:VEVENT
DTSTAMP:20260422T095241Z
DTSTART;TZID=Europe/Berlin:20250927T140000
DTEND;TZID=Europe/Berlin:20250927T143000
SUMMARY:Regionsliga gFJ B LHV Hoyerswerda II vs HC Rödertal  II (14307)
UID:ae8bacc2-b243-4369-a81d-206a28fee08d
STATUS:CONFIRMED
LAST-MODIFIED:20251022T183145Z
DESCRIPTION:Regionsliga  gFJ Staffel B\nBegegnungs-Nr: 14307\nHeim: LHV Hoyerswerda II\nGast: HC Rödertal  II\nHalle: 2-Feld-Halle- OS Königsbrück (34513)\nAdresse: An der Schule 3\, 01936 Königsbrück\n
LOCATION:2-Feld-Halle- OS Königsbrück (34513): An der Schule 3\, 01936 Königsbrück
CATEGORIES:Saison 2025/26
END:VEVENT
END:VCALENDAR
