BEGIN:VCALENDAR
PRODID:-//nuDatenautomaten//framework iCal4j //DE
VERSION:2.0
CALSCALE:GREGORIAN
BEGIN:VTIMEZONE
TZID:Europe/Berlin
LAST-MODIFIED:20260306T231828Z
TZURL:https://www.tzurl.org/zoneinfo/Europe/Berlin
X-LIC-LOCATION:Europe/Berlin
X-PROLEPTIC-TZNAME:LMT
BEGIN:STANDARD
TZNAME:CET
TZOFFSETFROM:+005328
TZOFFSETTO:+0100
DTSTART:18930401T000000
END:STANDARD
BEGIN:DAYLIGHT
TZNAME:CEST
TZOFFSETFROM:+0100
TZOFFSETTO:+0200
DTSTART:19160430T230000
RDATE:19400401T020000
RDATE:19430329T020000
RDATE:19460414T020000
RDATE:19470406T030000
RDATE:19480418T020000
RDATE:19490410T020000
RDATE:19800406T020000
END:DAYLIGHT
BEGIN:STANDARD
TZNAME:CET
TZOFFSETFROM:+0200
TZOFFSETTO:+0100
DTSTART:19161001T010000
RDATE:19421102T030000
RDATE:19431004T030000
RDATE:19441002T030000
RDATE:19451118T030000
RDATE:19461007T030000
END:STANDARD
BEGIN:DAYLIGHT
TZNAME:CEST
TZOFFSETFROM:+0100
TZOFFSETTO:+0200
DTSTART:19170416T020000
RRULE:FREQ=YEARLY;UNTIL=19180415T010000Z;BYMONTH=4;BYDAY=3MO
END:DAYLIGHT
BEGIN:STANDARD
TZNAME:CET
TZOFFSETFROM:+0200
TZOFFSETTO:+0100
DTSTART:19170917T030000
RRULE:FREQ=YEARLY;UNTIL=19180916T010000Z;BYMONTH=9;BYDAY=3MO
END:STANDARD
BEGIN:DAYLIGHT
TZNAME:CEST
TZOFFSETFROM:+0100
TZOFFSETTO:+0200
DTSTART:19440403T020000
RRULE:FREQ=YEARLY;UNTIL=19450402T010000Z;BYMONTH=4;BYDAY=1MO
END:DAYLIGHT
BEGIN:DAYLIGHT
TZNAME:CEMT
TZOFFSETFROM:+0200
TZOFFSETTO:+0300
DTSTART:19450524T020000
RDATE:19470511T030000
END:DAYLIGHT
BEGIN:DAYLIGHT
TZNAME:CEST
TZOFFSETFROM:+0300
TZOFFSETTO:+0200
DTSTART:19450924T030000
RDATE:19470629T030000
END:DAYLIGHT
BEGIN:STANDARD
TZNAME:CET
TZOFFSETFROM:+0100
TZOFFSETTO:+0100
DTSTART:19460101T000000
RDATE:19800101T000000
END:STANDARD
BEGIN:STANDARD
TZNAME:CET
TZOFFSETFROM:+0200
TZOFFSETTO:+0100
DTSTART:19471005T030000
RRULE:FREQ=YEARLY;UNTIL=19491002T010000Z;BYMONTH=10;BYDAY=1SU
END:STANDARD
BEGIN:STANDARD
TZNAME:CET
TZOFFSETFROM:+0200
TZOFFSETTO:+0100
DTSTART:19800928T030000
RRULE:FREQ=YEARLY;UNTIL=19950924T010000Z;BYMONTH=9;BYDAY=-1SU
END:STANDARD
BEGIN:DAYLIGHT
TZNAME:CEST
TZOFFSETFROM:+0100
TZOFFSETTO:+0200
DTSTART:19810329T020000
RRULE:FREQ=YEARLY;BYMONTH=3;BYDAY=-1SU
END:DAYLIGHT
BEGIN:STANDARD
TZNAME:CET
TZOFFSETFROM:+0200
TZOFFSETTO:+0100
DTSTART:19961027T030000
RRULE:FREQ=YEARLY;BYMONTH=10;BYDAY=-1SU
END:STANDARD
END:VTIMEZONE
BEGIN:VEVENT
DTSTAMP:20260421T142123Z
DTSTART;TZID=Europe/Berlin:20250927T150000
DTEND;TZID=Europe/Berlin:20250927T160000
SUMMARY:ROL wJB West SG HSC Chemnitz vs Sachsen 90 Werdau (421010)
UID:24addb0c-9de8-4fa4-bc5d-d8197915ec89
STATUS:CONFIRMED
LAST-MODIFIED:20251015T093153Z
DESCRIPTION:Regionsoberliga weibliche B-Jugend\nBegegnungs-Nr: 421010\nHeim: SG HSC Chemnitz\nGast: Sachsen 90 Werdau\nHalle: SH Chemnitzer PSV (32108)\nAdresse: Forststraße 9\, 09130 Chemnitz\n
LOCATION:SH Chemnitzer PSV (32108): Forststraße 9\, 09130 Chemnitz
CATEGORIES:Saison 2025/26
END:VEVENT
BEGIN:VEVENT
DTSTAMP:20260421T142123Z
DTSTART;TZID=Europe/Berlin:20251101T130000
DTEND;TZID=Europe/Berlin:20251101T140000
SUMMARY:ROL wJB West SG HSC Chemnitz vs Fortschritt Mylau-Reichenb. (421014)
UID:adaa19fb-21a4-4e6b-b97d-5f9dadba36b6
STATUS:CONFIRMED
LAST-MODIFIED:20251110T095116Z
DESCRIPTION:Regionsoberliga weibliche B-Jugend\nBegegnungs-Nr: 421014\nHeim: SG HSC Chemnitz\nGast: Fortschritt Mylau-Reichenb.\nHalle: SH Chemnitzer PSV (32108)\nAdresse: Forststraße 9\, 09130 Chemnitz\n
LOCATION:SH Chemnitzer PSV (32108): Forststraße 9\, 09130 Chemnitz
CATEGORIES:Saison 2025/26
END:VEVENT
BEGIN:VEVENT
DTSTAMP:20260421T142123Z
DTSTART;TZID=Europe/Berlin:20251109T150000
DTEND;TZID=Europe/Berlin:20251109T160000
SUMMARY:ROL wJB West SG HSC Chemnitz vs SV 04 Plauen-O. (421018)
UID:90a3ca23-bbda-4399-8705-4f37b23af9c3
STATUS:CONFIRMED
LAST-MODIFIED:20251110T095458Z
DESCRIPTION:Regionsoberliga weibliche B-Jugend\nBegegnungs-Nr: 421018\nHeim: SG HSC Chemnitz\nGast: SV 04 Plauen-O.\nHalle: SH Chemnitzer PSV (32108)\nAdresse: Forststraße 9\, 09130 Chemnitz\n
LOCATION:SH Chemnitzer PSV (32108): Forststraße 9\, 09130 Chemnitz
CATEGORIES:Saison 2025/26
END:VEVENT
BEGIN:VEVENT
DTSTAMP:20260421T142123Z
DTSTART;TZID=Europe/Berlin:20260118T130000
DTEND;TZID=Europe/Berlin:20260118T140000
SUMMARY:ROL wJB West SG HSC Chemnitz vs HC Annaberg-B. (421023)
UID:6a05a7c6-6298-407a-8f52-e4110b0e38e3
STATUS:CONFIRMED
LAST-MODIFIED:20260122T131014Z
DESCRIPTION:Regionsoberliga weibliche B-Jugend\nBegegnungs-Nr: 421023\nHeim: SG HSC Chemnitz\nGast: HC Annaberg-B.\nHalle: SH Chemnitzer PSV (32108)\nAdresse: Forststraße 9\, 09130 Chemnitz\n
LOCATION:SH Chemnitzer PSV (32108): Forststraße 9\, 09130 Chemnitz
CATEGORIES:Saison 2025/26
END:VEVENT
BEGIN:VEVENT
DTSTAMP:20260421T142123Z
DTSTART;TZID=Europe/Berlin:20250831T130000
DTEND;TZID=Europe/Berlin:20250831T140000
SUMMARY:ROL wJB West SG HSC Chemnitz vs SG Raschau-Beierfeld (421001)
UID:7ab02f67-f828-4ca1-b23e-d6d8e0385567
STATUS:CONFIRMED
LAST-MODIFIED:20250831T205526Z
DESCRIPTION:Regionsoberliga weibliche B-Jugend\nBegegnungs-Nr: 421001\nHeim: SG HSC Chemnitz\nGast: SG Raschau-Beierfeld\nHalle: SH Chemnitzer PSV (32108)\nAdresse: Forststraße 9\, 09130 Chemnitz\n
LOCATION:SH Chemnitzer PSV (32108): Forststraße 9\, 09130 Chemnitz
CATEGORIES:Saison 2025/26
END:VEVENT
BEGIN:VEVENT
DTSTAMP:20260421T142123Z
DTSTART;TZID=Europe/Berlin:20260322T170000
DTEND;TZID=Europe/Berlin:20260322T180000
SUMMARY:ROL wJB Platzierungsr. 7-12 SG HSC Chemnitz vs BSV Limbach-O. (424006)
UID:e6a1fa4b-1fd7-45ad-aa6a-9b1e0e06388d
STATUS:CONFIRMED
LAST-MODIFIED:20260323T113205Z
DESCRIPTION:Regionsoberliga weibliche B-Jugend\nBegegnungs-Nr: 424006\nHeim: SG HSC Chemnitz\nGast: BSV Limbach-O.\nHalle: SH Chemnitzer PSV (32108)\nAdresse: Forststraße 9\, 09130 Chemnitz\n
LOCATION:SH Chemnitzer PSV (32108): Forststraße 9\, 09130 Chemnitz
CATEGORIES:Saison 2025/26
END:VEVENT
BEGIN:VEVENT
DTSTAMP:20260421T142123Z
DTSTART;TZID=Europe/Berlin:20251101T130000
DTEND;TZID=Europe/Berlin:20251101T140000
SUMMARY:ROL wJB Platzierungsr. 7-12 SG HSC Chemnitz vs Fortschritt Mylau-Reichenb. (421014)
UID:4e57e778-d4d8-4087-a2b8-a96bc5fa0ec7
STATUS:CONFIRMED
LAST-MODIFIED:20251110T095116Z
DESCRIPTION:Regionsoberliga weibliche B-Jugend\nBegegnungs-Nr: 421014\nHeim: SG HSC Chemnitz\nGast: Fortschritt Mylau-Reichenb.\n
LOCATION:
CATEGORIES:Saison 2025/26
END:VEVENT
BEGIN:VEVENT
DTSTAMP:20260421T142123Z
DTSTART;TZID=Europe/Berlin:20260118T130000
DTEND;TZID=Europe/Berlin:20260118T140000
SUMMARY:ROL wJB Platzierungsr. 7-12 SG HSC Chemnitz vs HC Annaberg-B. (421023)
UID:00a4c037-8b35-4476-8404-528a7a0792b0
STATUS:CONFIRMED
LAST-MODIFIED:20260122T131014Z
DESCRIPTION:Regionsoberliga weibliche B-Jugend\nBegegnungs-Nr: 421023\nHeim: SG HSC Chemnitz\nGast: HC Annaberg-B.\n
LOCATION:
CATEGORIES:Saison 2025/26
END:VEVENT
BEGIN:VEVENT
DTSTAMP:20260421T142123Z
DTSTART;TZID=Europe/Berlin:20260419T170000
DTEND;TZID=Europe/Berlin:20260419T180000
SUMMARY:ROL wJB Platzierungsr. 7-12 SG HSC Chemnitz vs HSG Sachsenring (424010)
UID:7c7f0961-d74d-4988-9a32-5bec3614a144
STATUS:CONFIRMED
LAST-MODIFIED:20260419T180742Z
DESCRIPTION:Regionsoberliga weibliche B-Jugend\nBegegnungs-Nr: 424010\nHeim: SG HSC Chemnitz\nGast: HSG Sachsenring\nHalle: SH Chemnitzer PSV (32108)\nAdresse: Forststraße 9\, 09130 Chemnitz\n
LOCATION:SH Chemnitzer PSV (32108): Forststraße 9\, 09130 Chemnitz
CATEGORIES:Saison 2025/26
END:VEVENT
BEGIN:VEVENT
DTSTAMP:20260421T142123Z
DTSTART;TZID=Europe/Berlin:20260208T140000
DTEND;TZID=Europe/Berlin:20260208T150000
SUMMARY:ROL wJB West Fortschritt Mylau-Reichenb. vs SG HSC Chemnitz (421029)
UID:d674d630-9d20-43dd-8a7d-2f3a863cfa24
STATUS:CONFIRMED
LAST-MODIFIED:20260211T145033Z
DESCRIPTION:Regionsoberliga weibliche B-Jugend\nBegegnungs-Nr: 421029\nHeim: Fortschritt Mylau-Reichenb.\nGast: SG HSC Chemnitz\nHalle: SH Reichenbach/V. (32709)\nAdresse: Cunsdorfer Straße 25\, 08468 Reichenbach/V.\n
LOCATION:SH Reichenbach/V. (32709): Cunsdorfer Straße 25\, 08468 Reichenbach/V.
CATEGORIES:Saison 2025/26
END:VEVENT
BEGIN:VEVENT
DTSTAMP:20260421T142123Z
DTSTART;TZID=Europe/Berlin:20251122T150000
DTEND;TZID=Europe/Berlin:20251122T160000
SUMMARY:ROL wJB West SG Raschau-Beierfeld vs SG HSC Chemnitz (421016)
UID:2ba93253-d4fe-4026-a397-67aba72a0de8
STATUS:CONFIRMED
LAST-MODIFIED:20251124T103102Z
DESCRIPTION:Regionsoberliga weibliche B-Jugend\nBegegnungs-Nr: 421016\nHeim: SG Raschau-Beierfeld\nGast: SG HSC Chemnitz\nHalle: Spiegelwaldhalle Beierfeld (32309)\nAdresse: Str. des Sports\, 08340 Beierfeld\n
LOCATION:Spiegelwaldhalle Beierfeld (32309): Str. des Sports\, 08340 Beierfeld
CATEGORIES:Saison 2025/26
END:VEVENT
BEGIN:VEVENT
DTSTAMP:20260421T142123Z
DTSTART;TZID=Europe/Berlin:20260110T120000
DTEND;TZID=Europe/Berlin:20260110T130000
SUMMARY:ROL wJB West Sachsen 90 Werdau vs SG HSC Chemnitz (421025)
UID:c9bb56ac-61c6-49e5-9e96-2ba6e444f72e
STATUS:CONFIRMED
LAST-MODIFIED:20260112T095149Z
DESCRIPTION:Regionsoberliga weibliche B-Jugend\nBegegnungs-Nr: 421025\nHeim: Sachsen 90 Werdau\nGast: SG HSC Chemnitz\nHalle: SH Werdau (32508)\nAdresse: Alexander-von-Humboldt-Str. 4\, 08412 Werdau\n
LOCATION:SH Werdau (32508): Alexander-von-Humboldt-Str. 4\, 08412 Werdau
CATEGORIES:Saison 2025/26
END:VEVENT
BEGIN:VEVENT
DTSTAMP:20260421T142123Z
DTSTART;TZID=Europe/Berlin:20250906T120000
DTEND;TZID=Europe/Berlin:20250906T130000
SUMMARY:ROL wJB West SV 04 Plauen-O. vs SG HSC Chemnitz (421003)
UID:643cd6b8-38dc-4262-bc4f-a179a71c509d
STATUS:CONFIRMED
LAST-MODIFIED:20250908T211942Z
DESCRIPTION:Regionsoberliga weibliche B-Jugend\nBegegnungs-Nr: 421003\nHeim: SV 04 Plauen-O.\nGast: SG HSC Chemnitz\nHalle: SH Kurt-Helbig Plauen (32701)\nAdresse: Comeniusstr. 15\, 08523 Plauen\n
LOCATION:SH Kurt-Helbig Plauen (32701): Comeniusstr. 15\, 08523 Plauen
CATEGORIES:Saison 2025/26
END:VEVENT
BEGIN:VEVENT
DTSTAMP:20260421T142123Z
DTSTART;TZID=Europe/Berlin:20250920T120000
DTEND;TZID=Europe/Berlin:20250920T130000
SUMMARY:ROL wJB West HC Annaberg-B. vs SG HSC Chemnitz (421008)
UID:91d282cd-d69c-469b-9e30-c360e24e6df4
STATUS:CONFIRMED
LAST-MODIFIED:20250924T124749Z
DESCRIPTION:Regionsoberliga weibliche B-Jugend\nBegegnungs-Nr: 421008\nHeim: HC Annaberg-B.\nGast: SG HSC Chemnitz\nHalle: Silberlandhalle Annaberg-Buchholz (32601)\nAdresse: Talstraße 8-10\, 09456 Annaberg-Buchholz\n
LOCATION:Silberlandhalle Annaberg-Buchholz (32601): Talstraße 8-10\, 09456 Annaberg-Buchholz
CATEGORIES:Saison 2025/26
END:VEVENT
BEGIN:VEVENT
DTSTAMP:20260421T142123Z
DTSTART;TZID=Europe/Berlin:20260308T123000
DTEND;TZID=Europe/Berlin:20260308T133000
SUMMARY:ROL wJB Platzierungsr. 7-12 HSG Sachsenring vs SG HSC Chemnitz (424002)
UID:79a10d8a-d3e5-4483-b44f-3df23753d910
STATUS:CONFIRMED
LAST-MODIFIED:20260312T094757Z
DESCRIPTION:Regionsoberliga weibliche B-Jugend\nBegegnungs-Nr: 424002\nHeim: HSG Sachsenring\nGast: SG HSC Chemnitz\nHalle: SH Lichtenstein (32223)\nAdresse: Innere Zwickauer Straße 5\, 09350 Lichtenstein\n
LOCATION:SH Lichtenstein (32223): Innere Zwickauer Straße 5\, 09350 Lichtenstein
CATEGORIES:Saison 2025/26
END:VEVENT
BEGIN:VEVENT
DTSTAMP:20260421T142123Z
DTSTART;TZID=Europe/Berlin:20260208T140000
DTEND;TZID=Europe/Berlin:20260208T150000
SUMMARY:ROL wJB Platzierungsr. 7-12 Fortschritt Mylau-Reichenb. vs SG HSC Chemnitz (421029)
UID:a2cfb84c-22e6-43a4-bd5d-23d3cec6582a
STATUS:CONFIRMED
LAST-MODIFIED:20260211T145033Z
DESCRIPTION:Regionsoberliga weibliche B-Jugend\nBegegnungs-Nr: 421029\nHeim: Fortschritt Mylau-Reichenb.\nGast: SG HSC Chemnitz\n
LOCATION:
CATEGORIES:Saison 2025/26
END:VEVENT
BEGIN:VEVENT
DTSTAMP:20260421T142123Z
DTSTART;TZID=Europe/Berlin:20250920T120000
DTEND;TZID=Europe/Berlin:20250920T130000
SUMMARY:ROL wJB Platzierungsr. 7-12 HC Annaberg-B. vs SG HSC Chemnitz (421008)
UID:3b632d68-3c4c-408f-8cf2-6c42ada7e8a1
STATUS:CONFIRMED
LAST-MODIFIED:20250924T124749Z
DESCRIPTION:Regionsoberliga weibliche B-Jugend\nBegegnungs-Nr: 421008\nHeim: HC Annaberg-B.\nGast: SG HSC Chemnitz\n
LOCATION:
CATEGORIES:Saison 2025/26
END:VEVENT
BEGIN:VEVENT
DTSTAMP:20260421T142123Z
DTSTART;TZID=Europe/Berlin:20260426T123000
DTEND;TZID=Europe/Berlin:20260426T133000
SUMMARY:ROL wJB Platzierungsr. 7-12 BSV Limbach-O. vs SG HSC Chemnitz (424012)
UID:ca717cef-c1ef-44fc-9514-5af6340c5b57
STATUS:CONFIRMED
DESCRIPTION:Regionsoberliga weibliche B-Jugend\nBegegnungs-Nr: 424012\nHeim: BSV Limbach-O.\nGast: SG HSC Chemnitz\nHalle: GSH Limbach-Oberfrohna (32201)\nAdresse: Anna-Esche-Gäßchen 1\, 09212 Limbach-Oberfrohna\n
LOCATION:GSH Limbach-Oberfrohna (32201): Anna-Esche-Gäßchen 1\, 09212 Limbach-Oberfrohna
CATEGORIES:Saison 2025/26
END:VEVENT
END:VCALENDAR
