BEGIN:VCALENDAR
PRODID:-//nuDatenautomaten//framework iCal4j //DE
VERSION:2.0
CALSCALE:GREGORIAN
BEGIN:VTIMEZONE
TZID:Europe/Berlin
LAST-MODIFIED:20260306T231828Z
TZURL:https://www.tzurl.org/zoneinfo/Europe/Berlin
X-LIC-LOCATION:Europe/Berlin
X-PROLEPTIC-TZNAME:LMT
BEGIN:STANDARD
TZNAME:CET
TZOFFSETFROM:+005328
TZOFFSETTO:+0100
DTSTART:18930401T000000
END:STANDARD
BEGIN:DAYLIGHT
TZNAME:CEST
TZOFFSETFROM:+0100
TZOFFSETTO:+0200
DTSTART:19160430T230000
RDATE:19400401T020000
RDATE:19430329T020000
RDATE:19460414T020000
RDATE:19470406T030000
RDATE:19480418T020000
RDATE:19490410T020000
RDATE:19800406T020000
END:DAYLIGHT
BEGIN:STANDARD
TZNAME:CET
TZOFFSETFROM:+0200
TZOFFSETTO:+0100
DTSTART:19161001T010000
RDATE:19421102T030000
RDATE:19431004T030000
RDATE:19441002T030000
RDATE:19451118T030000
RDATE:19461007T030000
END:STANDARD
BEGIN:DAYLIGHT
TZNAME:CEST
TZOFFSETFROM:+0100
TZOFFSETTO:+0200
DTSTART:19170416T020000
RRULE:FREQ=YEARLY;UNTIL=19180415T010000Z;BYMONTH=4;BYDAY=3MO
END:DAYLIGHT
BEGIN:STANDARD
TZNAME:CET
TZOFFSETFROM:+0200
TZOFFSETTO:+0100
DTSTART:19170917T030000
RRULE:FREQ=YEARLY;UNTIL=19180916T010000Z;BYMONTH=9;BYDAY=3MO
END:STANDARD
BEGIN:DAYLIGHT
TZNAME:CEST
TZOFFSETFROM:+0100
TZOFFSETTO:+0200
DTSTART:19440403T020000
RRULE:FREQ=YEARLY;UNTIL=19450402T010000Z;BYMONTH=4;BYDAY=1MO
END:DAYLIGHT
BEGIN:DAYLIGHT
TZNAME:CEMT
TZOFFSETFROM:+0200
TZOFFSETTO:+0300
DTSTART:19450524T020000
RDATE:19470511T030000
END:DAYLIGHT
BEGIN:DAYLIGHT
TZNAME:CEST
TZOFFSETFROM:+0300
TZOFFSETTO:+0200
DTSTART:19450924T030000
RDATE:19470629T030000
END:DAYLIGHT
BEGIN:STANDARD
TZNAME:CET
TZOFFSETFROM:+0100
TZOFFSETTO:+0100
DTSTART:19460101T000000
RDATE:19800101T000000
END:STANDARD
BEGIN:STANDARD
TZNAME:CET
TZOFFSETFROM:+0200
TZOFFSETTO:+0100
DTSTART:19471005T030000
RRULE:FREQ=YEARLY;UNTIL=19491002T010000Z;BYMONTH=10;BYDAY=1SU
END:STANDARD
BEGIN:STANDARD
TZNAME:CET
TZOFFSETFROM:+0200
TZOFFSETTO:+0100
DTSTART:19800928T030000
RRULE:FREQ=YEARLY;UNTIL=19950924T010000Z;BYMONTH=9;BYDAY=-1SU
END:STANDARD
BEGIN:DAYLIGHT
TZNAME:CEST
TZOFFSETFROM:+0100
TZOFFSETTO:+0200
DTSTART:19810329T020000
RRULE:FREQ=YEARLY;BYMONTH=3;BYDAY=-1SU
END:DAYLIGHT
BEGIN:STANDARD
TZNAME:CET
TZOFFSETFROM:+0200
TZOFFSETTO:+0100
DTSTART:19961027T030000
RRULE:FREQ=YEARLY;BYMONTH=10;BYDAY=-1SU
END:STANDARD
END:VTIMEZONE
BEGIN:VEVENT
DTSTAMP:20260424T225117Z
DTSTART;TZID=Europe/Berlin:20250921T114000
DTEND;TZID=Europe/Berlin:20250921T124000
SUMMARY:Regionsoberliga mJC - 2 Turbine Leipzig vs SG MoGoNo Leipzig II (17208)
UID:4f38dc23-cc26-4832-a6ea-002df990f244
STATUS:CONFIRMED
LAST-MODIFIED:20251003T101343Z
DESCRIPTION:Regionsoberliga männliche C-Jugend (2)\nBegegnungs-Nr: 17208\nHeim: Turbine Leipzig\nGast: SG MoGoNo Leipzig II\nHalle: SH Ostwald Gymnasium Leipzig-Lößnig (31105)\nAdresse: Willi-Bredel-Str. 13\, 04279 Leipzig\n
LOCATION:SH Ostwald Gymnasium Leipzig-Lößnig (31105): Willi-Bredel-Str. 13\, 04279 Leipzig
CATEGORIES:Saison 2025/26
END:VEVENT
BEGIN:VEVENT
DTSTAMP:20260424T225117Z
DTSTART;TZID=Europe/Berlin:20251101T140000
DTEND;TZID=Europe/Berlin:20251101T150000
SUMMARY:Regionsoberliga mJC - 2 Turbine Leipzig vs VICTORIA Naunhof (17213)
UID:c3047216-bbff-44aa-bc83-d58ac5a7f2fc
STATUS:CONFIRMED
LAST-MODIFIED:20251104T064421Z
DESCRIPTION:Regionsoberliga männliche C-Jugend (2)\nBegegnungs-Nr: 17213\nHeim: Turbine Leipzig\nGast: VICTORIA Naunhof\nHalle: SH Oberschule Leipzig-Mölkau (31106)\nAdresse: Schulstr. 6\, 04316 Leipzig\n
LOCATION:SH Oberschule Leipzig-Mölkau (31106): Schulstr. 6\, 04316 Leipzig
CATEGORIES:Saison 2025/26
END:VEVENT
BEGIN:VEVENT
DTSTAMP:20260424T225117Z
DTSTART;TZID=Europe/Berlin:20251130T120000
DTEND;TZID=Europe/Berlin:20251130T130000
SUMMARY:Regionsoberliga mJC - 2 Turbine Leipzig vs SG LVB II (17220)
UID:1d717d0d-e9eb-4114-af15-4e95bceb8338
STATUS:CONFIRMED
LAST-MODIFIED:20251201T122350Z
DESCRIPTION:Regionsoberliga männliche C-Jugend (2)\nBegegnungs-Nr: 17220\nHeim: Turbine Leipzig\nGast: SG LVB II\nHalle: SH am Grünen Gleis (31134)\nAdresse: Baumannstraße 13\, 04229 Leipzig\n
LOCATION:SH am Grünen Gleis (31134): Baumannstraße 13\, 04229 Leipzig
CATEGORIES:Saison 2025/26
END:VEVENT
BEGIN:VEVENT
DTSTAMP:20260424T225117Z
DTSTART;TZID=Europe/Berlin:20260329T151500
DTEND;TZID=Europe/Berlin:20260329T161500
SUMMARY:ROL - mJC Meisterrunde Turbine Leipzig vs SG LVB II (17323)
UID:189719d4-d318-49c8-9151-ec6cc8de6b9a
STATUS:CONFIRMED
LAST-MODIFIED:20260330T091704Z
DESCRIPTION:Regionsoberliga männliche C-Jugend (M)\nBegegnungs-Nr: 17323\nHeim: Turbine Leipzig\nGast: SG LVB II\nHalle: SH Ostwald Gymnasium Leipzig-Lößnig (31105)\nAdresse: Willi-Bredel-Str. 13\, 04279 Leipzig\n
LOCATION:SH Ostwald Gymnasium Leipzig-Lößnig (31105): Willi-Bredel-Str. 13\, 04279 Leipzig
CATEGORIES:Saison 2025/26
END:VEVENT
BEGIN:VEVENT
DTSTAMP:20260424T225117Z
DTSTART;TZID=Europe/Berlin:20260321T140000
DTEND;TZID=Europe/Berlin:20260321T150000
SUMMARY:ROL - mJC Meisterrunde Turbine Leipzig vs NHV Concordia Delitzsch (17320)
UID:32cca710-e02f-4322-b4c7-21f69afaf2c4
STATUS:CONFIRMED
LAST-MODIFIED:20260325T173103Z
DESCRIPTION:Regionsoberliga männliche C-Jugend (M)\nBegegnungs-Nr: 17320\nHeim: Turbine Leipzig\nGast: NHV Concordia Delitzsch\nHalle: SH Oberschule Leipzig-Mölkau (31106)\nAdresse: Schulstr. 6\, 04316 Leipzig\n
LOCATION:SH Oberschule Leipzig-Mölkau (31106): Schulstr. 6\, 04316 Leipzig
CATEGORIES:Saison 2025/26
END:VEVENT
BEGIN:VEVENT
DTSTAMP:20260424T225117Z
DTSTART;TZID=Europe/Berlin:20260307T130000
DTEND;TZID=Europe/Berlin:20260307T140000
SUMMARY:ROL - mJC Meisterrunde Turbine Leipzig vs TSG 1861 Taucha (17315)
UID:7aa8e137-e7e3-4379-8cc7-0d3a33b11234
STATUS:CONFIRMED
LAST-MODIFIED:20260310T094311Z
DESCRIPTION:Regionsoberliga männliche C-Jugend (M)\nBegegnungs-Nr: 17315\nHeim: Turbine Leipzig\nGast: TSG 1861 Taucha\nHalle: SH Oberschule Leipzig-Mölkau (31106)\nAdresse: Schulstr. 6\, 04316 Leipzig\n
LOCATION:SH Oberschule Leipzig-Mölkau (31106): Schulstr. 6\, 04316 Leipzig
CATEGORIES:Saison 2025/26
END:VEVENT
BEGIN:VEVENT
DTSTAMP:20260424T225117Z
DTSTART;TZID=Europe/Berlin:20260131T110000
DTEND;TZID=Europe/Berlin:20260131T120000
SUMMARY:ROL - mJC Meisterrunde Turbine Leipzig vs TSV Markkleeberg (17309)
UID:a9127bad-675c-4ac6-9a9e-40fef58ba6df
STATUS:CONFIRMED
LAST-MODIFIED:20260206T182857Z
DESCRIPTION:Regionsoberliga männliche C-Jugend (M)\nBegegnungs-Nr: 17309\nHeim: Turbine Leipzig\nGast: TSV Markkleeberg\nHalle: SH Ostwald Gymnasium Leipzig-Lößnig (31105)\nAdresse: Willi-Bredel-Str. 13\, 04279 Leipzig\n
LOCATION:SH Ostwald Gymnasium Leipzig-Lößnig (31105): Willi-Bredel-Str. 13\, 04279 Leipzig
CATEGORIES:Saison 2025/26
END:VEVENT
BEGIN:VEVENT
DTSTAMP:20260424T225117Z
DTSTART;TZID=Europe/Berlin:20260117T113000
DTEND;TZID=Europe/Berlin:20260117T123000
SUMMARY:ROL - mJC Meisterrunde Turbine Leipzig vs VfB Eilenburg (17306)
UID:239a4f98-df4c-4f24-a8df-65e17ce59fa5
STATUS:CONFIRMED
LAST-MODIFIED:20260121T185841Z
DESCRIPTION:Regionsoberliga männliche C-Jugend (M)\nBegegnungs-Nr: 17306\nHeim: Turbine Leipzig\nGast: VfB Eilenburg\nHalle: SH Oberschule Leipzig-Mölkau (31106)\nAdresse: Schulstr. 6\, 04316 Leipzig\n
LOCATION:SH Oberschule Leipzig-Mölkau (31106): Schulstr. 6\, 04316 Leipzig
CATEGORIES:Saison 2025/26
END:VEVENT
BEGIN:VEVENT
DTSTAMP:20260424T225117Z
DTSTART;TZID=Europe/Berlin:20250907T113000
DTEND;TZID=Europe/Berlin:20250907T123000
SUMMARY:Regionsoberliga mJC - 2 TSV Markkleeberg vs Turbine Leipzig (17203)
UID:9c377bb5-61ad-4119-8f4b-6a2a27bfb682
STATUS:CONFIRMED
LAST-MODIFIED:20250922T143114Z
DESCRIPTION:Regionsoberliga männliche C-Jugend (2)\nBegegnungs-Nr: 17203\nHeim: TSV Markkleeberg\nGast: Turbine Leipzig\nHalle: Peter-Pohlmann-Sportzentrum (31123)\nAdresse: Mehringstraße 6\, 04416 Markkleeberg\n
LOCATION:Peter-Pohlmann-Sportzentrum (31123): Mehringstraße 6\, 04416 Markkleeberg
CATEGORIES:Saison 2025/26
END:VEVENT
BEGIN:VEVENT
DTSTAMP:20260424T225117Z
DTSTART;TZID=Europe/Berlin:20251026T160000
DTEND;TZID=Europe/Berlin:20251026T170000
SUMMARY:Regionsoberliga mJC - 2 TSG 1861 Taucha II vs Turbine Leipzig (17212)
UID:af51bd3d-04b1-4c97-b617-73f51c8e77d0
STATUS:CONFIRMED
LAST-MODIFIED:20251104T064316Z
DESCRIPTION:Regionsoberliga männliche C-Jugend (2)\nBegegnungs-Nr: 17212\nHeim: TSG 1861 Taucha II\nGast: Turbine Leipzig\nHalle: Mehrzweckhalle Taucha (31112)\nAdresse: Geschwister-Scholl-Str. 6\, 04425 Taucha\n
LOCATION:Mehrzweckhalle Taucha (31112): Geschwister-Scholl-Str. 6\, 04425 Taucha
CATEGORIES:Saison 2025/26
END:VEVENT
BEGIN:VEVENT
DTSTAMP:20260424T225117Z
DTSTART;TZID=Europe/Berlin:20251108T110000
DTEND;TZID=Europe/Berlin:20251108T120000
SUMMARY:Regionsoberliga mJC - 2 TuS Leipzig-Mockau vs Turbine Leipzig (17217)
UID:2d1cb3c3-3a51-4725-9652-b3b37de2149e
STATUS:CONFIRMED
LAST-MODIFIED:20251110T153339Z
DESCRIPTION:Regionsoberliga männliche C-Jugend (2)\nBegegnungs-Nr: 17217\nHeim: TuS Leipzig-Mockau\nGast: Turbine Leipzig\nHalle: Sporthalle Marie-Curie-Gymnasium Wiederitzsch (31137)\nAdresse: Messeallee 19\, 04158 Leipzig (OT Wiederitzsch)\n
LOCATION:Sporthalle Marie-Curie-Gymnasium Wiederitzsch (31137): Messeallee 19\, 04158 Leipzig (OT Wiederitzsch)
CATEGORIES:Saison 2025/26
END:VEVENT
BEGIN:VEVENT
DTSTAMP:20260424T225117Z
DTSTART;TZID=Europe/Berlin:20260503T130000
DTEND;TZID=Europe/Berlin:20260503T140000
SUMMARY:ROL - mJC Meisterrunde TSV Markkleeberg vs Turbine Leipzig (17329)
UID:fc54cd5f-19b9-4b76-9757-66ee7ac37697
STATUS:CONFIRMED
DESCRIPTION:Regionsoberliga männliche C-Jugend (M)\nBegegnungs-Nr: 17329\nHeim: TSV Markkleeberg\nGast: Turbine Leipzig\nHalle: Neuseenlandhalle (31111)\nAdresse: Städtelner Str. 13\, 04416 Markkleeberg\n
LOCATION:Neuseenlandhalle (31111): Städtelner Str. 13\, 04416 Markkleeberg
CATEGORIES:Saison 2025/26
END:VEVENT
BEGIN:VEVENT
DTSTAMP:20260424T225117Z
DTSTART;TZID=Europe/Berlin:20260419T110000
DTEND;TZID=Europe/Berlin:20260419T120000
SUMMARY:ROL - mJC Meisterrunde SG LVB II vs Turbine Leipzig (17325)
UID:0733c704-5d1c-4ecf-a152-6b9234ed919f
STATUS:CONFIRMED
LAST-MODIFIED:20260424T033855Z
DESCRIPTION:Regionsoberliga männliche C-Jugend (M)\nBegegnungs-Nr: 17325\nHeim: SG LVB II\nGast: Turbine Leipzig\nHalle: SH Gymnasium an der Telemannstraße  (31109)\nAdresse: Telemannstraße 9\, 04107 Leipzig\n
LOCATION:SH Gymnasium an der Telemannstraße  (31109): Telemannstraße 9\, 04107 Leipzig
CATEGORIES:Saison 2025/26
END:VEVENT
BEGIN:VEVENT
DTSTAMP:20260424T225117Z
DTSTART;TZID=Europe/Berlin:20260314T150000
DTEND;TZID=Europe/Berlin:20260314T160000
SUMMARY:ROL - mJC Meisterrunde TSG 1861 Taucha vs Turbine Leipzig (17316)
UID:f40f854d-9731-483b-9b28-56b690fea66c
STATUS:CONFIRMED
LAST-MODIFIED:20260318T120109Z
DESCRIPTION:Regionsoberliga männliche C-Jugend (M)\nBegegnungs-Nr: 17316\nHeim: TSG 1861 Taucha\nGast: Turbine Leipzig\nHalle: Mehrzweckhalle Taucha (31112)\nAdresse: Geschwister-Scholl-Str. 6\, 04425 Taucha\n
LOCATION:Mehrzweckhalle Taucha (31112): Geschwister-Scholl-Str. 6\, 04425 Taucha
CATEGORIES:Saison 2025/26
END:VEVENT
BEGIN:VEVENT
DTSTAMP:20260424T225117Z
DTSTART;TZID=Europe/Berlin:20260301T090000
DTEND;TZID=Europe/Berlin:20260301T100000
SUMMARY:ROL - mJC Meisterrunde NHV Concordia Delitzsch vs Turbine Leipzig (17312)
UID:c745e241-42c9-4b14-9a71-8ec8450a8bfb
STATUS:CONFIRMED
LAST-MODIFIED:20260303T105254Z
DESCRIPTION:Regionsoberliga männliche C-Jugend (M)\nBegegnungs-Nr: 17312\nHeim: NHV Concordia Delitzsch\nGast: Turbine Leipzig\nHalle: Mehrzweckhalle Delitzsch  (31304)\nAdresse: Karl-Marx-Str. 1\, 04509 Delitzsch\n
LOCATION:Mehrzweckhalle Delitzsch  (31304): Karl-Marx-Str. 1\, 04509 Delitzsch
CATEGORIES:Saison 2025/26
END:VEVENT
BEGIN:VEVENT
DTSTAMP:20260424T225117Z
DTSTART;TZID=Europe/Berlin:20260111T130000
DTEND;TZID=Europe/Berlin:20260111T140000
SUMMARY:ROL - mJC Meisterrunde VfB Eilenburg vs Turbine Leipzig (17303)
UID:b8227a88-df1a-440c-83b0-48cebaf28bfa
STATUS:CONFIRMED
LAST-MODIFIED:20260114T074311Z
DESCRIPTION:Regionsoberliga männliche C-Jugend (M)\nBegegnungs-Nr: 17303\nHeim: VfB Eilenburg\nGast: Turbine Leipzig\nHalle: MZH Martin-Rickart-Gymnasium (31608)\nAdresse: Hochhausstraße 48\, 04838 Eilenburg\n
LOCATION:MZH Martin-Rickart-Gymnasium (31608): Hochhausstraße 48\, 04838 Eilenburg
CATEGORIES:Saison 2025/26
END:VEVENT
END:VCALENDAR
