BEGIN:VCALENDAR
PRODID:-//nuDatenautomaten//framework iCal4j //DE
VERSION:2.0
CALSCALE:GREGORIAN
BEGIN:VTIMEZONE
TZID:Europe/Berlin
LAST-MODIFIED:20260306T231828Z
TZURL:https://www.tzurl.org/zoneinfo/Europe/Berlin
X-LIC-LOCATION:Europe/Berlin
X-PROLEPTIC-TZNAME:LMT
BEGIN:STANDARD
TZNAME:CET
TZOFFSETFROM:+005328
TZOFFSETTO:+0100
DTSTART:18930401T000000
END:STANDARD
BEGIN:DAYLIGHT
TZNAME:CEST
TZOFFSETFROM:+0100
TZOFFSETTO:+0200
DTSTART:19160430T230000
RDATE:19400401T020000
RDATE:19430329T020000
RDATE:19460414T020000
RDATE:19470406T030000
RDATE:19480418T020000
RDATE:19490410T020000
RDATE:19800406T020000
END:DAYLIGHT
BEGIN:STANDARD
TZNAME:CET
TZOFFSETFROM:+0200
TZOFFSETTO:+0100
DTSTART:19161001T010000
RDATE:19421102T030000
RDATE:19431004T030000
RDATE:19441002T030000
RDATE:19451118T030000
RDATE:19461007T030000
END:STANDARD
BEGIN:DAYLIGHT
TZNAME:CEST
TZOFFSETFROM:+0100
TZOFFSETTO:+0200
DTSTART:19170416T020000
RRULE:FREQ=YEARLY;UNTIL=19180415T010000Z;BYMONTH=4;BYDAY=3MO
END:DAYLIGHT
BEGIN:STANDARD
TZNAME:CET
TZOFFSETFROM:+0200
TZOFFSETTO:+0100
DTSTART:19170917T030000
RRULE:FREQ=YEARLY;UNTIL=19180916T010000Z;BYMONTH=9;BYDAY=3MO
END:STANDARD
BEGIN:DAYLIGHT
TZNAME:CEST
TZOFFSETFROM:+0100
TZOFFSETTO:+0200
DTSTART:19440403T020000
RRULE:FREQ=YEARLY;UNTIL=19450402T010000Z;BYMONTH=4;BYDAY=1MO
END:DAYLIGHT
BEGIN:DAYLIGHT
TZNAME:CEMT
TZOFFSETFROM:+0200
TZOFFSETTO:+0300
DTSTART:19450524T020000
RDATE:19470511T030000
END:DAYLIGHT
BEGIN:DAYLIGHT
TZNAME:CEST
TZOFFSETFROM:+0300
TZOFFSETTO:+0200
DTSTART:19450924T030000
RDATE:19470629T030000
END:DAYLIGHT
BEGIN:STANDARD
TZNAME:CET
TZOFFSETFROM:+0100
TZOFFSETTO:+0100
DTSTART:19460101T000000
RDATE:19800101T000000
END:STANDARD
BEGIN:STANDARD
TZNAME:CET
TZOFFSETFROM:+0200
TZOFFSETTO:+0100
DTSTART:19471005T030000
RRULE:FREQ=YEARLY;UNTIL=19491002T010000Z;BYMONTH=10;BYDAY=1SU
END:STANDARD
BEGIN:STANDARD
TZNAME:CET
TZOFFSETFROM:+0200
TZOFFSETTO:+0100
DTSTART:19800928T030000
RRULE:FREQ=YEARLY;UNTIL=19950924T010000Z;BYMONTH=9;BYDAY=-1SU
END:STANDARD
BEGIN:DAYLIGHT
TZNAME:CEST
TZOFFSETFROM:+0100
TZOFFSETTO:+0200
DTSTART:19810329T020000
RRULE:FREQ=YEARLY;BYMONTH=3;BYDAY=-1SU
END:DAYLIGHT
BEGIN:STANDARD
TZNAME:CET
TZOFFSETFROM:+0200
TZOFFSETTO:+0100
DTSTART:19961027T030000
RRULE:FREQ=YEARLY;BYMONTH=10;BYDAY=-1SU
END:STANDARD
END:VTIMEZONE
BEGIN:VEVENT
DTSTAMP:20260424T205833Z
DTSTART;TZID=Europe/Berlin:20250913T110000
DTEND;TZID=Europe/Berlin:20250913T120000
SUMMARY:Regionsoberliga mJC - 2 SG MoGoNo Leipzig II vs TSV Markkleeberg (17204)
UID:d1559edb-10e7-4b61-a8ca-9a27efe106c6
STATUS:CONFIRMED
LAST-MODIFIED:20250915T115841Z
DESCRIPTION:Regionsoberliga männliche C-Jugend (2)\nBegegnungs-Nr: 17204\nHeim: SG MoGoNo Leipzig II\nGast: TSV Markkleeberg\nHalle: SH Kästner-Grundschule Leipzig (31131)\nAdresse: Erfurter Str\, 04155 Leipzig\n
LOCATION:SH Kästner-Grundschule Leipzig (31131): Erfurter Str\, 04155 Leipzig
CATEGORIES:Saison 2025/26
END:VEVENT
BEGIN:VEVENT
DTSTAMP:20260424T205833Z
DTSTART;TZID=Europe/Berlin:20251129T120000
DTEND;TZID=Europe/Berlin:20251129T130000
SUMMARY:Regionsoberliga mJC - 2 SG MoGoNo Leipzig II vs TuS Leipzig-Mockau (17219)
UID:cd376c70-3670-421f-9a7a-1c3882ec06fd
STATUS:CONFIRMED
LAST-MODIFIED:20260225T182227Z
DESCRIPTION:Regionsoberliga männliche C-Jugend (2)\nBegegnungs-Nr: 17219\nHeim: SG MoGoNo Leipzig II\nGast: TuS Leipzig-Mockau\nHalle: SH Kästner-Grundschule Leipzig (31131)\nAdresse: Erfurter Str\, 04155 Leipzig\n
LOCATION:SH Kästner-Grundschule Leipzig (31131): Erfurter Str\, 04155 Leipzig
CATEGORIES:Saison 2025/26
END:VEVENT
BEGIN:VEVENT
DTSTAMP:20260424T205833Z
DTSTART;TZID=Europe/Berlin:20251102T133000
DTEND;TZID=Europe/Berlin:20251102T143000
SUMMARY:Regionsoberliga mJC - 2 SG MoGoNo Leipzig II vs TSG 1861 Taucha II (17215)
UID:9360638a-0979-40fc-bfff-7fc72bac40e6
STATUS:CONFIRMED
LAST-MODIFIED:20251104T064638Z
DESCRIPTION:Regionsoberliga männliche C-Jugend (2)\nBegegnungs-Nr: 17215\nHeim: SG MoGoNo Leipzig II\nGast: TSG 1861 Taucha II\nHalle: SH Wilhelm-Hauff-Grundschule Leipzig-Möckern (31102)\nAdresse: Slevogtstr. \, 04159 Leipzig\n
LOCATION:SH Wilhelm-Hauff-Grundschule Leipzig-Möckern (31102): Slevogtstr. \, 04159 Leipzig
CATEGORIES:Saison 2025/26
END:VEVENT
BEGIN:VEVENT
DTSTAMP:20260424T205833Z
DTSTART;TZID=Europe/Berlin:20260322T150000
DTEND;TZID=Europe/Berlin:20260322T160000
SUMMARY:ROL - mJC Platz 7-14 SG MoGoNo Leipzig II vs NSG Neuseenland (17427)
UID:f8dc4e22-3033-48e8-8ae7-45cdc476693f
STATUS:CONFIRMED
LAST-MODIFIED:20260325T173632Z
DESCRIPTION:Regionsoberliga männliche C-Jugend (P)\nBegegnungs-Nr: 17427\nHeim: SG MoGoNo Leipzig II\nGast: NSG Neuseenland\nHalle: SH Wilhelm-Hauff-Grundschule Leipzig-Möckern (31102)\nAdresse: Slevogtstr. \, 04159 Leipzig\n
LOCATION:SH Wilhelm-Hauff-Grundschule Leipzig-Möckern (31102): Slevogtstr. \, 04159 Leipzig
CATEGORIES:Saison 2025/26
END:VEVENT
BEGIN:VEVENT
DTSTAMP:20260424T205833Z
DTSTART;TZID=Europe/Berlin:20260417T180000
DTEND;TZID=Europe/Berlin:20260417T190000
SUMMARY:ROL - mJC Platz 7-14 SG MoGoNo Leipzig II vs VICTORIA Naunhof (17417)
UID:f8c8755b-1873-42bd-9ee6-401fda3fd68c
STATUS:CONFIRMED
LAST-MODIFIED:20260307T080408Z
DESCRIPTION:Regionsoberliga männliche C-Jugend (P)\nBegegnungs-Nr: 17417\nHeim: SG MoGoNo Leipzig II\nGast: VICTORIA Naunhof\nHalle: SH Kästner-Grundschule Leipzig (31131)\nAdresse: Erfurter Str\, 04155 Leipzig\n
LOCATION:SH Kästner-Grundschule Leipzig (31131): Erfurter Str\, 04155 Leipzig
CATEGORIES:Saison 2025/26
END:VEVENT
BEGIN:VEVENT
DTSTAMP:20260424T205833Z
DTSTART;TZID=Europe/Berlin:20260201T110000
DTEND;TZID=Europe/Berlin:20260201T120000
SUMMARY:ROL - mJC Platz 7-14 SG MoGoNo Leipzig II vs HSG Rückmarsdorf (17413)
UID:f22bb71d-37bd-40db-88b5-063e79f7ce4b
STATUS:CONFIRMED
LAST-MODIFIED:20260206T183425Z
DESCRIPTION:Regionsoberliga männliche C-Jugend (P)\nBegegnungs-Nr: 17413\nHeim: SG MoGoNo Leipzig II\nGast: HSG Rückmarsdorf\nHalle: SH Wilhelm-Hauff-Grundschule Leipzig-Möckern (31102)\nAdresse: Slevogtstr. \, 04159 Leipzig\n
LOCATION:SH Wilhelm-Hauff-Grundschule Leipzig-Möckern (31102): Slevogtstr. \, 04159 Leipzig
CATEGORIES:Saison 2025/26
END:VEVENT
BEGIN:VEVENT
DTSTAMP:20260424T205833Z
DTSTART;TZID=Europe/Berlin:20260117T160000
DTEND;TZID=Europe/Berlin:20260117T170000
SUMMARY:ROL - mJC Platz 7-14 SG MoGoNo Leipzig II vs VfB Torgau (17405)
UID:1eac5255-a442-4f3b-989d-4a73e0cf4904
STATUS:CONFIRMED
LAST-MODIFIED:20260121T190108Z
DESCRIPTION:Regionsoberliga männliche C-Jugend (P)\nBegegnungs-Nr: 17405\nHeim: SG MoGoNo Leipzig II\nGast: VfB Torgau\nHalle: SH Kästner-Grundschule Leipzig (31131)\nAdresse: Erfurter Str\, 04155 Leipzig\n
LOCATION:SH Kästner-Grundschule Leipzig (31131): Erfurter Str\, 04155 Leipzig
CATEGORIES:Saison 2025/26
END:VEVENT
BEGIN:VEVENT
DTSTAMP:20260424T205833Z
DTSTART;TZID=Europe/Berlin:20251102T133000
DTEND;TZID=Europe/Berlin:20251102T143000
SUMMARY:ROL - mJC Platz 7-14 SG MoGoNo Leipzig II vs TSG 1861 Taucha II (17215)
UID:75ab0311-1e76-428c-b15d-17e680af3e63
STATUS:CONFIRMED
LAST-MODIFIED:20251104T064638Z
DESCRIPTION:Regionsoberliga männliche C-Jugend (P)\nBegegnungs-Nr: 17215\nHeim: SG MoGoNo Leipzig II\nGast: TSG 1861 Taucha II\n
LOCATION:
CATEGORIES:Saison 2025/26
END:VEVENT
BEGIN:VEVENT
DTSTAMP:20260424T205833Z
DTSTART;TZID=Europe/Berlin:20251129T120000
DTEND;TZID=Europe/Berlin:20251129T130000
SUMMARY:ROL - mJC Platz 7-14 SG MoGoNo Leipzig II vs TuS Leipzig-Mockau (17219)
UID:59e859fe-d638-4939-ae54-8e98e09c3d92
STATUS:CONFIRMED
LAST-MODIFIED:20260225T182408Z
DESCRIPTION:Regionsoberliga männliche C-Jugend (P)\nBegegnungs-Nr: 17219\nHeim: SG MoGoNo Leipzig II\nGast: TuS Leipzig-Mockau\n
LOCATION:
CATEGORIES:Saison 2025/26
END:VEVENT
BEGIN:VEVENT
DTSTAMP:20260424T205833Z
DTSTART;TZID=Europe/Berlin:20260503T130000
DTEND;TZID=Europe/Berlin:20260503T140000
SUMMARY:ROL - mJC Platz 7-14 SG MoGoNo Leipzig II vs SV Lok Leipzig-M. (17441)
UID:cc97b6ba-4f45-4f74-9f3f-d1b6a82c5f70
STATUS:CONFIRMED
DESCRIPTION:Regionsoberliga männliche C-Jugend (P)\nBegegnungs-Nr: 17441\nHeim: SG MoGoNo Leipzig II\nGast: SV Lok Leipzig-M.\nHalle: SH Kästner-Grundschule Leipzig (31131)\nAdresse: Erfurter Str\, 04155 Leipzig\n
LOCATION:SH Kästner-Grundschule Leipzig (31131): Erfurter Str\, 04155 Leipzig
CATEGORIES:Saison 2025/26
END:VEVENT
BEGIN:VEVENT
DTSTAMP:20260424T205833Z
DTSTART;TZID=Europe/Berlin:20250906T093000
DTEND;TZID=Europe/Berlin:20250906T103000
SUMMARY:Regionsoberliga mJC - 2 SG LVB II vs SG MoGoNo Leipzig II (17201)
UID:1f08c44c-1dad-4160-994b-51b9109d37d1
STATUS:CONFIRMED
LAST-MODIFIED:20250908T065747Z
DESCRIPTION:Regionsoberliga männliche C-Jugend (2)\nBegegnungs-Nr: 17201\nHeim: SG LVB II\nGast: SG MoGoNo Leipzig II\nHalle: SH Gymnasium an der Telemannstraße  (31109)\nAdresse: Telemannstraße 9\, 04107 Leipzig\n
LOCATION:SH Gymnasium an der Telemannstraße  (31109): Telemannstraße 9\, 04107 Leipzig
CATEGORIES:Saison 2025/26
END:VEVENT
BEGIN:VEVENT
DTSTAMP:20260424T205833Z
DTSTART;TZID=Europe/Berlin:20250921T114000
DTEND;TZID=Europe/Berlin:20250921T124000
SUMMARY:Regionsoberliga mJC - 2 Turbine Leipzig vs SG MoGoNo Leipzig II (17208)
UID:4f38dc23-cc26-4832-a6ea-002df990f244
STATUS:CONFIRMED
LAST-MODIFIED:20251003T101343Z
DESCRIPTION:Regionsoberliga männliche C-Jugend (2)\nBegegnungs-Nr: 17208\nHeim: Turbine Leipzig\nGast: SG MoGoNo Leipzig II\nHalle: SH Ostwald Gymnasium Leipzig-Lößnig (31105)\nAdresse: Willi-Bredel-Str. 13\, 04279 Leipzig\n
LOCATION:SH Ostwald Gymnasium Leipzig-Lößnig (31105): Willi-Bredel-Str. 13\, 04279 Leipzig
CATEGORIES:Saison 2025/26
END:VEVENT
BEGIN:VEVENT
DTSTAMP:20260424T205833Z
DTSTART;TZID=Europe/Berlin:20251108T140000
DTEND;TZID=Europe/Berlin:20251108T150000
SUMMARY:Regionsoberliga mJC - 2 VICTORIA Naunhof vs SG MoGoNo Leipzig II (17218)
UID:f0c5b0a7-61a7-485d-a2dd-397b88206e78
STATUS:CONFIRMED
LAST-MODIFIED:20251110T153602Z
DESCRIPTION:Regionsoberliga männliche C-Jugend (2)\nBegegnungs-Nr: 17218\nHeim: VICTORIA Naunhof\nGast: SG MoGoNo Leipzig II\nHalle: Parthelandhalle Naunhof (31120)\nAdresse: Wiesenstraße 34\, 04683 Naunhof\n
LOCATION:Parthelandhalle Naunhof (31120): Wiesenstraße 34\, 04683 Naunhof
CATEGORIES:Saison 2025/26
END:VEVENT
BEGIN:VEVENT
DTSTAMP:20260424T205833Z
DTSTART;TZID=Europe/Berlin:20260419T103000
DTEND;TZID=Europe/Berlin:20260419T113000
SUMMARY:ROL - mJC Platz 7-14 TSG 1861 Taucha II vs SG MoGoNo Leipzig II (17434)
UID:d2e75fb2-cd8b-4105-a78d-fe9500333411
STATUS:CONFIRMED
LAST-MODIFIED:20260424T034513Z
DESCRIPTION:Regionsoberliga männliche C-Jugend (P)\nBegegnungs-Nr: 17434\nHeim: TSG 1861 Taucha II\nGast: SG MoGoNo Leipzig II\nHalle: Mehrzweckhalle Taucha (31112)\nAdresse: Geschwister-Scholl-Str. 6\, 04425 Taucha\n
LOCATION:Mehrzweckhalle Taucha (31112): Geschwister-Scholl-Str. 6\, 04425 Taucha
CATEGORIES:Saison 2025/26
END:VEVENT
BEGIN:VEVENT
DTSTAMP:20260424T205833Z
DTSTART;TZID=Europe/Berlin:20260328T100000
DTEND;TZID=Europe/Berlin:20260328T110000
SUMMARY:ROL - mJC Platz 7-14 VfB Torgau vs SG MoGoNo Leipzig II (17432)
UID:c1003d0a-eb82-4f07-9682-477dca489242
STATUS:CONFIRMED
LAST-MODIFIED:20260330T091824Z
DESCRIPTION:Regionsoberliga männliche C-Jugend (P)\nBegegnungs-Nr: 17432\nHeim: VfB Torgau\nGast: SG MoGoNo Leipzig II\nHalle: SH Am Wasserturm Torgau (31602)\nAdresse: Dahlener Str. 11 a\, 04860 Torgau\n
LOCATION:SH Am Wasserturm Torgau (31602): Dahlener Str. 11 a\, 04860 Torgau
CATEGORIES:Saison 2025/26
END:VEVENT
BEGIN:VEVENT
DTSTAMP:20260424T205833Z
DTSTART;TZID=Europe/Berlin:20260314T151500
DTEND;TZID=Europe/Berlin:20260314T161500
SUMMARY:ROL - mJC Platz 7-14 SV Lok Leipzig-M. vs SG MoGoNo Leipzig II (17426)
UID:5a593c01-2990-4350-98d7-e148afa3fefb
STATUS:CONFIRMED
LAST-MODIFIED:20260325T173446Z
DESCRIPTION:Regionsoberliga männliche C-Jugend (P)\nBegegnungs-Nr: 17426\nHeim: SV Lok Leipzig-M.\nGast: SG MoGoNo Leipzig II\nHalle: SH Goethe-Gymnasium Leipzig (31138)\nAdresse: Theklaer Str. 4\, 04347 Leipzig\n
LOCATION:SH Goethe-Gymnasium Leipzig (31138): Theklaer Str. 4\, 04347 Leipzig
CATEGORIES:Saison 2025/26
END:VEVENT
BEGIN:VEVENT
DTSTAMP:20260424T205833Z
DTSTART;TZID=Europe/Berlin:20260307T121500
DTEND;TZID=Europe/Berlin:20260307T131500
SUMMARY:ROL - mJC Platz 7-14 TuS Leipzig-Mockau vs SG MoGoNo Leipzig II (17419)
UID:c6241986-f1e8-4c8d-a88a-1927cbf189f3
STATUS:CONFIRMED
LAST-MODIFIED:20260310T094907Z
DESCRIPTION:Regionsoberliga männliche C-Jugend (P)\nBegegnungs-Nr: 17419\nHeim: TuS Leipzig-Mockau\nGast: SG MoGoNo Leipzig II\nHalle: Sporthalle Marie-Curie-Gymnasium Wiederitzsch (31137)\nAdresse: Messeallee 19\, 04158 Leipzig (OT Wiederitzsch)\n
LOCATION:Sporthalle Marie-Curie-Gymnasium Wiederitzsch (31137): Messeallee 19\, 04158 Leipzig (OT Wiederitzsch)
CATEGORIES:Saison 2025/26
END:VEVENT
BEGIN:VEVENT
DTSTAMP:20260424T205833Z
DTSTART;TZID=Europe/Berlin:20260125T100000
DTEND;TZID=Europe/Berlin:20260125T110000
SUMMARY:ROL - mJC Platz 7-14 HSG Rückmarsdorf vs SG MoGoNo Leipzig II (17411)
UID:6d48dc4c-60f1-4de9-86a0-b4e7f6e411ed
STATUS:CONFIRMED
LAST-MODIFIED:20260128T181540Z
DESCRIPTION:Regionsoberliga männliche C-Jugend (P)\nBegegnungs-Nr: 17411\nHeim: HSG Rückmarsdorf\nGast: SG MoGoNo Leipzig II\nHalle: SH An der Radrennbahn Leipzig (31128)\nAdresse: Windorfer Straße 63\, 04229 Leipzig\n
LOCATION:SH An der Radrennbahn Leipzig (31128): Windorfer Straße 63\, 04229 Leipzig
CATEGORIES:Saison 2025/26
END:VEVENT
BEGIN:VEVENT
DTSTAMP:20260424T205833Z
DTSTART;TZID=Europe/Berlin:20260131T100000
DTEND;TZID=Europe/Berlin:20260131T110000
SUMMARY:ROL - mJC Platz 7-14 NSG Neuseenland vs SG MoGoNo Leipzig II (17401)
UID:e72cc9a6-1fcd-4b29-8b8e-3e28e40f5beb
STATUS:CONFIRMED
LAST-MODIFIED:20260206T183156Z
DESCRIPTION:Regionsoberliga männliche C-Jugend (P)\nBegegnungs-Nr: 17401\nHeim: NSG Neuseenland\nGast: SG MoGoNo Leipzig II\nHalle: SH Borna-Ost (31401)\nAdresse: Oststr. 2 \, 04552 Borna\n
LOCATION:SH Borna-Ost (31401): Oststr. 2 \, 04552 Borna
CATEGORIES:Saison 2025/26
END:VEVENT
BEGIN:VEVENT
DTSTAMP:20260424T205833Z
DTSTART;TZID=Europe/Berlin:20251108T140000
DTEND;TZID=Europe/Berlin:20251108T150000
SUMMARY:ROL - mJC Platz 7-14 VICTORIA Naunhof vs SG MoGoNo Leipzig II (17218)
UID:11147d02-f74f-4676-8f7a-03697ac028cb
STATUS:CONFIRMED
LAST-MODIFIED:20251110T153602Z
DESCRIPTION:Regionsoberliga männliche C-Jugend (P)\nBegegnungs-Nr: 17218\nHeim: VICTORIA Naunhof\nGast: SG MoGoNo Leipzig II\n
LOCATION:
CATEGORIES:Saison 2025/26
END:VEVENT
END:VCALENDAR
