BEGIN:VCALENDAR
PRODID:-//nuDatenautomaten//framework iCal4j //DE
VERSION:2.0
CALSCALE:GREGORIAN
BEGIN:VTIMEZONE
TZID:Europe/Berlin
LAST-MODIFIED:20260306T231828Z
TZURL:https://www.tzurl.org/zoneinfo/Europe/Berlin
X-LIC-LOCATION:Europe/Berlin
X-PROLEPTIC-TZNAME:LMT
BEGIN:STANDARD
TZNAME:CET
TZOFFSETFROM:+005328
TZOFFSETTO:+0100
DTSTART:18930401T000000
END:STANDARD
BEGIN:DAYLIGHT
TZNAME:CEST
TZOFFSETFROM:+0100
TZOFFSETTO:+0200
DTSTART:19160430T230000
RDATE:19400401T020000
RDATE:19430329T020000
RDATE:19460414T020000
RDATE:19470406T030000
RDATE:19480418T020000
RDATE:19490410T020000
RDATE:19800406T020000
END:DAYLIGHT
BEGIN:STANDARD
TZNAME:CET
TZOFFSETFROM:+0200
TZOFFSETTO:+0100
DTSTART:19161001T010000
RDATE:19421102T030000
RDATE:19431004T030000
RDATE:19441002T030000
RDATE:19451118T030000
RDATE:19461007T030000
END:STANDARD
BEGIN:DAYLIGHT
TZNAME:CEST
TZOFFSETFROM:+0100
TZOFFSETTO:+0200
DTSTART:19170416T020000
RRULE:FREQ=YEARLY;UNTIL=19180415T010000Z;BYMONTH=4;BYDAY=3MO
END:DAYLIGHT
BEGIN:STANDARD
TZNAME:CET
TZOFFSETFROM:+0200
TZOFFSETTO:+0100
DTSTART:19170917T030000
RRULE:FREQ=YEARLY;UNTIL=19180916T010000Z;BYMONTH=9;BYDAY=3MO
END:STANDARD
BEGIN:DAYLIGHT
TZNAME:CEST
TZOFFSETFROM:+0100
TZOFFSETTO:+0200
DTSTART:19440403T020000
RRULE:FREQ=YEARLY;UNTIL=19450402T010000Z;BYMONTH=4;BYDAY=1MO
END:DAYLIGHT
BEGIN:DAYLIGHT
TZNAME:CEMT
TZOFFSETFROM:+0200
TZOFFSETTO:+0300
DTSTART:19450524T020000
RDATE:19470511T030000
END:DAYLIGHT
BEGIN:DAYLIGHT
TZNAME:CEST
TZOFFSETFROM:+0300
TZOFFSETTO:+0200
DTSTART:19450924T030000
RDATE:19470629T030000
END:DAYLIGHT
BEGIN:STANDARD
TZNAME:CET
TZOFFSETFROM:+0100
TZOFFSETTO:+0100
DTSTART:19460101T000000
RDATE:19800101T000000
END:STANDARD
BEGIN:STANDARD
TZNAME:CET
TZOFFSETFROM:+0200
TZOFFSETTO:+0100
DTSTART:19471005T030000
RRULE:FREQ=YEARLY;UNTIL=19491002T010000Z;BYMONTH=10;BYDAY=1SU
END:STANDARD
BEGIN:STANDARD
TZNAME:CET
TZOFFSETFROM:+0200
TZOFFSETTO:+0100
DTSTART:19800928T030000
RRULE:FREQ=YEARLY;UNTIL=19950924T010000Z;BYMONTH=9;BYDAY=-1SU
END:STANDARD
BEGIN:DAYLIGHT
TZNAME:CEST
TZOFFSETFROM:+0100
TZOFFSETTO:+0200
DTSTART:19810329T020000
RRULE:FREQ=YEARLY;BYMONTH=3;BYDAY=-1SU
END:DAYLIGHT
BEGIN:STANDARD
TZNAME:CET
TZOFFSETFROM:+0200
TZOFFSETTO:+0100
DTSTART:19961027T030000
RRULE:FREQ=YEARLY;BYMONTH=10;BYDAY=-1SU
END:STANDARD
END:VTIMEZONE
BEGIN:VEVENT
DTSTAMP:20260422T112445Z
DTSTART;TZID=Europe/Berlin:20251108T103000
DTEND;TZID=Europe/Berlin:20251108T113000
SUMMARY:Regionsoberliga wDJ HC Rödertal  II vs SG Cunewalde/Sohland (11046)
UID:87ecda5c-e582-4738-bf46-57d4bceb69cf
STATUS:CONFIRMED
LAST-MODIFIED:20251109T062722Z
DESCRIPTION:Regionsoberliga  wDJ\nBegegnungs-Nr: 11046\nHeim: HC Rödertal  II\nGast: SG Cunewalde/Sohland\nHalle: 3-Feld-Halle-GY Großröhrsdorf (34514)\nAdresse: Melanchthonstraße 21\, 01900  Großröhrsdorf\n
LOCATION:3-Feld-Halle-GY Großröhrsdorf (34514): Melanchthonstraße 21\, 01900  Großröhrsdorf
CATEGORIES:Saison 2025/26
END:VEVENT
BEGIN:VEVENT
DTSTAMP:20260422T112445Z
DTSTART;TZID=Europe/Berlin:20251207T110000
DTEND;TZID=Europe/Berlin:20251207T120000
SUMMARY:Regionsoberliga wDJ HC Rödertal  II vs SC Hoyerswerda  II (11066)
UID:b8aa71c1-c7da-45fb-9fc6-be9772aaf7a2
STATUS:CONFIRMED
LAST-MODIFIED:20251207T160018Z
DESCRIPTION:Regionsoberliga  wDJ\nBegegnungs-Nr: 11066\nHeim: HC Rödertal  II\nGast: SC Hoyerswerda  II\nHalle: 3-Feld-Halle-GY Großröhrsdorf (34514)\nAdresse: Melanchthonstraße 21\, 01900  Großröhrsdorf\n
LOCATION:3-Feld-Halle-GY Großröhrsdorf (34514): Melanchthonstraße 21\, 01900  Großröhrsdorf
CATEGORIES:Saison 2025/26
END:VEVENT
BEGIN:VEVENT
DTSTAMP:20260422T112445Z
DTSTART;TZID=Europe/Berlin:20251025T100000
DTEND;TZID=Europe/Berlin:20251025T110000
SUMMARY:Regionsoberliga wDJ HC Rödertal  II vs SG Cunewalde/Sohland II (11032)
UID:2f723fd4-4be4-4de3-9ca0-4ec183b1d930
STATUS:CONFIRMED
LAST-MODIFIED:20251026T175435Z
DESCRIPTION:Regionsoberliga  wDJ\nBegegnungs-Nr: 11032\nHeim: HC Rödertal  II\nGast: SG Cunewalde/Sohland II\nHalle: 3-Feld-Halle-GY Großröhrsdorf (34514)\nAdresse: Melanchthonstraße 21\, 01900  Großröhrsdorf\n
LOCATION:3-Feld-Halle-GY Großröhrsdorf (34514): Melanchthonstraße 21\, 01900  Großröhrsdorf
CATEGORIES:Saison 2025/26
END:VEVENT
BEGIN:VEVENT
DTSTAMP:20260422T112445Z
DTSTART;TZID=Europe/Berlin:20260124T100000
DTEND;TZID=Europe/Berlin:20260124T110000
SUMMARY:Regionsoberliga wDJ HC Rödertal  II vs SV Laubusch (11071)
UID:b2e3e98c-403d-4369-b5e7-cc9efdc74e9a
STATUS:CONFIRMED
LAST-MODIFIED:20260407T111749Z
DESCRIPTION:Regionsoberliga  wDJ\nBegegnungs-Nr: 11071\nHeim: HC Rödertal  II\nGast: SV Laubusch\nHalle: 3-Feld-Halle-GY Großröhrsdorf (34514)\nAdresse: Melanchthonstraße 21\, 01900  Großröhrsdorf\n
LOCATION:3-Feld-Halle-GY Großröhrsdorf (34514): Melanchthonstraße 21\, 01900  Großröhrsdorf
CATEGORIES:Saison 2025/26
END:VEVENT
BEGIN:VEVENT
DTSTAMP:20260422T112445Z
DTSTART;TZID=Europe/Berlin:20250906T100000
DTEND;TZID=Europe/Berlin:20250906T110000
SUMMARY:Regionsoberliga wDJ HC Rödertal  II vs Radeberger SV II (11011)
UID:62494ccc-1c38-43e5-9d0e-c6e7a21981b7
STATUS:CONFIRMED
LAST-MODIFIED:20250907T130724Z
DESCRIPTION:Regionsoberliga  wDJ\nBegegnungs-Nr: 11011\nHeim: HC Rödertal  II\nGast: Radeberger SV II\nHalle: 3-Feld-Halle-GY Großröhrsdorf (34514)\nAdresse: Melanchthonstraße 21\, 01900  Großröhrsdorf\n
LOCATION:3-Feld-Halle-GY Großröhrsdorf (34514): Melanchthonstraße 21\, 01900  Großröhrsdorf
CATEGORIES:Saison 2025/26
END:VEVENT
BEGIN:VEVENT
DTSTAMP:20260422T112445Z
DTSTART;TZID=Europe/Berlin:20260207T143000
DTEND;TZID=Europe/Berlin:20260207T153000
SUMMARY:Regionsoberliga wDJ HC Rödertal  II vs SV Obergurig (11091)
UID:04600d10-098e-40a8-8456-bdd22087807d
STATUS:CONFIRMED
DESCRIPTION:Regionsoberliga  wDJ\nBegegnungs-Nr: 11091\nHeim: HC Rödertal  II\nGast: SV Obergurig\nHalle: 3-Feld-Halle-GY Großröhrsdorf (34514)\nAdresse: Melanchthonstraße 21\, 01900  Großröhrsdorf\n
LOCATION:3-Feld-Halle-GY Großröhrsdorf (34514): Melanchthonstraße 21\, 01900  Großröhrsdorf
CATEGORIES:Saison 2025/26
END:VEVENT
BEGIN:VEVENT
DTSTAMP:20260422T112445Z
DTSTART;TZID=Europe/Berlin:20260308T133000
DTEND;TZID=Europe/Berlin:20260308T143000
SUMMARY:Regionsoberliga wDJ HC Rödertal  II vs HVH Kamenz (11105)
UID:57da0fd4-c5a6-49f9-9039-c24b6c1da818
STATUS:CONFIRMED
LAST-MODIFIED:20260309T082516Z
DESCRIPTION:Regionsoberliga  wDJ\nBegegnungs-Nr: 11105\nHeim: HC Rödertal  II\nGast: HVH Kamenz\nHalle: 3-Feld-Halle-GY Großröhrsdorf (34514)\nAdresse: Melanchthonstraße 21\, 01900  Großröhrsdorf\n
LOCATION:3-Feld-Halle-GY Großröhrsdorf (34514): Melanchthonstraße 21\, 01900  Großröhrsdorf
CATEGORIES:Saison 2025/26
END:VEVENT
BEGIN:VEVENT
DTSTAMP:20260422T112445Z
DTSTART;TZID=Europe/Berlin:20260328T143000
DTEND;TZID=Europe/Berlin:20260328T153000
SUMMARY:Regionsoberliga wDJ HC Rödertal  II vs OSV Zittau (11119)
UID:5d707107-4d4e-4b41-961c-621f25c0db61
STATUS:CONFIRMED
LAST-MODIFIED:20260331T173813Z
DESCRIPTION:Regionsoberliga  wDJ\nBegegnungs-Nr: 11119\nHeim: HC Rödertal  II\nGast: OSV Zittau\nHalle: 3-Feld-Halle-GY Großröhrsdorf (34514)\nAdresse: Melanchthonstraße 21\, 01900  Großröhrsdorf\n
LOCATION:3-Feld-Halle-GY Großröhrsdorf (34514): Melanchthonstraße 21\, 01900  Großröhrsdorf
CATEGORIES:Saison 2025/26
END:VEVENT
BEGIN:VEVENT
DTSTAMP:20260422T112445Z
DTSTART;TZID=Europe/Berlin:20251122T100000
DTEND;TZID=Europe/Berlin:20251122T110000
SUMMARY:Regionsoberliga wDJ OSV Zittau vs HC Rödertal  II (11053)
UID:2fe886d9-77ce-40f7-80fa-7f75264b9538
STATUS:CONFIRMED
LAST-MODIFIED:20251123T164642Z
DESCRIPTION:Regionsoberliga  wDJ\nBegegnungs-Nr: 11053\nHeim: OSV Zittau\nGast: HC Rödertal  II\nHalle: SH Zittau (34107)\nAdresse: Lisa - Tetzner - Str.\, 02763 Zittau\n
LOCATION:SH Zittau (34107): Lisa - Tetzner - Str.\, 02763 Zittau
CATEGORIES:Saison 2025/26
END:VEVENT
BEGIN:VEVENT
DTSTAMP:20260422T112445Z
DTSTART;TZID=Europe/Berlin:20260425T100000
DTEND;TZID=Europe/Berlin:20260425T110000
SUMMARY:Regionsoberliga wDJ SC Hoyerswerda  II vs HC Rödertal  II (11132)
UID:203c8de4-c748-4a93-a6b0-265bef19720c
STATUS:CONFIRMED
DESCRIPTION:Regionsoberliga  wDJ\nBegegnungs-Nr: 11132\nHeim: SC Hoyerswerda  II\nGast: HC Rödertal  II\nHalle: Sporthalle \"Neue Oberschule\" (34519)\nAdresse: Claus-von-Stauffenberg-Straße 40a\, 02977 Hoyerswerda\n
LOCATION:Sporthalle \"Neue Oberschule\" (34519): Claus-von-Stauffenberg-Straße 40a\, 02977 Hoyerswerda
CATEGORIES:Saison 2025/26
END:VEVENT
BEGIN:VEVENT
DTSTAMP:20260422T112445Z
DTSTART;TZID=Europe/Berlin:20251113T170000
DTEND;TZID=Europe/Berlin:20251113T180000
SUMMARY:Regionsoberliga wDJ HVH Kamenz vs HC Rödertal  II (11039)
UID:0b5ecafd-5a4e-4785-a343-e9cfd61ef226
STATUS:CONFIRMED
LAST-MODIFIED:20251119T152502Z
DESCRIPTION:Regionsoberliga  wDJ\nBegegnungs-Nr: 11039\nHeim: HVH Kamenz\nGast: HC Rödertal  II\nHalle: SH Albert-Schweitzer-Gymnasium Kamenz (34204)\nAdresse: Am Flugplatz\, 01917 Kamenz\, Parkplatz - Macherstraße 142\n
LOCATION:SH Albert-Schweitzer-Gymnasium Kamenz (34204): Am Flugplatz\, 01917 Kamenz\, Parkplatz - Macherstraße 142
CATEGORIES:Saison 2025/26
END:VEVENT
BEGIN:VEVENT
DTSTAMP:20260422T112445Z
DTSTART;TZID=Europe/Berlin:20260315T121500
DTEND;TZID=Europe/Berlin:20260315T131500
SUMMARY:Regionsoberliga wDJ Radeberger SV II vs HC Rödertal  II (11077)
UID:66215425-56e0-4ed1-979f-4f9a9522abae
STATUS:CONFIRMED
LAST-MODIFIED:20260316T135243Z
DESCRIPTION:Regionsoberliga  wDJ\nBegegnungs-Nr: 11077\nHeim: Radeberger SV II\nGast: HC Rödertal  II\nHalle: 3-Feld-Halle-BSZ Radeberg (34209)\nAdresse: Robert-Blum-Weg 5\, 01454 Radeberg\n
LOCATION:3-Feld-Halle-BSZ Radeberg (34209): Robert-Blum-Weg 5\, 01454 Radeberg
CATEGORIES:Saison 2025/26
END:VEVENT
BEGIN:VEVENT
DTSTAMP:20260422T112445Z
DTSTART;TZID=Europe/Berlin:20250830T100000
DTEND;TZID=Europe/Berlin:20250830T110000
SUMMARY:Regionsoberliga wDJ SV Laubusch vs HC Rödertal  II (11005)
UID:e00cbff5-bba6-4f51-8430-92e95dc262a8
STATUS:CONFIRMED
LAST-MODIFIED:20260407T111749Z
DESCRIPTION:Regionsoberliga  wDJ\nBegegnungs-Nr: 11005\nHeim: SV Laubusch\nGast: HC Rödertal  II\nHalle: SH Bernsdorf (34113)\nAdresse: Albert-Schweitzer-Straße 1\, 02994 Bernsdorf\n
LOCATION:SH Bernsdorf (34113): Albert-Schweitzer-Straße 1\, 02994 Bernsdorf
CATEGORIES:Saison 2025/26
END:VEVENT
BEGIN:VEVENT
DTSTAMP:20260422T112445Z
DTSTART;TZID=Europe/Berlin:20260228T100000
DTEND;TZID=Europe/Berlin:20260228T110000
SUMMARY:Regionsoberliga wDJ SG Cunewalde/Sohland II vs HC Rödertal  II (11098)
UID:efea7acc-50b9-420c-9958-41afbb05857e
STATUS:CONFIRMED
LAST-MODIFIED:20260302T182544Z
DESCRIPTION:Regionsoberliga  wDJ\nBegegnungs-Nr: 11098\nHeim: SG Cunewalde/Sohland II\nGast: HC Rödertal  II\nHalle: \"Oberland-Sporthalle\" Sohland (34501)\nAdresse: G. - Hauptmann - Str. 4 A\, 02689 Sohland\n
LOCATION:\"Oberland-Sporthalle\" Sohland (34501): G. - Hauptmann - Str. 4 A\, 02689 Sohland
CATEGORIES:Saison 2025/26
END:VEVENT
BEGIN:VEVENT
DTSTAMP:20260422T112445Z
DTSTART;TZID=Europe/Berlin:20260321T114500
DTEND;TZID=Europe/Berlin:20260321T124500
SUMMARY:Regionsoberliga wDJ SG Cunewalde/Sohland vs HC Rödertal  II (11112)
UID:5caf9ba4-cbfe-4357-889a-d6b600275350
STATUS:CONFIRMED
LAST-MODIFIED:20260326T180850Z
DESCRIPTION:Regionsoberliga  wDJ\nBegegnungs-Nr: 11112\nHeim: SG Cunewalde/Sohland\nGast: HC Rödertal  II\nHalle: \"Oberland-Sporthalle\" Sohland (34501)\nAdresse: G. - Hauptmann - Str. 4 A\, 02689 Sohland\n
LOCATION:\"Oberland-Sporthalle\" Sohland (34501): G. - Hauptmann - Str. 4 A\, 02689 Sohland
CATEGORIES:Saison 2025/26
END:VEVENT
BEGIN:VEVENT
DTSTAMP:20260422T112445Z
DTSTART;TZID=Europe/Berlin:20250913T113000
DTEND;TZID=Europe/Berlin:20250913T123000
SUMMARY:Regionsoberliga wDJ Stahl Rietschen vs HC Rödertal  II (11016)
UID:f805b14c-3b6a-483c-b10d-3c6d65065a46
STATUS:CONFIRMED
LAST-MODIFIED:20250914T060309Z
DESCRIPTION:Regionsoberliga  wDJ\nBegegnungs-Nr: 11016\nHeim: Stahl Rietschen\nGast: HC Rödertal  II\nHalle: Oberlausitz-SH Rietschen (34403)\nAdresse: Am Festplatz 1\, 02956 Rietschen\n
LOCATION:Oberlausitz-SH Rietschen (34403): Am Festplatz 1\, 02956 Rietschen
CATEGORIES:Saison 2025/26
END:VEVENT
BEGIN:VEVENT
DTSTAMP:20260422T112445Z
DTSTART;TZID=Europe/Berlin:20250927T123000
DTEND;TZID=Europe/Berlin:20250927T133000
SUMMARY:Regionsoberliga wDJ SV Obergurig vs HC Rödertal  II (11025)
UID:899fc317-8ac7-4176-98d6-01d5bed73723
STATUS:CONFIRMED
LAST-MODIFIED:20250928T063638Z
DESCRIPTION:Regionsoberliga  wDJ\nBegegnungs-Nr: 11025\nHeim: SV Obergurig\nGast: HC Rödertal  II\nHalle: 2-Feld-Halle Sorbisches Schul- und Begegnungszentrum Bautzen (34511)\nAdresse: Friedrich - List - Str. 8\, 02625 Bautzen\n
LOCATION:2-Feld-Halle Sorbisches Schul- und Begegnungszentrum Bautzen (34511): Friedrich - List - Str. 8\, 02625 Bautzen
CATEGORIES:Saison 2025/26
END:VEVENT
END:VCALENDAR
