BEGIN:VCALENDAR
PRODID:-//nuDatenautomaten//framework iCal4j //DE
VERSION:2.0
CALSCALE:GREGORIAN
BEGIN:VTIMEZONE
TZID:Europe/Berlin
LAST-MODIFIED:20260306T231828Z
TZURL:https://www.tzurl.org/zoneinfo/Europe/Berlin
X-LIC-LOCATION:Europe/Berlin
X-PROLEPTIC-TZNAME:LMT
BEGIN:STANDARD
TZNAME:CET
TZOFFSETFROM:+005328
TZOFFSETTO:+0100
DTSTART:18930401T000000
END:STANDARD
BEGIN:DAYLIGHT
TZNAME:CEST
TZOFFSETFROM:+0100
TZOFFSETTO:+0200
DTSTART:19160430T230000
RDATE:19400401T020000
RDATE:19430329T020000
RDATE:19460414T020000
RDATE:19470406T030000
RDATE:19480418T020000
RDATE:19490410T020000
RDATE:19800406T020000
END:DAYLIGHT
BEGIN:STANDARD
TZNAME:CET
TZOFFSETFROM:+0200
TZOFFSETTO:+0100
DTSTART:19161001T010000
RDATE:19421102T030000
RDATE:19431004T030000
RDATE:19441002T030000
RDATE:19451118T030000
RDATE:19461007T030000
END:STANDARD
BEGIN:DAYLIGHT
TZNAME:CEST
TZOFFSETFROM:+0100
TZOFFSETTO:+0200
DTSTART:19170416T020000
RRULE:FREQ=YEARLY;UNTIL=19180415T010000Z;BYMONTH=4;BYDAY=3MO
END:DAYLIGHT
BEGIN:STANDARD
TZNAME:CET
TZOFFSETFROM:+0200
TZOFFSETTO:+0100
DTSTART:19170917T030000
RRULE:FREQ=YEARLY;UNTIL=19180916T010000Z;BYMONTH=9;BYDAY=3MO
END:STANDARD
BEGIN:DAYLIGHT
TZNAME:CEST
TZOFFSETFROM:+0100
TZOFFSETTO:+0200
DTSTART:19440403T020000
RRULE:FREQ=YEARLY;UNTIL=19450402T010000Z;BYMONTH=4;BYDAY=1MO
END:DAYLIGHT
BEGIN:DAYLIGHT
TZNAME:CEMT
TZOFFSETFROM:+0200
TZOFFSETTO:+0300
DTSTART:19450524T020000
RDATE:19470511T030000
END:DAYLIGHT
BEGIN:DAYLIGHT
TZNAME:CEST
TZOFFSETFROM:+0300
TZOFFSETTO:+0200
DTSTART:19450924T030000
RDATE:19470629T030000
END:DAYLIGHT
BEGIN:STANDARD
TZNAME:CET
TZOFFSETFROM:+0100
TZOFFSETTO:+0100
DTSTART:19460101T000000
RDATE:19800101T000000
END:STANDARD
BEGIN:STANDARD
TZNAME:CET
TZOFFSETFROM:+0200
TZOFFSETTO:+0100
DTSTART:19471005T030000
RRULE:FREQ=YEARLY;UNTIL=19491002T010000Z;BYMONTH=10;BYDAY=1SU
END:STANDARD
BEGIN:STANDARD
TZNAME:CET
TZOFFSETFROM:+0200
TZOFFSETTO:+0100
DTSTART:19800928T030000
RRULE:FREQ=YEARLY;UNTIL=19950924T010000Z;BYMONTH=9;BYDAY=-1SU
END:STANDARD
BEGIN:DAYLIGHT
TZNAME:CEST
TZOFFSETFROM:+0100
TZOFFSETTO:+0200
DTSTART:19810329T020000
RRULE:FREQ=YEARLY;BYMONTH=3;BYDAY=-1SU
END:DAYLIGHT
BEGIN:STANDARD
TZNAME:CET
TZOFFSETFROM:+0200
TZOFFSETTO:+0100
DTSTART:19961027T030000
RRULE:FREQ=YEARLY;BYMONTH=10;BYDAY=-1SU
END:STANDARD
END:VTIMEZONE
BEGIN:VEVENT
DTSTAMP:20260423T070210Z
DTSTART;TZID=Europe/Berlin:20251213T113000
DTEND;TZID=Europe/Berlin:20251213T123000
SUMMARY:ROL gJF Buteo Youngsters Chemnitz vs Grün-Weiß Niederwiesa (520029)
UID:c65bb985-28b1-4307-b588-99177ec594f0
STATUS:CONFIRMED
DESCRIPTION:Regionsoberliga gem. F-Jugend\nBegegnungs-Nr: 520029\nHeim: Buteo Youngsters Chemnitz\nGast: Grün-Weiß Niederwiesa\nHalle: Stadt-SH Roßwein (31203)\nAdresse: Grafestraße 1\, 04741 Roßwein\n
LOCATION:Stadt-SH Roßwein (31203): Grafestraße 1\, 04741 Roßwein
CATEGORIES:Saison 2025/26
END:VEVENT
BEGIN:VEVENT
DTSTAMP:20260423T070210Z
DTSTART;TZID=Europe/Berlin:20251129T110000
DTEND;TZID=Europe/Berlin:20251129T120000
SUMMARY:ROL gJF Buteo Youngsters Chemnitz vs HSG Freiberg (520020)
UID:7ffb0a81-ccaf-407c-97a9-17f58b7ad305
STATUS:CONFIRMED
DESCRIPTION:Regionsoberliga gem. F-Jugend\nBegegnungs-Nr: 520020\nHeim: Buteo Youngsters Chemnitz\nGast: HSG Freiberg\nHalle: Lok-SH Chemnitz (32111)\nAdresse: Christian-Wehner-Strasse 4\, 09113 Chemnitz\n
LOCATION:Lok-SH Chemnitz (32111): Christian-Wehner-Strasse 4\, 09113 Chemnitz
CATEGORIES:Saison 2025/26
END:VEVENT
BEGIN:VEVENT
DTSTAMP:20260423T070210Z
DTSTART;TZID=Europe/Berlin:20251101T120000
DTEND;TZID=Europe/Berlin:20251101T130000
SUMMARY:ROL gJF Buteo Youngsters Chemnitz vs BSV Limbach-O. (520006)
UID:50d1e97d-ab78-43c0-9e11-d03b0147a978
STATUS:CONFIRMED
DESCRIPTION:Regionsoberliga gem. F-Jugend\nBegegnungs-Nr: 520006\nHeim: Buteo Youngsters Chemnitz\nGast: BSV Limbach-O.\nHalle: Lok-SH Chemnitz (32111)\nAdresse: Christian-Wehner-Strasse 4\, 09113 Chemnitz\n
LOCATION:Lok-SH Chemnitz (32111): Christian-Wehner-Strasse 4\, 09113 Chemnitz
CATEGORIES:Saison 2025/26
END:VEVENT
BEGIN:VEVENT
DTSTAMP:20260423T070210Z
DTSTART;TZID=Europe/Berlin:20251101T100000
DTEND;TZID=Europe/Berlin:20251101T110000
SUMMARY:ROL gJF Buteo Youngsters Chemnitz vs SV 04 Plauen-O. (520004)
UID:b76c0774-92c7-4983-bf0c-9708c4c45cf2
STATUS:CONFIRMED
LAST-MODIFIED:20251107T123745Z
DESCRIPTION:Regionsoberliga gem. F-Jugend\nBegegnungs-Nr: 520004\nHeim: Buteo Youngsters Chemnitz\nGast: SV 04 Plauen-O.\nHalle: Lok-SH Chemnitz (32111)\nAdresse: Christian-Wehner-Strasse 4\, 09113 Chemnitz\n
LOCATION:Lok-SH Chemnitz (32111): Christian-Wehner-Strasse 4\, 09113 Chemnitz
CATEGORIES:Saison 2025/26
END:VEVENT
BEGIN:VEVENT
DTSTAMP:20260423T070210Z
DTSTART;TZID=Europe/Berlin:20260419T110000
DTEND;TZID=Europe/Berlin:20260419T120000
SUMMARY:ROL gJF Buteo Youngsters Chemnitz vs Roßweiner SV (520065)
UID:89b72a13-9906-4307-ba00-0a761aa71fa6
STATUS:CONFIRMED
LAST-MODIFIED:20260411T201947Z
DESCRIPTION:Regionsoberliga gem. F-Jugend\nBegegnungs-Nr: 520065\nHeim: Buteo Youngsters Chemnitz\nGast: Roßweiner SV\nHalle: SH Pestalozzi-Schule Limbach-Oberfrohna (32228)\nAdresse: Georgstr. 2\, 09212  Limbach-Oberfrohna\n
LOCATION:SH Pestalozzi-Schule Limbach-Oberfrohna (32228): Georgstr. 2\, 09212  Limbach-Oberfrohna
CATEGORIES:Saison 2025/26
END:VEVENT
BEGIN:VEVENT
DTSTAMP:20260423T070210Z
DTSTART;TZID=Europe/Berlin:20260503T140000
DTEND;TZID=Europe/Berlin:20260503T150000
SUMMARY:ROL gJF Buteo Youngsters Chemnitz vs Geringswalder HV (520056)
UID:d4d752a3-405f-424d-a216-68a4856cd188
STATUS:CONFIRMED
LAST-MODIFIED:20260327T202956Z
DESCRIPTION:Regionsoberliga gem. F-Jugend\nBegegnungs-Nr: 520056\nHeim: Buteo Youngsters Chemnitz\nGast: Geringswalder HV\nHalle: SH Burgstädt - Sportzentrum am Taurastein (32206)\nAdresse: Am Stadion 22\, 09217  Burgstädt\n
LOCATION:SH Burgstädt - Sportzentrum am Taurastein (32206): Am Stadion 22\, 09217  Burgstädt
CATEGORIES:Saison 2025/26
END:VEVENT
BEGIN:VEVENT
DTSTAMP:20260423T070210Z
DTSTART;TZID=Europe/Berlin:20260201T120000
DTEND;TZID=Europe/Berlin:20260201T130000
SUMMARY:ROL gJF Buteo Youngsters Chemnitz vs Burgstädter HC (520042)
UID:85d803b0-dbb3-45ae-a801-9e257d395642
STATUS:CONFIRMED
DESCRIPTION:Regionsoberliga gem. F-Jugend\nBegegnungs-Nr: 520042\nHeim: Buteo Youngsters Chemnitz\nGast: Burgstädter HC\nHalle: Lok-SH Chemnitz (32111)\nAdresse: Christian-Wehner-Strasse 4\, 09113 Chemnitz\n
LOCATION:Lok-SH Chemnitz (32111): Christian-Wehner-Strasse 4\, 09113 Chemnitz
CATEGORIES:Saison 2025/26
END:VEVENT
BEGIN:VEVENT
DTSTAMP:20260423T070210Z
DTSTART;TZID=Europe/Berlin:20260201T100000
DTEND;TZID=Europe/Berlin:20260201T110000
SUMMARY:ROL gJF Buteo Youngsters Chemnitz vs Buteo Youngsters Chemnitz II (520040)
UID:823d18e5-c711-4919-bd24-dd22d0ab95c0
STATUS:CONFIRMED
DESCRIPTION:Regionsoberliga gem. F-Jugend\nBegegnungs-Nr: 520040\nHeim: Buteo Youngsters Chemnitz\nGast: Buteo Youngsters Chemnitz II\nHalle: Lok-SH Chemnitz (32111)\nAdresse: Christian-Wehner-Strasse 4\, 09113 Chemnitz\n
LOCATION:Lok-SH Chemnitz (32111): Christian-Wehner-Strasse 4\, 09113 Chemnitz
CATEGORIES:Saison 2025/26
END:VEVENT
BEGIN:VEVENT
DTSTAMP:20260423T070210Z
DTSTART;TZID=Europe/Berlin:20251213T123000
DTEND;TZID=Europe/Berlin:20251213T133000
SUMMARY:ROL gJF Roßweiner SV vs Buteo Youngsters Chemnitz (520030)
UID:8692ff7f-1e42-4f63-9a4c-2cecc7ea7931
STATUS:CONFIRMED
DESCRIPTION:Regionsoberliga gem. F-Jugend\nBegegnungs-Nr: 520030\nHeim: Roßweiner SV\nGast: Buteo Youngsters Chemnitz\nHalle: Stadt-SH Roßwein (31203)\nAdresse: Grafestraße 1\, 04741 Roßwein\n
LOCATION:Stadt-SH Roßwein (31203): Grafestraße 1\, 04741 Roßwein
CATEGORIES:Saison 2025/26
END:VEVENT
BEGIN:VEVENT
DTSTAMP:20260423T070210Z
DTSTART;TZID=Europe/Berlin:20251129T120000
DTEND;TZID=Europe/Berlin:20251129T130000
SUMMARY:ROL gJF Buteo Youngsters Chemnitz II vs Buteo Youngsters Chemnitz (520021)
UID:4c51ac75-2919-49d8-a7e5-272d2f8bcb41
STATUS:CONFIRMED
DESCRIPTION:Regionsoberliga gem. F-Jugend\nBegegnungs-Nr: 520021\nHeim: Buteo Youngsters Chemnitz II\nGast: Buteo Youngsters Chemnitz\nHalle: Lok-SH Chemnitz (32111)\nAdresse: Christian-Wehner-Strasse 4\, 09113 Chemnitz\n
LOCATION:Lok-SH Chemnitz (32111): Christian-Wehner-Strasse 4\, 09113 Chemnitz
CATEGORIES:Saison 2025/26
END:VEVENT
BEGIN:VEVENT
DTSTAMP:20260423T070210Z
DTSTART;TZID=Europe/Berlin:20251108T143000
DTEND;TZID=Europe/Berlin:20251108T153000
SUMMARY:ROL gJF Grün-Weiß Niederwiesa vs Buteo Youngsters Chemnitz (520009)
UID:6e5cc367-2214-42eb-a8ed-2bb79e453216
STATUS:CONFIRMED
DESCRIPTION:Regionsoberliga gem. F-Jugend\nBegegnungs-Nr: 520009\nHeim: Grün-Weiß Niederwiesa\nGast: Buteo Youngsters Chemnitz\nHalle: Sporthalle Niederwiesa (32419)\nAdresse: Mühlenstr. 21\, 09577 Niederwiesa\n
LOCATION:Sporthalle Niederwiesa (32419): Mühlenstr. 21\, 09577 Niederwiesa
CATEGORIES:Saison 2025/26
END:VEVENT
BEGIN:VEVENT
DTSTAMP:20260423T070210Z
DTSTART;TZID=Europe/Berlin:20251108T133000
DTEND;TZID=Europe/Berlin:20251108T143000
SUMMARY:ROL gJF SV 04 Plauen-O. vs Buteo Youngsters Chemnitz (520008)
UID:e2e07875-7fec-4c29-9a44-5a2d0fe1e1a0
STATUS:CONFIRMED
DESCRIPTION:Regionsoberliga gem. F-Jugend\nBegegnungs-Nr: 520008\nHeim: SV 04 Plauen-O.\nGast: Buteo Youngsters Chemnitz\nHalle: Sporthalle Niederwiesa (32419)\nAdresse: Mühlenstr. 21\, 09577 Niederwiesa\n
LOCATION:Sporthalle Niederwiesa (32419): Mühlenstr. 21\, 09577 Niederwiesa
CATEGORIES:Saison 2025/26
END:VEVENT
BEGIN:VEVENT
DTSTAMP:20260423T070210Z
DTSTART;TZID=Europe/Berlin:20260419T120000
DTEND;TZID=Europe/Berlin:20260419T130000
SUMMARY:ROL gJF BSV Limbach-O. vs Buteo Youngsters Chemnitz (520066)
UID:46e571de-4a52-44a4-9081-e06b90f0df73
STATUS:CONFIRMED
LAST-MODIFIED:20260411T201803Z
DESCRIPTION:Regionsoberliga gem. F-Jugend\nBegegnungs-Nr: 520066\nHeim: BSV Limbach-O.\nGast: Buteo Youngsters Chemnitz\nHalle: SH Pestalozzi-Schule Limbach-Oberfrohna (32228)\nAdresse: Georgstr. 2\, 09212  Limbach-Oberfrohna\n
LOCATION:SH Pestalozzi-Schule Limbach-Oberfrohna (32228): Georgstr. 2\, 09212  Limbach-Oberfrohna
CATEGORIES:Saison 2025/26
END:VEVENT
BEGIN:VEVENT
DTSTAMP:20260423T070210Z
DTSTART;TZID=Europe/Berlin:20260503T150000
DTEND;TZID=Europe/Berlin:20260503T160000
SUMMARY:ROL gJF Burgstädter HC vs Buteo Youngsters Chemnitz (520057)
UID:61e6230d-2454-40e1-aaef-9abe11973539
STATUS:CONFIRMED
LAST-MODIFIED:20260327T203023Z
DESCRIPTION:Regionsoberliga gem. F-Jugend\nBegegnungs-Nr: 520057\nHeim: Burgstädter HC\nGast: Buteo Youngsters Chemnitz\nHalle: SH Burgstädt - Sportzentrum am Taurastein (32206)\nAdresse: Am Stadion 22\, 09217  Burgstädt\n
LOCATION:SH Burgstädt - Sportzentrum am Taurastein (32206): Am Stadion 22\, 09217  Burgstädt
CATEGORIES:Saison 2025/26
END:VEVENT
BEGIN:VEVENT
DTSTAMP:20260423T070210Z
DTSTART;TZID=Europe/Berlin:20260301T150000
DTEND;TZID=Europe/Berlin:20260301T160000
SUMMARY:ROL gJF Geringswalder HV vs Buteo Youngsters Chemnitz (520048)
UID:072a4237-3d45-4984-9f30-7320bc6c42c9
STATUS:CONFIRMED
DESCRIPTION:Regionsoberliga gem. F-Jugend\nBegegnungs-Nr: 520048\nHeim: Geringswalder HV\nGast: Buteo Youngsters Chemnitz\nHalle: SH an der August-Bebel-Schule (32211)\nAdresse: Mittweidaer Straße 43\, 09326 Geringswalde\n
LOCATION:SH an der August-Bebel-Schule (32211): Mittweidaer Straße 43\, 09326 Geringswalde
CATEGORIES:Saison 2025/26
END:VEVENT
BEGIN:VEVENT
DTSTAMP:20260423T070210Z
DTSTART;TZID=Europe/Berlin:20260301T140000
DTEND;TZID=Europe/Berlin:20260301T150000
SUMMARY:ROL gJF HSG Freiberg vs Buteo Youngsters Chemnitz (520047)
UID:b20200c8-c387-48f5-be1c-eae15cbe38a3
STATUS:CONFIRMED
DESCRIPTION:Regionsoberliga gem. F-Jugend\nBegegnungs-Nr: 520047\nHeim: HSG Freiberg\nGast: Buteo Youngsters Chemnitz\nHalle: SH an der August-Bebel-Schule (32211)\nAdresse: Mittweidaer Straße 43\, 09326 Geringswalde\n
LOCATION:SH an der August-Bebel-Schule (32211): Mittweidaer Straße 43\, 09326 Geringswalde
CATEGORIES:Saison 2025/26
END:VEVENT
END:VCALENDAR
