BEGIN:VCALENDAR
PRODID:-//nuDatenautomaten//framework iCal4j //DE
VERSION:2.0
CALSCALE:GREGORIAN
BEGIN:VTIMEZONE
TZID:Europe/Berlin
LAST-MODIFIED:20260306T231828Z
TZURL:https://www.tzurl.org/zoneinfo/Europe/Berlin
X-LIC-LOCATION:Europe/Berlin
X-PROLEPTIC-TZNAME:LMT
BEGIN:STANDARD
TZNAME:CET
TZOFFSETFROM:+005328
TZOFFSETTO:+0100
DTSTART:18930401T000000
END:STANDARD
BEGIN:DAYLIGHT
TZNAME:CEST
TZOFFSETFROM:+0100
TZOFFSETTO:+0200
DTSTART:19160430T230000
RDATE:19400401T020000
RDATE:19430329T020000
RDATE:19460414T020000
RDATE:19470406T030000
RDATE:19480418T020000
RDATE:19490410T020000
RDATE:19800406T020000
END:DAYLIGHT
BEGIN:STANDARD
TZNAME:CET
TZOFFSETFROM:+0200
TZOFFSETTO:+0100
DTSTART:19161001T010000
RDATE:19421102T030000
RDATE:19431004T030000
RDATE:19441002T030000
RDATE:19451118T030000
RDATE:19461007T030000
END:STANDARD
BEGIN:DAYLIGHT
TZNAME:CEST
TZOFFSETFROM:+0100
TZOFFSETTO:+0200
DTSTART:19170416T020000
RRULE:FREQ=YEARLY;UNTIL=19180415T010000Z;BYMONTH=4;BYDAY=3MO
END:DAYLIGHT
BEGIN:STANDARD
TZNAME:CET
TZOFFSETFROM:+0200
TZOFFSETTO:+0100
DTSTART:19170917T030000
RRULE:FREQ=YEARLY;UNTIL=19180916T010000Z;BYMONTH=9;BYDAY=3MO
END:STANDARD
BEGIN:DAYLIGHT
TZNAME:CEST
TZOFFSETFROM:+0100
TZOFFSETTO:+0200
DTSTART:19440403T020000
RRULE:FREQ=YEARLY;UNTIL=19450402T010000Z;BYMONTH=4;BYDAY=1MO
END:DAYLIGHT
BEGIN:DAYLIGHT
TZNAME:CEMT
TZOFFSETFROM:+0200
TZOFFSETTO:+0300
DTSTART:19450524T020000
RDATE:19470511T030000
END:DAYLIGHT
BEGIN:DAYLIGHT
TZNAME:CEST
TZOFFSETFROM:+0300
TZOFFSETTO:+0200
DTSTART:19450924T030000
RDATE:19470629T030000
END:DAYLIGHT
BEGIN:STANDARD
TZNAME:CET
TZOFFSETFROM:+0100
TZOFFSETTO:+0100
DTSTART:19460101T000000
RDATE:19800101T000000
END:STANDARD
BEGIN:STANDARD
TZNAME:CET
TZOFFSETFROM:+0200
TZOFFSETTO:+0100
DTSTART:19471005T030000
RRULE:FREQ=YEARLY;UNTIL=19491002T010000Z;BYMONTH=10;BYDAY=1SU
END:STANDARD
BEGIN:STANDARD
TZNAME:CET
TZOFFSETFROM:+0200
TZOFFSETTO:+0100
DTSTART:19800928T030000
RRULE:FREQ=YEARLY;UNTIL=19950924T010000Z;BYMONTH=9;BYDAY=-1SU
END:STANDARD
BEGIN:DAYLIGHT
TZNAME:CEST
TZOFFSETFROM:+0100
TZOFFSETTO:+0200
DTSTART:19810329T020000
RRULE:FREQ=YEARLY;BYMONTH=3;BYDAY=-1SU
END:DAYLIGHT
BEGIN:STANDARD
TZNAME:CET
TZOFFSETFROM:+0200
TZOFFSETTO:+0100
DTSTART:19961027T030000
RRULE:FREQ=YEARLY;BYMONTH=10;BYDAY=-1SU
END:STANDARD
END:VTIMEZONE
BEGIN:VEVENT
DTSTAMP:20260424T114909Z
DTSTART;TZID=Europe/Berlin:20260131T123000
DTEND;TZID=Europe/Berlin:20260131T133000
SUMMARY:Regionsoberliga wJB VfB Torgau vs VfB Eilenburg (26048)
UID:b425ccc2-3dbb-4bc0-b763-b1f69adbf9dd
STATUS:CONFIRMED
LAST-MODIFIED:20260201T113438Z
DESCRIPTION:Regionsoberliga weibliche B-Jugend\nBegegnungs-Nr: 26048\nHeim: VfB Torgau\nGast: VfB Eilenburg\nHalle: Stadthalle Belgern (31606)\nAdresse: Mühlberger Str.\, 04874 Belgern\n
LOCATION:Stadthalle Belgern (31606): Mühlberger Str.\, 04874 Belgern
CATEGORIES:Saison 2025/26
END:VEVENT
BEGIN:VEVENT
DTSTAMP:20260424T114909Z
DTSTART;TZID=Europe/Berlin:20260228T114000
DTEND;TZID=Europe/Berlin:20260228T124000
SUMMARY:Regionsoberliga wJB VfB Torgau vs TSG 1861 Taucha (26053)
UID:f2ad3b88-ed83-41af-9650-a0f7fa71e4d8
STATUS:CONFIRMED
LAST-MODIFIED:20260301T191434Z
DESCRIPTION:Regionsoberliga weibliche B-Jugend\nBegegnungs-Nr: 26053\nHeim: VfB Torgau\nGast: TSG 1861 Taucha\nHalle: SH Am Wasserturm Torgau (31602)\nAdresse: Dahlener Str. 11 a\, 04860 Torgau\n
LOCATION:SH Am Wasserturm Torgau (31602): Dahlener Str. 11 a\, 04860 Torgau
CATEGORIES:Saison 2025/26
END:VEVENT
BEGIN:VEVENT
DTSTAMP:20260424T114909Z
DTSTART;TZID=Europe/Berlin:20260321T143000
DTEND;TZID=Europe/Berlin:20260321T153000
SUMMARY:Regionsoberliga wJB VfB Torgau vs Leipziger SV Südwest (26061)
UID:8e572224-4e5c-41c5-81e2-a41306150400
STATUS:CONFIRMED
LAST-MODIFIED:20260322T080019Z
DESCRIPTION:Regionsoberliga weibliche B-Jugend\nBegegnungs-Nr: 26061\nHeim: VfB Torgau\nGast: Leipziger SV Südwest\nHalle: SH Am Wasserturm Torgau (31602)\nAdresse: Dahlener Str. 11 a\, 04860 Torgau\n
LOCATION:SH Am Wasserturm Torgau (31602): Dahlener Str. 11 a\, 04860 Torgau
CATEGORIES:Saison 2025/26
END:VEVENT
BEGIN:VEVENT
DTSTAMP:20260424T114909Z
DTSTART;TZID=Europe/Berlin:20260425T134500
DTEND;TZID=Europe/Berlin:20260425T144500
SUMMARY:Regionsoberliga wJB VfB Torgau vs SG MoGoNo Leipzig (26070)
UID:5e0a91a2-807e-45eb-81d9-903273b22d9d
STATUS:CONFIRMED
LAST-MODIFIED:20260419T070935Z
DESCRIPTION:Regionsoberliga weibliche B-Jugend\nBegegnungs-Nr: 26070\nHeim: VfB Torgau\nGast: SG MoGoNo Leipzig\nHalle: SH Am Wasserturm Torgau (31602)\nAdresse: Dahlener Str. 11 a\, 04860 Torgau\n
LOCATION:SH Am Wasserturm Torgau (31602): Dahlener Str. 11 a\, 04860 Torgau
CATEGORIES:Saison 2025/26
END:VEVENT
BEGIN:VEVENT
DTSTAMP:20260424T114909Z
DTSTART;TZID=Europe/Berlin:20250913T123000
DTEND;TZID=Europe/Berlin:20250913T133000
SUMMARY:Regionsoberliga wJB VfB Torgau vs HSV Mölkau - Die Haie  (26009)
UID:cb200e44-b61f-49ff-bcae-61d6ca19c4d2
STATUS:CONFIRMED
LAST-MODIFIED:20250914T125750Z
DESCRIPTION:Regionsoberliga weibliche B-Jugend\nBegegnungs-Nr: 26009\nHeim: VfB Torgau\nGast: HSV Mölkau - Die Haie \nHalle: SH Am Wasserturm Torgau (31602)\nAdresse: Dahlener Str. 11 a\, 04860 Torgau\n
LOCATION:SH Am Wasserturm Torgau (31602): Dahlener Str. 11 a\, 04860 Torgau
CATEGORIES:Saison 2025/26
END:VEVENT
BEGIN:VEVENT
DTSTAMP:20260424T114909Z
DTSTART;TZID=Europe/Berlin:20251101T123000
DTEND;TZID=Europe/Berlin:20251101T133000
SUMMARY:Regionsoberliga wJB VfB Torgau vs TuS Leipzig-Mockau (26022)
UID:3f619f1d-accf-4e4a-a269-bde21a32b8f7
STATUS:CONFIRMED
LAST-MODIFIED:20251102T082602Z
DESCRIPTION:Regionsoberliga weibliche B-Jugend\nBegegnungs-Nr: 26022\nHeim: VfB Torgau\nGast: TuS Leipzig-Mockau\nHalle: SH Am Wasserturm Torgau (31602)\nAdresse: Dahlener Str. 11 a\, 04860 Torgau\n
LOCATION:SH Am Wasserturm Torgau (31602): Dahlener Str. 11 a\, 04860 Torgau
CATEGORIES:Saison 2025/26
END:VEVENT
BEGIN:VEVENT
DTSTAMP:20260424T114909Z
DTSTART;TZID=Europe/Berlin:20251122T123000
DTEND;TZID=Europe/Berlin:20251122T133000
SUMMARY:Regionsoberliga wJB VfB Torgau vs NHV Concordia Delitzsch (26029)
UID:6312d249-b070-419f-b94f-5bbf09d47979
STATUS:CONFIRMED
LAST-MODIFIED:20251124T142605Z
DESCRIPTION:Regionsoberliga weibliche B-Jugend\nBegegnungs-Nr: 26029\nHeim: VfB Torgau\nGast: NHV Concordia Delitzsch\nHalle: SH Am Wasserturm Torgau (31602)\nAdresse: Dahlener Str. 11 a\, 04860 Torgau\n
LOCATION:SH Am Wasserturm Torgau (31602): Dahlener Str. 11 a\, 04860 Torgau
CATEGORIES:Saison 2025/26
END:VEVENT
BEGIN:VEVENT
DTSTAMP:20260424T114909Z
DTSTART;TZID=Europe/Berlin:20260117T123000
DTEND;TZID=Europe/Berlin:20260117T133000
SUMMARY:Regionsoberliga wJB VfB Torgau vs VICTORIA Naunhof (26040)
UID:65f54df2-04f3-4f45-b91c-5233b6f13ad9
STATUS:CONFIRMED
LAST-MODIFIED:20260118T174850Z
DESCRIPTION:Regionsoberliga weibliche B-Jugend\nBegegnungs-Nr: 26040\nHeim: VfB Torgau\nGast: VICTORIA Naunhof\nHalle: SH J.-Walter Gymnasium Torgau (31601)\nAdresse: Schloßstr. 7-9\, 04860 Torgau\n
LOCATION:SH J.-Walter Gymnasium Torgau (31601): Schloßstr. 7-9\, 04860 Torgau
CATEGORIES:Saison 2025/26
END:VEVENT
BEGIN:VEVENT
DTSTAMP:20260424T114909Z
DTSTART;TZID=Europe/Berlin:20260125T120000
DTEND;TZID=Europe/Berlin:20260125T130000
SUMMARY:Regionsoberliga wJB HSV Mölkau - Die Haie  vs VfB Torgau (26045)
UID:fcc97f9b-3458-4636-8e29-0c629c800d15
STATUS:CONFIRMED
LAST-MODIFIED:20260125T172357Z
DESCRIPTION:Regionsoberliga weibliche B-Jugend\nBegegnungs-Nr: 26045\nHeim: HSV Mölkau - Die Haie \nGast: VfB Torgau\nHalle: SH Ostwald Gymnasium Leipzig-Lößnig (31105)\nAdresse: Willi-Bredel-Str. 13\, 04279 Leipzig\n
LOCATION:SH Ostwald Gymnasium Leipzig-Lößnig (31105): Willi-Bredel-Str. 13\, 04279 Leipzig
CATEGORIES:Saison 2025/26
END:VEVENT
BEGIN:VEVENT
DTSTAMP:20260424T114909Z
DTSTART;TZID=Europe/Berlin:20260307T160000
DTEND;TZID=Europe/Berlin:20260307T170000
SUMMARY:Regionsoberliga wJB TuS Leipzig-Mockau vs VfB Torgau (26058)
UID:2e5f0297-0153-4f77-b332-3a96fe21ed66
STATUS:CONFIRMED
LAST-MODIFIED:20260308T114450Z
DESCRIPTION:Regionsoberliga weibliche B-Jugend\nBegegnungs-Nr: 26058\nHeim: TuS Leipzig-Mockau\nGast: VfB Torgau\nHalle: Sporthalle Marie-Curie-Gymnasium Wiederitzsch (31137)\nAdresse: Messeallee 19\, 04158 Leipzig (OT Wiederitzsch)\n
LOCATION:Sporthalle Marie-Curie-Gymnasium Wiederitzsch (31137): Messeallee 19\, 04158 Leipzig (OT Wiederitzsch)
CATEGORIES:Saison 2025/26
END:VEVENT
BEGIN:VEVENT
DTSTAMP:20260424T114909Z
DTSTART;TZID=Europe/Berlin:20260329T120000
DTEND;TZID=Europe/Berlin:20260329T130000
SUMMARY:Regionsoberliga wJB NHV Concordia Delitzsch vs VfB Torgau (26066)
UID:41551583-81ca-4e3d-87b4-6c3ba50ee700
STATUS:CONFIRMED
LAST-MODIFIED:20260329T152950Z
DESCRIPTION:Regionsoberliga weibliche B-Jugend\nBegegnungs-Nr: 26066\nHeim: NHV Concordia Delitzsch\nGast: VfB Torgau\nHalle: Mehrzweckhalle Delitzsch  (31304)\nAdresse: Karl-Marx-Str. 1\, 04509 Delitzsch\n
LOCATION:Mehrzweckhalle Delitzsch  (31304): Karl-Marx-Str. 1\, 04509 Delitzsch
CATEGORIES:Saison 2025/26
END:VEVENT
BEGIN:VEVENT
DTSTAMP:20260424T114909Z
DTSTART;TZID=Europe/Berlin:20250906T140000
DTEND;TZID=Europe/Berlin:20250906T150000
SUMMARY:Regionsoberliga wJB VICTORIA Naunhof vs VfB Torgau (26006)
UID:45a34473-6db6-4eb8-a01e-974235084c30
STATUS:CONFIRMED
LAST-MODIFIED:20250906T151835Z
DESCRIPTION:Regionsoberliga weibliche B-Jugend\nBegegnungs-Nr: 26006\nHeim: VICTORIA Naunhof\nGast: VfB Torgau\nHalle: Parthelandhalle Naunhof (31120)\nAdresse: Wiesenstraße 34\, 04683 Naunhof\n
LOCATION:Parthelandhalle Naunhof (31120): Wiesenstraße 34\, 04683 Naunhof
CATEGORIES:Saison 2025/26
END:VEVENT
BEGIN:VEVENT
DTSTAMP:20260424T114909Z
DTSTART;TZID=Europe/Berlin:20250921T130000
DTEND;TZID=Europe/Berlin:20250921T140000
SUMMARY:Regionsoberliga wJB VfB Eilenburg vs VfB Torgau (26013)
UID:b7f1640c-d4c9-4360-93cc-394e8ce1fc97
STATUS:CONFIRMED
LAST-MODIFIED:20250921T203115Z
DESCRIPTION:Regionsoberliga weibliche B-Jugend\nBegegnungs-Nr: 26013\nHeim: VfB Eilenburg\nGast: VfB Torgau\nHalle: Belian-SH Eilenburg (31307)\nAdresse: Dr.-Belian-Str. 7\, 04838 Eilenburg\n
LOCATION:Belian-SH Eilenburg (31307): Dr.-Belian-Str. 7\, 04838 Eilenburg
CATEGORIES:Saison 2025/26
END:VEVENT
BEGIN:VEVENT
DTSTAMP:20260424T114909Z
DTSTART;TZID=Europe/Berlin:20251025T153000
DTEND;TZID=Europe/Berlin:20251025T163000
SUMMARY:Regionsoberliga wJB TSG 1861 Taucha vs VfB Torgau (26019)
UID:33758608-158b-4b44-bb6f-444ee1c12e27
STATUS:CONFIRMED
LAST-MODIFIED:20251026T092430Z
DESCRIPTION:Regionsoberliga weibliche B-Jugend\nBegegnungs-Nr: 26019\nHeim: TSG 1861 Taucha\nGast: VfB Torgau\nHalle: Mehrzweckhalle Taucha (31112)\nAdresse: Geschwister-Scholl-Str. 6\, 04425 Taucha\n
LOCATION:Mehrzweckhalle Taucha (31112): Geschwister-Scholl-Str. 6\, 04425 Taucha
CATEGORIES:Saison 2025/26
END:VEVENT
BEGIN:VEVENT
DTSTAMP:20260424T114909Z
DTSTART;TZID=Europe/Berlin:20251109T120000
DTEND;TZID=Europe/Berlin:20251109T130000
SUMMARY:Regionsoberliga wJB Leipziger SV Südwest vs VfB Torgau (26026)
UID:a4a02582-902f-4623-8cba-dfc6de32a098
STATUS:CONFIRMED
LAST-MODIFIED:20251111T173040Z
DESCRIPTION:Regionsoberliga weibliche B-Jugend\nBegegnungs-Nr: 26026\nHeim: Leipziger SV Südwest\nGast: VfB Torgau\nHalle: SH An der Radrennbahn Leipzig (31128)\nAdresse: Windorfer Straße 63\, 04229 Leipzig\n
LOCATION:SH An der Radrennbahn Leipzig (31128): Windorfer Straße 63\, 04229 Leipzig
CATEGORIES:Saison 2025/26
END:VEVENT
BEGIN:VEVENT
DTSTAMP:20260424T114909Z
DTSTART;TZID=Europe/Berlin:20251206T150000
DTEND;TZID=Europe/Berlin:20251206T160000
SUMMARY:Regionsoberliga wJB SG MoGoNo Leipzig vs VfB Torgau (26036)
UID:89c158a9-87ea-4660-83e0-a062c140d550
STATUS:CONFIRMED
LAST-MODIFIED:20251209T151349Z
DESCRIPTION:Regionsoberliga weibliche B-Jugend\nBegegnungs-Nr: 26036\nHeim: SG MoGoNo Leipzig\nGast: VfB Torgau\nHalle: SH Kästner-Grundschule Leipzig (31131)\nAdresse: Erfurter Str\, 04155 Leipzig\n
LOCATION:SH Kästner-Grundschule Leipzig (31131): Erfurter Str\, 04155 Leipzig
CATEGORIES:Saison 2025/26
END:VEVENT
END:VCALENDAR
