BEGIN:VCALENDAR
PRODID:-//nuDatenautomaten//framework iCal4j //DE
VERSION:2.0
CALSCALE:GREGORIAN
BEGIN:VTIMEZONE
TZID:Europe/Berlin
LAST-MODIFIED:20260306T231828Z
TZURL:https://www.tzurl.org/zoneinfo/Europe/Berlin
X-LIC-LOCATION:Europe/Berlin
X-PROLEPTIC-TZNAME:LMT
BEGIN:STANDARD
TZNAME:CET
TZOFFSETFROM:+005328
TZOFFSETTO:+0100
DTSTART:18930401T000000
END:STANDARD
BEGIN:DAYLIGHT
TZNAME:CEST
TZOFFSETFROM:+0100
TZOFFSETTO:+0200
DTSTART:19160430T230000
RDATE:19400401T020000
RDATE:19430329T020000
RDATE:19460414T020000
RDATE:19470406T030000
RDATE:19480418T020000
RDATE:19490410T020000
RDATE:19800406T020000
END:DAYLIGHT
BEGIN:STANDARD
TZNAME:CET
TZOFFSETFROM:+0200
TZOFFSETTO:+0100
DTSTART:19161001T010000
RDATE:19421102T030000
RDATE:19431004T030000
RDATE:19441002T030000
RDATE:19451118T030000
RDATE:19461007T030000
END:STANDARD
BEGIN:DAYLIGHT
TZNAME:CEST
TZOFFSETFROM:+0100
TZOFFSETTO:+0200
DTSTART:19170416T020000
RRULE:FREQ=YEARLY;UNTIL=19180415T010000Z;BYMONTH=4;BYDAY=3MO
END:DAYLIGHT
BEGIN:STANDARD
TZNAME:CET
TZOFFSETFROM:+0200
TZOFFSETTO:+0100
DTSTART:19170917T030000
RRULE:FREQ=YEARLY;UNTIL=19180916T010000Z;BYMONTH=9;BYDAY=3MO
END:STANDARD
BEGIN:DAYLIGHT
TZNAME:CEST
TZOFFSETFROM:+0100
TZOFFSETTO:+0200
DTSTART:19440403T020000
RRULE:FREQ=YEARLY;UNTIL=19450402T010000Z;BYMONTH=4;BYDAY=1MO
END:DAYLIGHT
BEGIN:DAYLIGHT
TZNAME:CEMT
TZOFFSETFROM:+0200
TZOFFSETTO:+0300
DTSTART:19450524T020000
RDATE:19470511T030000
END:DAYLIGHT
BEGIN:DAYLIGHT
TZNAME:CEST
TZOFFSETFROM:+0300
TZOFFSETTO:+0200
DTSTART:19450924T030000
RDATE:19470629T030000
END:DAYLIGHT
BEGIN:STANDARD
TZNAME:CET
TZOFFSETFROM:+0100
TZOFFSETTO:+0100
DTSTART:19460101T000000
RDATE:19800101T000000
END:STANDARD
BEGIN:STANDARD
TZNAME:CET
TZOFFSETFROM:+0200
TZOFFSETTO:+0100
DTSTART:19471005T030000
RRULE:FREQ=YEARLY;UNTIL=19491002T010000Z;BYMONTH=10;BYDAY=1SU
END:STANDARD
BEGIN:STANDARD
TZNAME:CET
TZOFFSETFROM:+0200
TZOFFSETTO:+0100
DTSTART:19800928T030000
RRULE:FREQ=YEARLY;UNTIL=19950924T010000Z;BYMONTH=9;BYDAY=-1SU
END:STANDARD
BEGIN:DAYLIGHT
TZNAME:CEST
TZOFFSETFROM:+0100
TZOFFSETTO:+0200
DTSTART:19810329T020000
RRULE:FREQ=YEARLY;BYMONTH=3;BYDAY=-1SU
END:DAYLIGHT
BEGIN:STANDARD
TZNAME:CET
TZOFFSETFROM:+0200
TZOFFSETTO:+0100
DTSTART:19961027T030000
RRULE:FREQ=YEARLY;BYMONTH=10;BYDAY=-1SU
END:STANDARD
END:VTIMEZONE
BEGIN:VEVENT
DTSTAMP:20260420T051959Z
DTSTART;TZID=Europe/Berlin:20251102T171500
DTEND;TZID=Europe/Berlin:20251102T184500
SUMMARY:Oberliga Sachsen (OLS-M) BSV Limbach-O. vs ZHC Grubenlampe (10038)
UID:1381788f-f358-418c-9ba5-81ccc1866bcb
STATUS:CONFIRMED
LAST-MODIFIED:20251125T202209Z
DESCRIPTION:Oberliga Sachsen\nBegegnungs-Nr: 10038\nHeim: BSV Limbach-O.\nGast: ZHC Grubenlampe\nHalle: GSH Limbach-Oberfrohna (32201)\nAdresse: Anna-Esche-Gäßchen 1\, 09212 Limbach-Oberfrohna\n
LOCATION:GSH Limbach-Oberfrohna (32201): Anna-Esche-Gäßchen 1\, 09212 Limbach-Oberfrohna
CATEGORIES:Saison 2025/26
END:VEVENT
BEGIN:VEVENT
DTSTAMP:20260420T051959Z
DTSTART;TZID=Europe/Berlin:20250927T184500
DTEND;TZID=Europe/Berlin:20250927T201500
SUMMARY:Oberliga Sachsen (OLS-M) BSV Limbach-O. vs HVO Cunewalde (10026)
UID:fa1b01b1-04df-4ff9-bcf9-ec0fc0394be3
STATUS:CONFIRMED
LAST-MODIFIED:20251003T122838Z
DESCRIPTION:Oberliga Sachsen\nBegegnungs-Nr: 10026\nHeim: BSV Limbach-O.\nGast: HVO Cunewalde\nHalle: GSH Limbach-Oberfrohna (32201)\nAdresse: Anna-Esche-Gäßchen 1\, 09212 Limbach-Oberfrohna\n
LOCATION:GSH Limbach-Oberfrohna (32201): Anna-Esche-Gäßchen 1\, 09212 Limbach-Oberfrohna
CATEGORIES:Saison 2025/26
END:VEVENT
BEGIN:VEVENT
DTSTAMP:20260420T051959Z
DTSTART;TZID=Europe/Berlin:20250913T184500
DTEND;TZID=Europe/Berlin:20250913T201500
SUMMARY:Oberliga Sachsen (OLS-M) BSV Limbach-O. vs HSV Dresden (10014)
UID:e35eeaf7-7ba4-4d2c-bf14-69d8567146a7
STATUS:CONFIRMED
LAST-MODIFIED:20250916T184604Z
DESCRIPTION:Oberliga Sachsen\nBegegnungs-Nr: 10014\nHeim: BSV Limbach-O.\nGast: HSV Dresden\nHalle: GSH Limbach-Oberfrohna (32201)\nAdresse: Anna-Esche-Gäßchen 1\, 09212 Limbach-Oberfrohna\n
LOCATION:GSH Limbach-Oberfrohna (32201): Anna-Esche-Gäßchen 1\, 09212 Limbach-Oberfrohna
CATEGORIES:Saison 2025/26
END:VEVENT
BEGIN:VEVENT
DTSTAMP:20260420T051959Z
DTSTART;TZID=Europe/Berlin:20250906T184500
DTEND;TZID=Europe/Berlin:20250906T201500
SUMMARY:Oberliga Sachsen (OLS-M) BSV Limbach-O. vs LHV Hoyerswerda (10008)
UID:99c5ccbb-2a45-4c3b-9230-37167213b6ed
STATUS:CONFIRMED
LAST-MODIFIED:20250915T081405Z
DESCRIPTION:Oberliga Sachsen\nBegegnungs-Nr: 10008\nHeim: BSV Limbach-O.\nGast: LHV Hoyerswerda\nHalle: GSH Limbach-Oberfrohna (32201)\nAdresse: Anna-Esche-Gäßchen 1\, 09212 Limbach-Oberfrohna\n
LOCATION:GSH Limbach-Oberfrohna (32201): Anna-Esche-Gäßchen 1\, 09212 Limbach-Oberfrohna
CATEGORIES:Saison 2025/26
END:VEVENT
BEGIN:VEVENT
DTSTAMP:20260420T051959Z
DTSTART;TZID=Europe/Berlin:20260418T184500
DTEND;TZID=Europe/Berlin:20260418T201500
SUMMARY:Oberliga Sachsen (OLS-M) BSV Limbach-O. vs EHV Aue II (10122)
UID:8daaf5e6-d8ac-4c36-96fe-cc05ec289a11
STATUS:CONFIRMED
DESCRIPTION:Oberliga Sachsen\nBegegnungs-Nr: 10122\nHeim: BSV Limbach-O.\nGast: EHV Aue II\nHalle: GSH Limbach-Oberfrohna (32201)\nAdresse: Anna-Esche-Gäßchen 1\, 09212 Limbach-Oberfrohna\n
LOCATION:GSH Limbach-Oberfrohna (32201): Anna-Esche-Gäßchen 1\, 09212 Limbach-Oberfrohna
CATEGORIES:Saison 2025/26
END:VEVENT
BEGIN:VEVENT
DTSTAMP:20260420T051959Z
DTSTART;TZID=Europe/Berlin:20260301T171500
DTEND;TZID=Europe/Berlin:20260301T184500
SUMMARY:Oberliga Sachsen (OLS-M) BSV Limbach-O. vs SG LVB (10098)
UID:6ff49db4-fb59-4e75-8916-24b078f020b2
STATUS:CONFIRMED
LAST-MODIFIED:20260315T133857Z
DESCRIPTION:Oberliga Sachsen\nBegegnungs-Nr: 10098\nHeim: BSV Limbach-O.\nGast: SG LVB\nHalle: GSH Limbach-Oberfrohna (32201)\nAdresse: Anna-Esche-Gäßchen 1\, 09212 Limbach-Oberfrohna\n
LOCATION:GSH Limbach-Oberfrohna (32201): Anna-Esche-Gäßchen 1\, 09212 Limbach-Oberfrohna
CATEGORIES:Saison 2025/26
END:VEVENT
BEGIN:VEVENT
DTSTAMP:20260420T051959Z
DTSTART;TZID=Europe/Berlin:20260201T171500
DTEND;TZID=Europe/Berlin:20260201T184500
SUMMARY:Oberliga Sachsen (OLS-M) BSV Limbach-O. vs KJS-Club Dresden (10086)
UID:32b72647-5c64-4961-a808-25404ff16b4a
STATUS:CONFIRMED
LAST-MODIFIED:20260201T113416Z
DESCRIPTION:Oberliga Sachsen\nBegegnungs-Nr: 10086\nHeim: BSV Limbach-O.\nGast: KJS-Club Dresden\nHalle: GSH Limbach-Oberfrohna (32201)\nAdresse: Anna-Esche-Gäßchen 1\, 09212 Limbach-Oberfrohna\n
LOCATION:GSH Limbach-Oberfrohna (32201): Anna-Esche-Gäßchen 1\, 09212 Limbach-Oberfrohna
CATEGORIES:Saison 2025/26
END:VEVENT
BEGIN:VEVENT
DTSTAMP:20260420T051959Z
DTSTART;TZID=Europe/Berlin:20260110T184500
DTEND;TZID=Europe/Berlin:20260110T201500
SUMMARY:Oberliga Sachsen (OLS-M) BSV Limbach-O. vs SV 04 Plauen-O. II (10067)
UID:e6f35b30-fbb2-4683-ae32-207ae7b18e74
STATUS:CONFIRMED
LAST-MODIFIED:20260113T171702Z
DESCRIPTION:Oberliga Sachsen\nBegegnungs-Nr: 10067\nHeim: BSV Limbach-O.\nGast: SV 04 Plauen-O. II\nHalle: GSH Limbach-Oberfrohna (32201)\nAdresse: Anna-Esche-Gäßchen 1\, 09212 Limbach-Oberfrohna\n
LOCATION:GSH Limbach-Oberfrohna (32201): Anna-Esche-Gäßchen 1\, 09212 Limbach-Oberfrohna
CATEGORIES:Saison 2025/26
END:VEVENT
BEGIN:VEVENT
DTSTAMP:20260420T051959Z
DTSTART;TZID=Europe/Berlin:20251206T184500
DTEND;TZID=Europe/Berlin:20251206T201500
SUMMARY:Oberliga Sachsen (OLS-M) BSV Limbach-O. vs Koweg Görlitz (10062)
UID:f5273d07-d386-4484-ad2b-04f988dda893
STATUS:CONFIRMED
LAST-MODIFIED:20260113T171553Z
DESCRIPTION:Oberliga Sachsen\nBegegnungs-Nr: 10062\nHeim: BSV Limbach-O.\nGast: Koweg Görlitz\nHalle: GSH Limbach-Oberfrohna (32201)\nAdresse: Anna-Esche-Gäßchen 1\, 09212 Limbach-Oberfrohna\n
LOCATION:GSH Limbach-Oberfrohna (32201): Anna-Esche-Gäßchen 1\, 09212 Limbach-Oberfrohna
CATEGORIES:Saison 2025/26
END:VEVENT
BEGIN:VEVENT
DTSTAMP:20260420T051959Z
DTSTART;TZID=Europe/Berlin:20251122T184500
DTEND;TZID=Europe/Berlin:20251122T201500
SUMMARY:Oberliga Sachsen (OLS-M) BSV Limbach-O. vs Zwönitzer HSV (10050)
UID:7bc7dbab-af05-4664-8d89-cfb3370f5638
STATUS:CONFIRMED
LAST-MODIFIED:20251125T203212Z
DESCRIPTION:Oberliga Sachsen\nBegegnungs-Nr: 10050\nHeim: BSV Limbach-O.\nGast: Zwönitzer HSV\nHalle: GSH Limbach-Oberfrohna (32201)\nAdresse: Anna-Esche-Gäßchen 1\, 09212 Limbach-Oberfrohna\n
LOCATION:GSH Limbach-Oberfrohna (32201): Anna-Esche-Gäßchen 1\, 09212 Limbach-Oberfrohna
CATEGORIES:Saison 2025/26
END:VEVENT
BEGIN:VEVENT
DTSTAMP:20260420T051959Z
DTSTART;TZID=Europe/Berlin:20251026T160000
DTEND;TZID=Europe/Berlin:20251026T173000
SUMMARY:Oberliga Sachsen (OLS-M) SG LVB vs BSV Limbach-O. (10032)
UID:26f1dae6-29a6-44e8-8471-606a82d91ce8
STATUS:CONFIRMED
LAST-MODIFIED:20251029T204647Z
DESCRIPTION:Oberliga Sachsen\nBegegnungs-Nr: 10032\nHeim: SG LVB\nGast: BSV Limbach-O.\nHalle: SH Sportoberschule (31132)\nAdresse: Max -Planck-Str. 53-55\, 04105 Leipzig\n
LOCATION:SH Sportoberschule (31132): Max -Planck-Str. 53-55\, 04105 Leipzig
CATEGORIES:Saison 2025/26
END:VEVENT
BEGIN:VEVENT
DTSTAMP:20260420T051959Z
DTSTART;TZID=Europe/Berlin:20250920T180000
DTEND;TZID=Europe/Berlin:20250920T193000
SUMMARY:Oberliga Sachsen (OLS-M) KJS-Club Dresden vs BSV Limbach-O. (10020)
UID:5fc56329-6b65-429a-8cf8-166b1f51caea
STATUS:CONFIRMED
LAST-MODIFIED:20250923T112517Z
DESCRIPTION:Oberliga Sachsen\nBegegnungs-Nr: 10020\nHeim: KJS-Club Dresden\nGast: BSV Limbach-O.\nHalle: SH Bertolt-Brecht-Gymnasium Dresden (33129)\nAdresse: Thomaestraße 60\, 01307 Dresden\n
LOCATION:SH Bertolt-Brecht-Gymnasium Dresden (33129): Thomaestraße 60\, 01307 Dresden
CATEGORIES:Saison 2025/26
END:VEVENT
BEGIN:VEVENT
DTSTAMP:20260420T051959Z
DTSTART;TZID=Europe/Berlin:20250830T183000
DTEND;TZID=Europe/Berlin:20250830T200000
SUMMARY:Oberliga Sachsen (OLS-M) SV 04 Plauen-O. II vs BSV Limbach-O. (10001)
UID:1a5c6bd0-e8d7-4ac8-bd1a-4e67016b6057
STATUS:CONFIRMED
LAST-MODIFIED:20251029T210031Z
DESCRIPTION:Oberliga Sachsen\nBegegnungs-Nr: 10001\nHeim: SV 04 Plauen-O. II\nGast: BSV Limbach-O.\nHalle: SH Kurt-Helbig Plauen (32701)\nAdresse: Comeniusstr. 15\, 08523 Plauen\n
LOCATION:SH Kurt-Helbig Plauen (32701): Comeniusstr. 15\, 08523 Plauen
CATEGORIES:Saison 2025/26
END:VEVENT
BEGIN:VEVENT
DTSTAMP:20260420T051959Z
DTSTART;TZID=Europe/Berlin:20260426T163000
DTEND;TZID=Europe/Berlin:20260426T180000
SUMMARY:Oberliga Sachsen (OLS-M) Koweg Görlitz vs BSV Limbach-O. (10128)
UID:1e6dafdf-ba16-46e2-8238-e67ffe4b0a59
STATUS:CONFIRMED
DESCRIPTION:Oberliga Sachsen\nBegegnungs-Nr: 10128\nHeim: Koweg Görlitz\nGast: BSV Limbach-O.\nHalle: Jahn-SH Görlitz (34302)\nAdresse: Kummerau 6\, 02826 Görlitz\n
LOCATION:Jahn-SH Görlitz (34302): Kummerau 6\, 02826 Görlitz
CATEGORIES:Saison 2025/26
END:VEVENT
BEGIN:VEVENT
DTSTAMP:20260420T051959Z
DTSTART;TZID=Europe/Berlin:20260328T163000
DTEND;TZID=Europe/Berlin:20260328T180000
SUMMARY:Oberliga Sachsen (OLS-M) Zwönitzer HSV vs BSV Limbach-O. (10116)
UID:3506aa2f-80d9-4475-a4a6-3abf97ee04fa
STATUS:CONFIRMED
DESCRIPTION:Oberliga Sachsen\nBegegnungs-Nr: 10116\nHeim: Zwönitzer HSV\nGast: BSV Limbach-O.\nHalle: SH Zwönitz (32301)\nAdresse: Turnhallenweg 5\, 08297 Zwönitz\n
LOCATION:SH Zwönitz (32301): Turnhallenweg 5\, 08297 Zwönitz
CATEGORIES:Saison 2025/26
END:VEVENT
BEGIN:VEVENT
DTSTAMP:20260420T051959Z
DTSTART;TZID=Europe/Berlin:20260307T170000
DTEND;TZID=Europe/Berlin:20260307T183000
SUMMARY:Oberliga Sachsen (OLS-M) ZHC Grubenlampe vs BSV Limbach-O. (10104)
UID:d7df610e-5e32-4ca4-bac9-a117e4c789fc
STATUS:CONFIRMED
LAST-MODIFIED:20260315T133414Z
DESCRIPTION:Oberliga Sachsen\nBegegnungs-Nr: 10104\nHeim: ZHC Grubenlampe\nGast: BSV Limbach-O.\nHalle: SH Zwickau-Neuplanitz (32501)\nAdresse: Dortmunder Str. 7a\, 08062 Zwickau\n
LOCATION:SH Zwickau-Neuplanitz (32501): Dortmunder Str. 7a\, 08062 Zwickau
CATEGORIES:Saison 2025/26
END:VEVENT
BEGIN:VEVENT
DTSTAMP:20260420T051959Z
DTSTART;TZID=Europe/Berlin:20260207T173000
DTEND;TZID=Europe/Berlin:20260207T190000
SUMMARY:Oberliga Sachsen (OLS-M) HVO Cunewalde vs BSV Limbach-O. (10092)
UID:8413f004-7c1a-433d-ad42-4ab266f77c79
STATUS:CONFIRMED
LAST-MODIFIED:20260225T084731Z
DESCRIPTION:Oberliga Sachsen\nBegegnungs-Nr: 10092\nHeim: HVO Cunewalde\nGast: BSV Limbach-O.\nHalle: SH Schützenplatz Bautzen (34502)\nAdresse: Auf dem Schützenplatz 3\, 02625 Bautzen\n
LOCATION:SH Schützenplatz Bautzen (34502): Auf dem Schützenplatz 3\, 02625 Bautzen
CATEGORIES:Saison 2025/26
END:VEVENT
BEGIN:VEVENT
DTSTAMP:20260420T051959Z
DTSTART;TZID=Europe/Berlin:20260124T190000
DTEND;TZID=Europe/Berlin:20260124T203000
SUMMARY:Oberliga Sachsen (OLS-M) HSV Dresden vs BSV Limbach-O. (10080)
UID:e1c09c57-614f-4c43-90a9-5454c81a0bed
STATUS:CONFIRMED
LAST-MODIFIED:20260315T134819Z
DESCRIPTION:Oberliga Sachsen\nBegegnungs-Nr: 10080\nHeim: HSV Dresden\nGast: BSV Limbach-O.\nHalle: SH 121. Oberschule Dresden (33102)\nAdresse: Gamigstraße 28/30\, 01239 Dresden\n
LOCATION:SH 121. Oberschule Dresden (33102): Gamigstraße 28/30\, 01239 Dresden
CATEGORIES:Saison 2025/26
END:VEVENT
BEGIN:VEVENT
DTSTAMP:20260420T051959Z
DTSTART;TZID=Europe/Berlin:20260117T183000
DTEND;TZID=Europe/Berlin:20260117T200000
SUMMARY:Oberliga Sachsen (OLS-M) LHV Hoyerswerda vs BSV Limbach-O. (10074)
UID:0d893636-4d5b-4ece-b9cf-db4c455f4b56
STATUS:CONFIRMED
LAST-MODIFIED:20260304T111521Z
DESCRIPTION:Oberliga Sachsen\nBegegnungs-Nr: 10074\nHeim: LHV Hoyerswerda\nGast: BSV Limbach-O.\nHalle: SH BSZ \"Konrad Zuse\" Hoyerswerda (34201)\nAdresse: Käthe-Kollwitz-Str. 5\, 02977 Hoyerswerda\n
LOCATION:SH BSZ \"Konrad Zuse\" Hoyerswerda (34201): Käthe-Kollwitz-Str. 5\, 02977 Hoyerswerda
CATEGORIES:Saison 2025/26
END:VEVENT
BEGIN:VEVENT
DTSTAMP:20260420T051959Z
DTSTART;TZID=Europe/Berlin:20251129T180000
DTEND;TZID=Europe/Berlin:20251129T193000
SUMMARY:Oberliga Sachsen (OLS-M) EHV Aue II vs BSV Limbach-O. (10056)
UID:870154bb-4ef6-431f-af49-758c8204e491
STATUS:CONFIRMED
LAST-MODIFIED:20251130T153250Z
DESCRIPTION:Oberliga Sachsen\nBegegnungs-Nr: 10056\nHeim: EHV Aue II\nGast: BSV Limbach-O.\nHalle: Erzgebirgshalle Lößnitz (32303)\nAdresse: Ringstraße 15\, 08294 Lößnitz\n
LOCATION:Erzgebirgshalle Lößnitz (32303): Ringstraße 15\, 08294 Lößnitz
CATEGORIES:Saison 2025/26
END:VEVENT
END:VCALENDAR
