BEGIN:VCALENDAR
PRODID:-//nuDatenautomaten//framework iCal4j //DE
VERSION:2.0
CALSCALE:GREGORIAN
BEGIN:VTIMEZONE
TZID:Europe/Berlin
LAST-MODIFIED:20260306T231828Z
TZURL:https://www.tzurl.org/zoneinfo/Europe/Berlin
X-LIC-LOCATION:Europe/Berlin
X-PROLEPTIC-TZNAME:LMT
BEGIN:STANDARD
TZNAME:CET
TZOFFSETFROM:+005328
TZOFFSETTO:+0100
DTSTART:18930401T000000
END:STANDARD
BEGIN:DAYLIGHT
TZNAME:CEST
TZOFFSETFROM:+0100
TZOFFSETTO:+0200
DTSTART:19160430T230000
RDATE:19400401T020000
RDATE:19430329T020000
RDATE:19460414T020000
RDATE:19470406T030000
RDATE:19480418T020000
RDATE:19490410T020000
RDATE:19800406T020000
END:DAYLIGHT
BEGIN:STANDARD
TZNAME:CET
TZOFFSETFROM:+0200
TZOFFSETTO:+0100
DTSTART:19161001T010000
RDATE:19421102T030000
RDATE:19431004T030000
RDATE:19441002T030000
RDATE:19451118T030000
RDATE:19461007T030000
END:STANDARD
BEGIN:DAYLIGHT
TZNAME:CEST
TZOFFSETFROM:+0100
TZOFFSETTO:+0200
DTSTART:19170416T020000
RRULE:FREQ=YEARLY;UNTIL=19180415T010000Z;BYMONTH=4;BYDAY=3MO
END:DAYLIGHT
BEGIN:STANDARD
TZNAME:CET
TZOFFSETFROM:+0200
TZOFFSETTO:+0100
DTSTART:19170917T030000
RRULE:FREQ=YEARLY;UNTIL=19180916T010000Z;BYMONTH=9;BYDAY=3MO
END:STANDARD
BEGIN:DAYLIGHT
TZNAME:CEST
TZOFFSETFROM:+0100
TZOFFSETTO:+0200
DTSTART:19440403T020000
RRULE:FREQ=YEARLY;UNTIL=19450402T010000Z;BYMONTH=4;BYDAY=1MO
END:DAYLIGHT
BEGIN:DAYLIGHT
TZNAME:CEMT
TZOFFSETFROM:+0200
TZOFFSETTO:+0300
DTSTART:19450524T020000
RDATE:19470511T030000
END:DAYLIGHT
BEGIN:DAYLIGHT
TZNAME:CEST
TZOFFSETFROM:+0300
TZOFFSETTO:+0200
DTSTART:19450924T030000
RDATE:19470629T030000
END:DAYLIGHT
BEGIN:STANDARD
TZNAME:CET
TZOFFSETFROM:+0100
TZOFFSETTO:+0100
DTSTART:19460101T000000
RDATE:19800101T000000
END:STANDARD
BEGIN:STANDARD
TZNAME:CET
TZOFFSETFROM:+0200
TZOFFSETTO:+0100
DTSTART:19471005T030000
RRULE:FREQ=YEARLY;UNTIL=19491002T010000Z;BYMONTH=10;BYDAY=1SU
END:STANDARD
BEGIN:STANDARD
TZNAME:CET
TZOFFSETFROM:+0200
TZOFFSETTO:+0100
DTSTART:19800928T030000
RRULE:FREQ=YEARLY;UNTIL=19950924T010000Z;BYMONTH=9;BYDAY=-1SU
END:STANDARD
BEGIN:DAYLIGHT
TZNAME:CEST
TZOFFSETFROM:+0100
TZOFFSETTO:+0200
DTSTART:19810329T020000
RRULE:FREQ=YEARLY;BYMONTH=3;BYDAY=-1SU
END:DAYLIGHT
BEGIN:STANDARD
TZNAME:CET
TZOFFSETFROM:+0200
TZOFFSETTO:+0100
DTSTART:19961027T030000
RRULE:FREQ=YEARLY;BYMONTH=10;BYDAY=-1SU
END:STANDARD
END:VTIMEZONE
BEGIN:VEVENT
DTSTAMP:20260422T095119Z
DTSTART;TZID=Europe/Berlin:20260228T160000
DTEND;TZID=Europe/Berlin:20260228T173000
SUMMARY:Oberliga Sachsen (OLS-F) HC Rödertal  II vs HSG Neudorf/Döbeln (11101)
UID:8e7ce9f3-42ad-48f1-a3d4-b816b6acca5e
STATUS:CONFIRMED
LAST-MODIFIED:20260303T175606Z
DESCRIPTION:Oberliga Sachsen Frauen\nBegegnungs-Nr: 11101\nHeim: HC Rödertal  II\nGast: HSG Neudorf/Döbeln\nHalle: 3-Feld-Halle-GY Großröhrsdorf (34514)\nAdresse: Melanchthonstraße 21\, 01900  Großröhrsdorf\n
LOCATION:3-Feld-Halle-GY Großröhrsdorf (34514): Melanchthonstraße 21\, 01900  Großröhrsdorf
CATEGORIES:Saison 2025/26
END:VEVENT
BEGIN:VEVENT
DTSTAMP:20260422T095119Z
DTSTART;TZID=Europe/Berlin:20260201T160000
DTEND;TZID=Europe/Berlin:20260201T173000
SUMMARY:Oberliga Sachsen (OLS-F) HC Rödertal  II vs HSV Marienberg (11088)
UID:1e389a63-0bc9-405f-a6e2-e57f7c69eedf
STATUS:CONFIRMED
LAST-MODIFIED:20260211T090428Z
DESCRIPTION:Oberliga Sachsen Frauen\nBegegnungs-Nr: 11088\nHeim: HC Rödertal  II\nGast: HSV Marienberg\nHalle: 3-Feld-Halle-GY Großröhrsdorf (34514)\nAdresse: Melanchthonstraße 21\, 01900  Großröhrsdorf\n
LOCATION:3-Feld-Halle-GY Großröhrsdorf (34514): Melanchthonstraße 21\, 01900  Großröhrsdorf
CATEGORIES:Saison 2025/26
END:VEVENT
BEGIN:VEVENT
DTSTAMP:20260422T095119Z
DTSTART;TZID=Europe/Berlin:20260215T150000
DTEND;TZID=Europe/Berlin:20260215T163000
SUMMARY:Oberliga Sachsen (OLS-F) HC Rödertal  II vs SC Riesa (11075)
UID:00475832-5522-47d7-9254-c5c029e7fa2d
STATUS:CONFIRMED
LAST-MODIFIED:20260218T124443Z
DESCRIPTION:Oberliga Sachsen Frauen\nBegegnungs-Nr: 11075\nHeim: HC Rödertal  II\nGast: SC Riesa\nHalle: 3-Feld-Halle-GY Großröhrsdorf (34514)\nAdresse: Melanchthonstraße 21\, 01900  Großröhrsdorf\n
LOCATION:3-Feld-Halle-GY Großröhrsdorf (34514): Melanchthonstraße 21\, 01900  Großröhrsdorf
CATEGORIES:Saison 2025/26
END:VEVENT
BEGIN:VEVENT
DTSTAMP:20260422T095119Z
DTSTART;TZID=Europe/Berlin:20251129T150000
DTEND;TZID=Europe/Berlin:20251129T163000
SUMMARY:Oberliga Sachsen (OLS-F) HC Rödertal  II vs SV 04 Plauen-O. (11055)
UID:639756aa-21bb-43c2-9bdb-a1cb234246d0
STATUS:CONFIRMED
LAST-MODIFIED:20251129T195804Z
DESCRIPTION:Oberliga Sachsen Frauen\nBegegnungs-Nr: 11055\nHeim: HC Rödertal  II\nGast: SV 04 Plauen-O.\nHalle: 3-Feld-Halle-GY Großröhrsdorf (34514)\nAdresse: Melanchthonstraße 21\, 01900  Großröhrsdorf\n
LOCATION:3-Feld-Halle-GY Großröhrsdorf (34514): Melanchthonstraße 21\, 01900  Großröhrsdorf
CATEGORIES:Saison 2025/26
END:VEVENT
BEGIN:VEVENT
DTSTAMP:20260422T095119Z
DTSTART;TZID=Europe/Berlin:20251122T150000
DTEND;TZID=Europe/Berlin:20251122T163000
SUMMARY:Oberliga Sachsen (OLS-F) HC Rödertal  II vs SG Klotzsche (11054)
UID:a4e5ad08-3496-4b34-ba1f-451d6b77b85f
STATUS:CONFIRMED
LAST-MODIFIED:20251129T195017Z
DESCRIPTION:Oberliga Sachsen Frauen\nBegegnungs-Nr: 11054\nHeim: HC Rödertal  II\nGast: SG Klotzsche\nHalle: 3-Feld-Halle-GY Großröhrsdorf (34514)\nAdresse: Melanchthonstraße 21\, 01900  Großröhrsdorf\n
LOCATION:3-Feld-Halle-GY Großröhrsdorf (34514): Melanchthonstraße 21\, 01900  Großröhrsdorf
CATEGORIES:Saison 2025/26
END:VEVENT
BEGIN:VEVENT
DTSTAMP:20260422T095119Z
DTSTART;TZID=Europe/Berlin:20250927T150000
DTEND;TZID=Europe/Berlin:20250927T163000
SUMMARY:Oberliga Sachsen (OLS-F) HC Rödertal  II vs VfB Bischofswerda (11028)
UID:cff8a906-80e4-4389-a0f3-f1790c66c1a7
STATUS:CONFIRMED
LAST-MODIFIED:20250928T144626Z
DESCRIPTION:Oberliga Sachsen Frauen\nBegegnungs-Nr: 11028\nHeim: HC Rödertal  II\nGast: VfB Bischofswerda\nHalle: 3-Feld-Halle-GY Großröhrsdorf (34514)\nAdresse: Melanchthonstraße 21\, 01900  Großröhrsdorf\n
LOCATION:3-Feld-Halle-GY Großröhrsdorf (34514): Melanchthonstraße 21\, 01900  Großröhrsdorf
CATEGORIES:Saison 2025/26
END:VEVENT
BEGIN:VEVENT
DTSTAMP:20260422T095119Z
DTSTART;TZID=Europe/Berlin:20250913T153000
DTEND;TZID=Europe/Berlin:20250913T170000
SUMMARY:Oberliga Sachsen (OLS-F) HC Rödertal  II vs SV Schneeberg (11015)
UID:c1c53029-6246-45d6-ba06-3498bd14547a
STATUS:CONFIRMED
DESCRIPTION:Oberliga Sachsen Frauen\nBegegnungs-Nr: 11015\nHeim: HC Rödertal  II\nGast: SV Schneeberg\nHalle: 3-Feld-Halle-GY Großröhrsdorf (34514)\nAdresse: Melanchthonstraße 21\, 01900  Großröhrsdorf\n
LOCATION:3-Feld-Halle-GY Großröhrsdorf (34514): Melanchthonstraße 21\, 01900  Großröhrsdorf
CATEGORIES:Saison 2025/26
END:VEVENT
BEGIN:VEVENT
DTSTAMP:20260422T095119Z
DTSTART;TZID=Europe/Berlin:20250830T133000
DTEND;TZID=Europe/Berlin:20250830T150000
SUMMARY:Oberliga Sachsen (OLS-F) HC Rödertal  II vs BSV Sa. Zwickau II (11002)
UID:5623880b-3a53-4487-8d79-abc3c7be2028
STATUS:CONFIRMED
LAST-MODIFIED:20251202T202125Z
DESCRIPTION:Oberliga Sachsen Frauen\nBegegnungs-Nr: 11002\nHeim: HC Rödertal  II\nGast: BSV Sa. Zwickau II\nHalle: 3-Feld-Halle-GY Großröhrsdorf (34514)\nAdresse: Melanchthonstraße 21\, 01900  Großröhrsdorf\n
LOCATION:3-Feld-Halle-GY Großröhrsdorf (34514): Melanchthonstraße 21\, 01900  Großröhrsdorf
CATEGORIES:Saison 2025/26
END:VEVENT
BEGIN:VEVENT
DTSTAMP:20260422T095119Z
DTSTART;TZID=Europe/Berlin:20260426T140000
DTEND;TZID=Europe/Berlin:20260426T153000
SUMMARY:Oberliga Sachsen (OLS-F) HC Rödertal  II vs HSG Langenhessen/Crimmitschau (11128)
UID:96444fe0-e8da-45b4-8b6d-abb613976197
STATUS:CONFIRMED
DESCRIPTION:Oberliga Sachsen Frauen\nBegegnungs-Nr: 11128\nHeim: HC Rödertal  II\nGast: HSG Langenhessen/Crimmitschau\nHalle: 3-Feld-Halle-GY Großröhrsdorf (34514)\nAdresse: Melanchthonstraße 21\, 01900  Großröhrsdorf\n
LOCATION:3-Feld-Halle-GY Großröhrsdorf (34514): Melanchthonstraße 21\, 01900  Großröhrsdorf
CATEGORIES:Saison 2025/26
END:VEVENT
BEGIN:VEVENT
DTSTAMP:20260422T095119Z
DTSTART;TZID=Europe/Berlin:20260321T140000
DTEND;TZID=Europe/Berlin:20260321T153000
SUMMARY:Oberliga Sachsen (OLS-F) HC Rödertal  II vs SF 01 Dresden (11114)
UID:ed9b8646-b00a-4b81-aab1-0d95843b7a3c
STATUS:CONFIRMED
LAST-MODIFIED:20260325T084451Z
DESCRIPTION:Oberliga Sachsen Frauen\nBegegnungs-Nr: 11114\nHeim: HC Rödertal  II\nGast: SF 01 Dresden\nHalle: 3-Feld-Halle-GY Großröhrsdorf (34514)\nAdresse: Melanchthonstraße 21\, 01900  Großröhrsdorf\n
LOCATION:3-Feld-Halle-GY Großröhrsdorf (34514): Melanchthonstraße 21\, 01900  Großröhrsdorf
CATEGORIES:Saison 2025/26
END:VEVENT
BEGIN:VEVENT
DTSTAMP:20260422T095119Z
DTSTART;TZID=Europe/Berlin:20260308T153000
DTEND;TZID=Europe/Berlin:20260308T170000
SUMMARY:Oberliga Sachsen (OLS-F) HC Rödertal  II vs Rotation Weißenborn (11107)
UID:fdab201d-0a0b-4c6c-be9c-d45bb4bf4333
STATUS:CONFIRMED
LAST-MODIFIED:20260316T130428Z
DESCRIPTION:Oberliga Sachsen Frauen\nBegegnungs-Nr: 11107\nHeim: HC Rödertal  II\nGast: Rotation Weißenborn\nHalle: 3-Feld-Halle-GY Großröhrsdorf (34514)\nAdresse: Melanchthonstraße 21\, 01900  Großröhrsdorf\n
LOCATION:3-Feld-Halle-GY Großröhrsdorf (34514): Melanchthonstraße 21\, 01900  Großröhrsdorf
CATEGORIES:Saison 2025/26
END:VEVENT
BEGIN:VEVENT
DTSTAMP:20260422T095119Z
DTSTART;TZID=Europe/Berlin:20260207T180000
DTEND;TZID=Europe/Berlin:20260207T193000
SUMMARY:Oberliga Sachsen (OLS-F) VfB Bischofswerda vs HC Rödertal  II (11094)
UID:7d855c00-8de6-4414-aac7-b0b05ed0b830
STATUS:CONFIRMED
LAST-MODIFIED:20260211T091300Z
DESCRIPTION:Oberliga Sachsen Frauen\nBegegnungs-Nr: 11094\nHeim: VfB Bischofswerda\nGast: HC Rödertal  II\nHalle: SH Wesenitzsportpark Bischofswerda (34505)\nAdresse: Clara-Zetkin-Str. 4\, 01877  Bischofswerda\n
LOCATION:SH Wesenitzsportpark Bischofswerda (34505): Clara-Zetkin-Str. 4\, 01877  Bischofswerda
CATEGORIES:Saison 2025/26
END:VEVENT
BEGIN:VEVENT
DTSTAMP:20260422T095119Z
DTSTART;TZID=Europe/Berlin:20260124T193000
DTEND;TZID=Europe/Berlin:20260124T210000
SUMMARY:Oberliga Sachsen (OLS-F) SV Schneeberg vs HC Rödertal  II (11081)
UID:8afccb9b-fc97-4dd3-a910-4fb3e7216665
STATUS:CONFIRMED
LAST-MODIFIED:20260130T080340Z
DESCRIPTION:Oberliga Sachsen Frauen\nBegegnungs-Nr: 11081\nHeim: SV Schneeberg\nGast: HC Rödertal  II\nHalle: Silberstrom-Halle Schneeberg (32307)\nAdresse: Keilbergring 20\, 08289 Schneeberg\n
LOCATION:Silberstrom-Halle Schneeberg (32307): Keilbergring 20\, 08289 Schneeberg
CATEGORIES:Saison 2025/26
END:VEVENT
BEGIN:VEVENT
DTSTAMP:20260422T095119Z
DTSTART;TZID=Europe/Berlin:20260222T143000
DTEND;TZID=Europe/Berlin:20260222T160000
SUMMARY:Oberliga Sachsen (OLS-F) BSV Sa. Zwickau II vs HC Rödertal  II (11068)
UID:0dffa875-d2a6-4743-976e-6b84cb567201
STATUS:CONFIRMED
LAST-MODIFIED:20260227T153733Z
DESCRIPTION:Oberliga Sachsen Frauen\nBegegnungs-Nr: 11068\nHeim: BSV Sa. Zwickau II\nGast: HC Rödertal  II\nHalle: SH Zwickau-Neuplanitz (32501)\nAdresse: Dortmunder Str. 7a\, 08062 Zwickau\n
LOCATION:SH Zwickau-Neuplanitz (32501): Dortmunder Str. 7a\, 08062 Zwickau
CATEGORIES:Saison 2025/26
END:VEVENT
BEGIN:VEVENT
DTSTAMP:20260422T095119Z
DTSTART;TZID=Europe/Berlin:20251207T170000
DTEND;TZID=Europe/Berlin:20251207T183000
SUMMARY:Oberliga Sachsen (OLS-F) HSG Langenhessen/Crimmitschau vs HC Rödertal  II (11062)
UID:f00b5951-feaf-473b-8c26-c91a3b7425d8
STATUS:CONFIRMED
LAST-MODIFIED:20260218T124621Z
DESCRIPTION:Oberliga Sachsen Frauen\nBegegnungs-Nr: 11062\nHeim: HSG Langenhessen/Crimmitschau\nGast: HC Rödertal  II\nHalle: SH Koberbachzentrum Langenhessen (32505)\nAdresse: Seelingstädter Str. 7\, 08412 Werdau OT Langenhessen\n
LOCATION:SH Koberbachzentrum Langenhessen (32505): Seelingstädter Str. 7\, 08412 Werdau OT Langenhessen
CATEGORIES:Saison 2025/26
END:VEVENT
BEGIN:VEVENT
DTSTAMP:20260422T095119Z
DTSTART;TZID=Europe/Berlin:20251101T160000
DTEND;TZID=Europe/Berlin:20251101T173000
SUMMARY:Oberliga Sachsen (OLS-F) Rotation Weißenborn vs HC Rödertal  II (11041)
UID:fd692b26-417d-4c69-834b-0d21e3952757
STATUS:CONFIRMED
LAST-MODIFIED:20251105T090137Z
DESCRIPTION:Oberliga Sachsen Frauen\nBegegnungs-Nr: 11041\nHeim: Rotation Weißenborn\nGast: HC Rödertal  II\nHalle: SH Schoeller Weißenborn (32415)\nAdresse: Lichtenberger Straße 8\, 09600 Weißenborn\n
LOCATION:SH Schoeller Weißenborn (32415): Lichtenberger Straße 8\, 09600 Weißenborn
CATEGORIES:Saison 2025/26
END:VEVENT
BEGIN:VEVENT
DTSTAMP:20260422T095119Z
DTSTART;TZID=Europe/Berlin:20251026T150000
DTEND;TZID=Europe/Berlin:20251026T163000
SUMMARY:Oberliga Sachsen (OLS-F) HSG Neudorf/Döbeln vs HC Rödertal  II (11035)
UID:6bd087fd-77a1-4c46-b45e-ec101279dbf4
STATUS:CONFIRMED
LAST-MODIFIED:20251105T085600Z
DESCRIPTION:Oberliga Sachsen Frauen\nBegegnungs-Nr: 11035\nHeim: HSG Neudorf/Döbeln\nGast: HC Rödertal  II\nHalle: Stadt-SH Döbeln (31202)\nAdresse: Str. des Friedens 9\, 04720 Döbeln\n
LOCATION:Stadt-SH Döbeln (31202): Str. des Friedens 9\, 04720 Döbeln
CATEGORIES:Saison 2025/26
END:VEVENT
BEGIN:VEVENT
DTSTAMP:20260422T095119Z
DTSTART;TZID=Europe/Berlin:20250920T170000
DTEND;TZID=Europe/Berlin:20250920T183000
SUMMARY:Oberliga Sachsen (OLS-F) HSV Marienberg vs HC Rödertal  II (11022)
UID:94bd361a-5e05-481d-8a7b-4007b6585bde
STATUS:CONFIRMED
LAST-MODIFIED:20250925T054501Z
DESCRIPTION:Oberliga Sachsen Frauen\nBegegnungs-Nr: 11022\nHeim: HSV Marienberg\nGast: HC Rödertal  II\nHalle: SH am Goldkindstein Marienberg (32416)\nAdresse: Dr.-Wilhelm-Külz-Allee 23\, 09496 Marienberg\n
LOCATION:SH am Goldkindstein Marienberg (32416): Dr.-Wilhelm-Külz-Allee 23\, 09496 Marienberg
CATEGORIES:Saison 2025/26
END:VEVENT
BEGIN:VEVENT
DTSTAMP:20260422T095119Z
DTSTART;TZID=Europe/Berlin:20250906T190000
DTEND;TZID=Europe/Berlin:20250906T203000
SUMMARY:Oberliga Sachsen (OLS-F) SC Riesa vs HC Rödertal  II (11009)
UID:a13c1c32-77a2-4cc4-b086-e12e565a2a85
STATUS:CONFIRMED
LAST-MODIFIED:20250907T120252Z
DESCRIPTION:Oberliga Sachsen Frauen\nBegegnungs-Nr: 11009\nHeim: SC Riesa\nGast: HC Rödertal  II\nHalle: WM-Sporthalle Riesa (33213)\nAdresse: Am Sportzentrum 1\, 01587 Riesa\n
LOCATION:WM-Sporthalle Riesa (33213): Am Sportzentrum 1\, 01587 Riesa
CATEGORIES:Saison 2025/26
END:VEVENT
BEGIN:VEVENT
DTSTAMP:20260422T095119Z
DTSTART;TZID=Europe/Berlin:20260418T160000
DTEND;TZID=Europe/Berlin:20260418T173000
SUMMARY:Oberliga Sachsen (OLS-F) SV 04 Plauen-O. vs HC Rödertal  II (11121)
UID:c49a52ac-9d33-4afe-886e-a8db7e1b8b6a
STATUS:CONFIRMED
LAST-MODIFIED:20260419T130507Z
DESCRIPTION:Oberliga Sachsen Frauen\nBegegnungs-Nr: 11121\nHeim: SV 04 Plauen-O.\nGast: HC Rödertal  II\nHalle: SH Kurt-Helbig Plauen (32701)\nAdresse: Comeniusstr. 15\, 08523 Plauen\n
LOCATION:SH Kurt-Helbig Plauen (32701): Comeniusstr. 15\, 08523 Plauen
CATEGORIES:Saison 2025/26
END:VEVENT
BEGIN:VEVENT
DTSTAMP:20260422T095119Z
DTSTART;TZID=Europe/Berlin:20260328T190000
DTEND;TZID=Europe/Berlin:20260328T203000
SUMMARY:Oberliga Sachsen (OLS-F) SG Klotzsche vs HC Rödertal  II (11120)
UID:428431b4-2e12-4794-8782-abacab660850
STATUS:CONFIRMED
LAST-MODIFIED:20260329T173521Z
DESCRIPTION:Oberliga Sachsen Frauen\nBegegnungs-Nr: 11120\nHeim: SG Klotzsche\nGast: HC Rödertal  II\nHalle: SH Gymnasium Klotzsche (33126)\nAdresse: Karl-Marx-Straße 44\, 01109 Dresden\n
LOCATION:SH Gymnasium Klotzsche (33126): Karl-Marx-Straße 44\, 01109 Dresden
CATEGORIES:Saison 2025/26
END:VEVENT
BEGIN:VEVENT
DTSTAMP:20260422T095119Z
DTSTART;TZID=Europe/Berlin:20251108T160000
DTEND;TZID=Europe/Berlin:20251108T173000
SUMMARY:Oberliga Sachsen (OLS-F) SF 01 Dresden vs HC Rödertal  II (11048)
UID:6cf80e64-daea-4ae5-9ac1-7ab5597f1886
STATUS:CONFIRMED
LAST-MODIFIED:20251129T193922Z
DESCRIPTION:Oberliga Sachsen Frauen\nBegegnungs-Nr: 11048\nHeim: SF 01 Dresden\nGast: HC Rödertal  II\nHalle: SH 151. Gesamtschule Dresden (33142)\nAdresse: Stauffenbergallee 8\, 01099 Dresden\n
LOCATION:SH 151. Gesamtschule Dresden (33142): Stauffenbergallee 8\, 01099 Dresden
CATEGORIES:Saison 2025/26
END:VEVENT
END:VCALENDAR
