BEGIN:VCALENDAR
PRODID:-//nuDatenautomaten//framework iCal4j //DE
VERSION:2.0
CALSCALE:GREGORIAN
BEGIN:VTIMEZONE
TZID:Europe/Berlin
LAST-MODIFIED:20260306T231828Z
TZURL:https://www.tzurl.org/zoneinfo/Europe/Berlin
X-LIC-LOCATION:Europe/Berlin
X-PROLEPTIC-TZNAME:LMT
BEGIN:STANDARD
TZNAME:CET
TZOFFSETFROM:+005328
TZOFFSETTO:+0100
DTSTART:18930401T000000
END:STANDARD
BEGIN:DAYLIGHT
TZNAME:CEST
TZOFFSETFROM:+0100
TZOFFSETTO:+0200
DTSTART:19160430T230000
RDATE:19400401T020000
RDATE:19430329T020000
RDATE:19460414T020000
RDATE:19470406T030000
RDATE:19480418T020000
RDATE:19490410T020000
RDATE:19800406T020000
END:DAYLIGHT
BEGIN:STANDARD
TZNAME:CET
TZOFFSETFROM:+0200
TZOFFSETTO:+0100
DTSTART:19161001T010000
RDATE:19421102T030000
RDATE:19431004T030000
RDATE:19441002T030000
RDATE:19451118T030000
RDATE:19461007T030000
END:STANDARD
BEGIN:DAYLIGHT
TZNAME:CEST
TZOFFSETFROM:+0100
TZOFFSETTO:+0200
DTSTART:19170416T020000
RRULE:FREQ=YEARLY;UNTIL=19180415T010000Z;BYMONTH=4;BYDAY=3MO
END:DAYLIGHT
BEGIN:STANDARD
TZNAME:CET
TZOFFSETFROM:+0200
TZOFFSETTO:+0100
DTSTART:19170917T030000
RRULE:FREQ=YEARLY;UNTIL=19180916T010000Z;BYMONTH=9;BYDAY=3MO
END:STANDARD
BEGIN:DAYLIGHT
TZNAME:CEST
TZOFFSETFROM:+0100
TZOFFSETTO:+0200
DTSTART:19440403T020000
RRULE:FREQ=YEARLY;UNTIL=19450402T010000Z;BYMONTH=4;BYDAY=1MO
END:DAYLIGHT
BEGIN:DAYLIGHT
TZNAME:CEMT
TZOFFSETFROM:+0200
TZOFFSETTO:+0300
DTSTART:19450524T020000
RDATE:19470511T030000
END:DAYLIGHT
BEGIN:DAYLIGHT
TZNAME:CEST
TZOFFSETFROM:+0300
TZOFFSETTO:+0200
DTSTART:19450924T030000
RDATE:19470629T030000
END:DAYLIGHT
BEGIN:STANDARD
TZNAME:CET
TZOFFSETFROM:+0100
TZOFFSETTO:+0100
DTSTART:19460101T000000
RDATE:19800101T000000
END:STANDARD
BEGIN:STANDARD
TZNAME:CET
TZOFFSETFROM:+0200
TZOFFSETTO:+0100
DTSTART:19471005T030000
RRULE:FREQ=YEARLY;UNTIL=19491002T010000Z;BYMONTH=10;BYDAY=1SU
END:STANDARD
BEGIN:STANDARD
TZNAME:CET
TZOFFSETFROM:+0200
TZOFFSETTO:+0100
DTSTART:19800928T030000
RRULE:FREQ=YEARLY;UNTIL=19950924T010000Z;BYMONTH=9;BYDAY=-1SU
END:STANDARD
BEGIN:DAYLIGHT
TZNAME:CEST
TZOFFSETFROM:+0100
TZOFFSETTO:+0200
DTSTART:19810329T020000
RRULE:FREQ=YEARLY;BYMONTH=3;BYDAY=-1SU
END:DAYLIGHT
BEGIN:STANDARD
TZNAME:CET
TZOFFSETFROM:+0200
TZOFFSETTO:+0100
DTSTART:19961027T030000
RRULE:FREQ=YEARLY;BYMONTH=10;BYDAY=-1SU
END:STANDARD
END:VTIMEZONE
BEGIN:VEVENT
DTSTAMP:20260420T181209Z
DTSTART;TZID=Europe/Berlin:20250914T114500
DTEND;TZID=Europe/Berlin:20250914T124500
SUMMARY:Regionsoberliga mDJ B Stahl Rietschen vs Koweg Görlitz II (10512)
UID:e489be81-d147-453b-86de-26436f51af5c
STATUS:CONFIRMED
LAST-MODIFIED:20251006T093927Z
DESCRIPTION:Regionsoberliga mDJ Staffel B\nBegegnungs-Nr: 10512\nHeim: Stahl Rietschen\nGast: Koweg Görlitz II\nHalle: Oberlausitz-SH Rietschen (34403)\nAdresse: Am Festplatz 1\, 02956 Rietschen\n
LOCATION:Oberlausitz-SH Rietschen (34403): Am Festplatz 1\, 02956 Rietschen
CATEGORIES:Saison 2025/26
END:VEVENT
BEGIN:VEVENT
DTSTAMP:20260420T181209Z
DTSTART;TZID=Europe/Berlin:20251107T164500
DTEND;TZID=Europe/Berlin:20251107T174500
SUMMARY:Regionsoberliga mDJ B Stahl Rietschen vs OSV Zittau (10504)
UID:47a78f97-4c45-448d-bf4c-e39611a531f6
STATUS:CONFIRMED
LAST-MODIFIED:20251111T125156Z
DESCRIPTION:Regionsoberliga mDJ Staffel B\nBegegnungs-Nr: 10504\nHeim: Stahl Rietschen\nGast: OSV Zittau\nHalle: Oberlausitz-SH Rietschen (34403)\nAdresse: Am Festplatz 1\, 02956 Rietschen\n
LOCATION:Oberlausitz-SH Rietschen (34403): Am Festplatz 1\, 02956 Rietschen
CATEGORIES:Saison 2025/26
END:VEVENT
BEGIN:VEVENT
DTSTAMP:20260420T181209Z
DTSTART;TZID=Europe/Berlin:20251026T110000
DTEND;TZID=Europe/Berlin:20251026T120000
SUMMARY:Regionsoberliga mDJ B Stahl Rietschen vs SG Cunewalde/Sohland (10524)
UID:a390acb1-2441-4536-85fd-7e7db512e38b
STATUS:CONFIRMED
LAST-MODIFIED:20251028T162105Z
DESCRIPTION:Regionsoberliga mDJ Staffel B\nBegegnungs-Nr: 10524\nHeim: Stahl Rietschen\nGast: SG Cunewalde/Sohland\nHalle: Oberlausitz-SH Rietschen (34403)\nAdresse: Am Festplatz 1\, 02956 Rietschen\n
LOCATION:Oberlausitz-SH Rietschen (34403): Am Festplatz 1\, 02956 Rietschen
CATEGORIES:Saison 2025/26
END:VEVENT
BEGIN:VEVENT
DTSTAMP:20260420T181209Z
DTSTART;TZID=Europe/Berlin:20260314T103000
DTEND;TZID=Europe/Berlin:20260314T113000
SUMMARY:Regionsoberliga mDJ 5-8 Stahl Rietschen vs HV Eibau (10640)
UID:5c3789d4-f775-44ac-bdf0-37054dfeaeb0
STATUS:CONFIRMED
LAST-MODIFIED:20260310T170607Z
DESCRIPTION:Regionsoberliga mDJ Staffel 5-8\nBegegnungs-Nr: 10640\nHeim: Stahl Rietschen\nGast: HV Eibau\nHalle: Oberlausitz-SH Rietschen (34403)\nAdresse: Am Festplatz 1\, 02956 Rietschen\n
LOCATION:Oberlausitz-SH Rietschen (34403): Am Festplatz 1\, 02956 Rietschen
CATEGORIES:Saison 2025/26
END:VEVENT
BEGIN:VEVENT
DTSTAMP:20260420T181209Z
DTSTART;TZID=Europe/Berlin:20260502T110000
DTEND;TZID=Europe/Berlin:20260502T120000
SUMMARY:Regionsoberliga mDJ 5-8 Stahl Rietschen vs MSV Bautzen 04 (10613)
UID:a0055f10-0465-4933-ba28-7dfa83913a77
STATUS:CONFIRMED
LAST-MODIFIED:20260109T153729Z
DESCRIPTION:Regionsoberliga mDJ Staffel 5-8\nBegegnungs-Nr: 10613\nHeim: Stahl Rietschen\nGast: MSV Bautzen 04\nHalle: Oberlausitz-SH Rietschen (34403)\nAdresse: Am Festplatz 1\, 02956 Rietschen\n
LOCATION:Oberlausitz-SH Rietschen (34403): Am Festplatz 1\, 02956 Rietschen
CATEGORIES:Saison 2025/26
END:VEVENT
BEGIN:VEVENT
DTSTAMP:20260420T181209Z
DTSTART;TZID=Europe/Berlin:20260426T094500
DTEND;TZID=Europe/Berlin:20260426T104500
SUMMARY:Regionsoberliga mDJ 5-8 Stahl Rietschen vs Koweg Görlitz II (10656)
UID:39c86a38-a453-417b-88eb-603181ba2b1f
STATUS:CONFIRMED
DESCRIPTION:Regionsoberliga mDJ Staffel 5-8\nBegegnungs-Nr: 10656\nHeim: Stahl Rietschen\nGast: Koweg Görlitz II\nHalle: Oberlausitz-SH Rietschen (34403)\nAdresse: Am Festplatz 1\, 02956 Rietschen\n
LOCATION:Oberlausitz-SH Rietschen (34403): Am Festplatz 1\, 02956 Rietschen
CATEGORIES:Saison 2025/26
END:VEVENT
BEGIN:VEVENT
DTSTAMP:20260420T181209Z
DTSTART;TZID=Europe/Berlin:20260301T154500
DTEND;TZID=Europe/Berlin:20260301T164500
SUMMARY:Regionsoberliga mDJ 5-8 Stahl Rietschen vs Lok Schleife (10632)
UID:2d0ac700-be5d-4646-a264-a174e58dceba
STATUS:CONFIRMED
LAST-MODIFIED:20260310T201006Z
DESCRIPTION:Regionsoberliga mDJ Staffel 5-8\nBegegnungs-Nr: 10632\nHeim: Stahl Rietschen\nGast: Lok Schleife\nHalle: Oberlausitz-SH Rietschen (34403)\nAdresse: Am Festplatz 1\, 02956 Rietschen\n
LOCATION:Oberlausitz-SH Rietschen (34403): Am Festplatz 1\, 02956 Rietschen
CATEGORIES:Saison 2025/26
END:VEVENT
BEGIN:VEVENT
DTSTAMP:20260420T181209Z
DTSTART;TZID=Europe/Berlin:20260328T094500
DTEND;TZID=Europe/Berlin:20260328T104500
SUMMARY:Regionsoberliga mDJ 5-8 Stahl Rietschen vs SV Lok Königsbrück  (10645)
UID:615157f9-ac1b-4f79-9cdd-0ef9c0d06099
STATUS:CONFIRMED
LAST-MODIFIED:20260326T135331Z
DESCRIPTION:Regionsoberliga mDJ Staffel 5-8\nBegegnungs-Nr: 10645\nHeim: Stahl Rietschen\nGast: SV Lok Königsbrück \nHalle: Oberlausitz-SH Rietschen (34403)\nAdresse: Am Festplatz 1\, 02956 Rietschen\n
LOCATION:Oberlausitz-SH Rietschen (34403): Am Festplatz 1\, 02956 Rietschen
CATEGORIES:Saison 2025/26
END:VEVENT
BEGIN:VEVENT
DTSTAMP:20260420T181209Z
DTSTART;TZID=Europe/Berlin:20260307T113000
DTEND;TZID=Europe/Berlin:20260307T123000
SUMMARY:Regionsoberliga mDJ 5-8 Stahl Rietschen vs Stahl Krauschwitz (10636)
UID:5138fca2-427e-4ffd-b119-6b0022812bcc
STATUS:CONFIRMED
LAST-MODIFIED:20260310T201254Z
DESCRIPTION:Regionsoberliga mDJ Staffel 5-8\nBegegnungs-Nr: 10636\nHeim: Stahl Rietschen\nGast: Stahl Krauschwitz\nHalle: Oberlausitz-SH Rietschen (34403)\nAdresse: Am Festplatz 1\, 02956 Rietschen\n
LOCATION:Oberlausitz-SH Rietschen (34403): Am Festplatz 1\, 02956 Rietschen
CATEGORIES:Saison 2025/26
END:VEVENT
BEGIN:VEVENT
DTSTAMP:20260420T181209Z
DTSTART;TZID=Europe/Berlin:20251101T100000
DTEND;TZID=Europe/Berlin:20251101T110000
SUMMARY:Regionsoberliga mDJ B MSV Bautzen 04 vs Stahl Rietschen (10525)
UID:ea59d225-dc93-4f5e-b662-ddf3d8c34631
STATUS:CONFIRMED
LAST-MODIFIED:20251103T043033Z
DESCRIPTION:Regionsoberliga mDJ Staffel B\nBegegnungs-Nr: 10525\nHeim: MSV Bautzen 04\nGast: Stahl Rietschen\nHalle: SH Daimler Schule Bautzen (34512)\nAdresse: Daimlerstrasse 6\, 02625 Bautzen\n
LOCATION:SH Daimler Schule Bautzen (34512): Daimlerstrasse 6\, 02625 Bautzen
CATEGORIES:Saison 2025/26
END:VEVENT
BEGIN:VEVENT
DTSTAMP:20260420T181209Z
DTSTART;TZID=Europe/Berlin:20251109T110000
DTEND;TZID=Europe/Berlin:20251109T120000
SUMMARY:Regionsoberliga mDJ B TBSV Neugersdorf vs Stahl Rietschen (10506)
UID:29eefff9-9fc7-4548-bf4e-3a9bb31de573
STATUS:CONFIRMED
LAST-MODIFIED:20251111T125248Z
DESCRIPTION:Regionsoberliga mDJ Staffel B\nBegegnungs-Nr: 10506\nHeim: TBSV Neugersdorf\nGast: Stahl Rietschen\nHalle: FSZ Oberland \"Albert Schweitzer\" (34112)\nAdresse: Friedrich-Ebert-Str.27\, 02730 Ebersbach-Neugersdorf\n
LOCATION:FSZ Oberland \"Albert Schweitzer\" (34112): Friedrich-Ebert-Str.27\, 02730 Ebersbach-Neugersdorf
CATEGORIES:Saison 2025/26
END:VEVENT
BEGIN:VEVENT
DTSTAMP:20260420T181209Z
DTSTART;TZID=Europe/Berlin:20250920T130000
DTEND;TZID=Europe/Berlin:20250920T140000
SUMMARY:Regionsoberliga mDJ B HV Eibau vs Stahl Rietschen (10515)
UID:a933f052-c00c-4cdb-a8c6-85a09fdcbec9
STATUS:CONFIRMED
LAST-MODIFIED:20251006T094035Z
DESCRIPTION:Regionsoberliga mDJ Staffel B\nBegegnungs-Nr: 10515\nHeim: HV Eibau\nGast: Stahl Rietschen\nHalle: SH Am Kottmar Eibau (34105)\nAdresse: Jahnstr. 20 a\, 02739 Eibau\n
LOCATION:SH Am Kottmar Eibau (34105): Jahnstr. 20 a\, 02739 Eibau
CATEGORIES:Saison 2025/26
END:VEVENT
BEGIN:VEVENT
DTSTAMP:20260420T181209Z
DTSTART;TZID=Europe/Berlin:20250928T100000
DTEND;TZID=Europe/Berlin:20250928T110000
SUMMARY:Regionsoberliga mDJ B OHC Bernstadt vs Stahl Rietschen (10520)
UID:fafe3f3f-a774-41d3-b250-8d86aa5e5af7
STATUS:CONFIRMED
LAST-MODIFIED:20251006T094237Z
DESCRIPTION:Regionsoberliga mDJ Staffel B\nBegegnungs-Nr: 10520\nHeim: OHC Bernstadt\nGast: Stahl Rietschen\nHalle: Sporthalle \"Pließnitztal\" Bernstadt (34108)\nAdresse: Am Pließnitztal 3\, 02748 Bernstadt a.d. Eigen OT Kunnersdorf\n
LOCATION:Sporthalle \"Pließnitztal\" Bernstadt (34108): Am Pließnitztal 3\, 02748 Bernstadt a.d. Eigen OT Kunnersdorf
CATEGORIES:Saison 2025/26
END:VEVENT
BEGIN:VEVENT
DTSTAMP:20260420T181209Z
DTSTART;TZID=Europe/Berlin:20251129T120000
DTEND;TZID=Europe/Berlin:20251129T130000
SUMMARY:Regionsoberliga mDJ 5-8 Lok Schleife vs Stahl Rietschen (10601)
UID:e231ba99-3945-418e-a8a5-368ea2788ee3
STATUS:CONFIRMED
LAST-MODIFIED:20251201T062739Z
DESCRIPTION:Regionsoberliga mDJ Staffel 5-8\nBegegnungs-Nr: 10601\nHeim: Lok Schleife\nGast: Stahl Rietschen\nHalle: SH Schleife (34402)\nAdresse: Spremberger Straße 29\, 02959 Schleife\n
LOCATION:SH Schleife (34402): Spremberger Straße 29\, 02959 Schleife
CATEGORIES:Saison 2025/26
END:VEVENT
BEGIN:VEVENT
DTSTAMP:20260420T181209Z
DTSTART;TZID=Europe/Berlin:20251220T100000
DTEND;TZID=Europe/Berlin:20251220T110000
SUMMARY:Regionsoberliga mDJ 5-8 Stahl Krauschwitz vs Stahl Rietschen (10608)
UID:01d5a30c-faeb-4446-b12a-5ca28e5b9016
STATUS:CONFIRMED
LAST-MODIFIED:20251230T215409Z
DESCRIPTION:Regionsoberliga mDJ Staffel 5-8\nBegegnungs-Nr: 10608\nHeim: Stahl Krauschwitz\nGast: Stahl Rietschen\nHalle: SH Kirchstraße Bad Muskau (34404)\nAdresse: Kirchstr. 9\, 02953 Bad Muskau\n
LOCATION:SH Kirchstraße Bad Muskau (34404): Kirchstr. 9\, 02953 Bad Muskau
CATEGORIES:Saison 2025/26
END:VEVENT
BEGIN:VEVENT
DTSTAMP:20260420T181209Z
DTSTART;TZID=Europe/Berlin:20251213T140000
DTEND;TZID=Europe/Berlin:20251213T150000
SUMMARY:Regionsoberliga mDJ 5-8 HV Eibau vs Stahl Rietschen (10609)
UID:f8df8eeb-d816-4dad-9d0e-4ad2adcd885f
STATUS:CONFIRMED
LAST-MODIFIED:20251230T215241Z
DESCRIPTION:Regionsoberliga mDJ Staffel 5-8\nBegegnungs-Nr: 10609\nHeim: HV Eibau\nGast: Stahl Rietschen\nHalle: SH Am Kottmar Eibau (34105)\nAdresse: Jahnstr. 20 a\, 02739 Eibau\n
LOCATION:SH Am Kottmar Eibau (34105): Jahnstr. 20 a\, 02739 Eibau
CATEGORIES:Saison 2025/26
END:VEVENT
BEGIN:VEVENT
DTSTAMP:20260420T181209Z
DTSTART;TZID=Europe/Berlin:20260117T131500
DTEND;TZID=Europe/Berlin:20260117T141500
SUMMARY:Regionsoberliga mDJ 5-8 SV Lok Königsbrück  vs Stahl Rietschen (10618)
UID:328e1c46-9486-4bde-b072-0613111009a1
STATUS:CONFIRMED
LAST-MODIFIED:20260120T124811Z
DESCRIPTION:Regionsoberliga mDJ Staffel 5-8\nBegegnungs-Nr: 10618\nHeim: SV Lok Königsbrück \nGast: Stahl Rietschen\nHalle: 2-Feld-Halle- OS Königsbrück (34513)\nAdresse: An der Schule 3\, 01936 Königsbrück\n
LOCATION:2-Feld-Halle- OS Königsbrück (34513): An der Schule 3\, 01936 Königsbrück
CATEGORIES:Saison 2025/26
END:VEVENT
BEGIN:VEVENT
DTSTAMP:20260420T181209Z
DTSTART;TZID=Europe/Berlin:20260201T090000
DTEND;TZID=Europe/Berlin:20260201T100000
SUMMARY:Regionsoberliga mDJ 5-8 Koweg Görlitz II vs Stahl Rietschen (10628)
UID:988c3374-999d-42cc-a289-0c48c5d0c33b
STATUS:CONFIRMED
LAST-MODIFIED:20260227T064844Z
DESCRIPTION:Regionsoberliga mDJ Staffel 5-8\nBegegnungs-Nr: 10628\nHeim: Koweg Görlitz II\nGast: Stahl Rietschen\nHalle: SH Rauschwalde (34301)\nAdresse: Diesterwegplatz 8\, 02827 Görlitz\n
LOCATION:SH Rauschwalde (34301): Diesterwegplatz 8\, 02827 Görlitz
CATEGORIES:Saison 2025/26
END:VEVENT
BEGIN:VEVENT
DTSTAMP:20260420T181209Z
DTSTART;TZID=Europe/Berlin:20260321T100000
DTEND;TZID=Europe/Berlin:20260321T110000
SUMMARY:Regionsoberliga mDJ 5-8 MSV Bautzen 04 vs Stahl Rietschen (10641)
UID:f14d8b25-764b-42ec-9cae-a49b6952a479
STATUS:CONFIRMED
LAST-MODIFIED:20260326T134500Z
DESCRIPTION:Regionsoberliga mDJ Staffel 5-8\nBegegnungs-Nr: 10641\nHeim: MSV Bautzen 04\nGast: Stahl Rietschen\nHalle: SH Daimler Schule Bautzen (34512)\nAdresse: Daimlerstrasse 6\, 02625 Bautzen\n
LOCATION:SH Daimler Schule Bautzen (34512): Daimlerstrasse 6\, 02625 Bautzen
CATEGORIES:Saison 2025/26
END:VEVENT
END:VCALENDAR
