BEGIN:VCALENDAR
PRODID:-//nuDatenautomaten//framework iCal4j //DE
VERSION:2.0
CALSCALE:GREGORIAN
BEGIN:VTIMEZONE
TZID:Europe/Berlin
LAST-MODIFIED:20260306T231828Z
TZURL:https://www.tzurl.org/zoneinfo/Europe/Berlin
X-LIC-LOCATION:Europe/Berlin
X-PROLEPTIC-TZNAME:LMT
BEGIN:STANDARD
TZNAME:CET
TZOFFSETFROM:+005328
TZOFFSETTO:+0100
DTSTART:18930401T000000
END:STANDARD
BEGIN:DAYLIGHT
TZNAME:CEST
TZOFFSETFROM:+0100
TZOFFSETTO:+0200
DTSTART:19160430T230000
RDATE:19400401T020000
RDATE:19430329T020000
RDATE:19460414T020000
RDATE:19470406T030000
RDATE:19480418T020000
RDATE:19490410T020000
RDATE:19800406T020000
END:DAYLIGHT
BEGIN:STANDARD
TZNAME:CET
TZOFFSETFROM:+0200
TZOFFSETTO:+0100
DTSTART:19161001T010000
RDATE:19421102T030000
RDATE:19431004T030000
RDATE:19441002T030000
RDATE:19451118T030000
RDATE:19461007T030000
END:STANDARD
BEGIN:DAYLIGHT
TZNAME:CEST
TZOFFSETFROM:+0100
TZOFFSETTO:+0200
DTSTART:19170416T020000
RRULE:FREQ=YEARLY;UNTIL=19180415T010000Z;BYMONTH=4;BYDAY=3MO
END:DAYLIGHT
BEGIN:STANDARD
TZNAME:CET
TZOFFSETFROM:+0200
TZOFFSETTO:+0100
DTSTART:19170917T030000
RRULE:FREQ=YEARLY;UNTIL=19180916T010000Z;BYMONTH=9;BYDAY=3MO
END:STANDARD
BEGIN:DAYLIGHT
TZNAME:CEST
TZOFFSETFROM:+0100
TZOFFSETTO:+0200
DTSTART:19440403T020000
RRULE:FREQ=YEARLY;UNTIL=19450402T010000Z;BYMONTH=4;BYDAY=1MO
END:DAYLIGHT
BEGIN:DAYLIGHT
TZNAME:CEMT
TZOFFSETFROM:+0200
TZOFFSETTO:+0300
DTSTART:19450524T020000
RDATE:19470511T030000
END:DAYLIGHT
BEGIN:DAYLIGHT
TZNAME:CEST
TZOFFSETFROM:+0300
TZOFFSETTO:+0200
DTSTART:19450924T030000
RDATE:19470629T030000
END:DAYLIGHT
BEGIN:STANDARD
TZNAME:CET
TZOFFSETFROM:+0100
TZOFFSETTO:+0100
DTSTART:19460101T000000
RDATE:19800101T000000
END:STANDARD
BEGIN:STANDARD
TZNAME:CET
TZOFFSETFROM:+0200
TZOFFSETTO:+0100
DTSTART:19471005T030000
RRULE:FREQ=YEARLY;UNTIL=19491002T010000Z;BYMONTH=10;BYDAY=1SU
END:STANDARD
BEGIN:STANDARD
TZNAME:CET
TZOFFSETFROM:+0200
TZOFFSETTO:+0100
DTSTART:19800928T030000
RRULE:FREQ=YEARLY;UNTIL=19950924T010000Z;BYMONTH=9;BYDAY=-1SU
END:STANDARD
BEGIN:DAYLIGHT
TZNAME:CEST
TZOFFSETFROM:+0100
TZOFFSETTO:+0200
DTSTART:19810329T020000
RRULE:FREQ=YEARLY;BYMONTH=3;BYDAY=-1SU
END:DAYLIGHT
BEGIN:STANDARD
TZNAME:CET
TZOFFSETFROM:+0200
TZOFFSETTO:+0100
DTSTART:19961027T030000
RRULE:FREQ=YEARLY;BYMONTH=10;BYDAY=-1SU
END:STANDARD
END:VTIMEZONE
BEGIN:VEVENT
DTSTAMP:20260422T234427Z
DTSTART;TZID=Europe/Berlin:20250920T140000
DTEND;TZID=Europe/Berlin:20250920T150000
SUMMARY:RLwBJ HC Rödertal  vs HBC Wittenberg (4007)
UID:ca73e7d8-20f1-4b97-993e-4e0f881fdb20
STATUS:CONFIRMED
LAST-MODIFIED:20251012T121936Z
DESCRIPTION:Regionalliga weibl. B-Jugend\nBegegnungs-Nr: 4007\nHeim: HC Rödertal \nGast: HBC Wittenberg\nHalle: 3-Feld-Halle-GY Großröhrsdorf (34514)\nAdresse: Melanchthonstraße 21\, 01900  Großröhrsdorf\n
LOCATION:3-Feld-Halle-GY Großröhrsdorf (34514): Melanchthonstraße 21\, 01900  Großröhrsdorf
CATEGORIES:Saison 2025/26
END:VEVENT
BEGIN:VEVENT
DTSTAMP:20260422T234427Z
DTSTART;TZID=Europe/Berlin:20250927T123000
DTEND;TZID=Europe/Berlin:20250927T133000
SUMMARY:RLwBJ HC Rödertal  vs HV Chemnitz (4012)
UID:07b637ca-0c27-4cf4-b025-8904ae174bbc
STATUS:CONFIRMED
LAST-MODIFIED:20251012T121846Z
DESCRIPTION:Regionalliga weibl. B-Jugend\nBegegnungs-Nr: 4012\nHeim: HC Rödertal \nGast: HV Chemnitz\nHalle: 3-Feld-Halle-GY Großröhrsdorf (34514)\nAdresse: Melanchthonstraße 21\, 01900  Großröhrsdorf\n
LOCATION:3-Feld-Halle-GY Großröhrsdorf (34514): Melanchthonstraße 21\, 01900  Großröhrsdorf
CATEGORIES:Saison 2025/26
END:VEVENT
BEGIN:VEVENT
DTSTAMP:20260422T234427Z
DTSTART;TZID=Europe/Berlin:20251018T123000
DTEND;TZID=Europe/Berlin:20251018T133000
SUMMARY:RLwBJ HC Rödertal  vs SG Zschorlau/Schneeberg (4022)
UID:6ff5d830-42e8-41fa-b44e-313719136b6a
STATUS:CONFIRMED
LAST-MODIFIED:20251019T190923Z
DESCRIPTION:Regionalliga weibl. B-Jugend\nBegegnungs-Nr: 4022\nHeim: HC Rödertal \nGast: SG Zschorlau/Schneeberg\nHalle: 3-Feld-Halle-GY Großröhrsdorf (34514)\nAdresse: Melanchthonstraße 21\, 01900  Großröhrsdorf\n
LOCATION:3-Feld-Halle-GY Großröhrsdorf (34514): Melanchthonstraße 21\, 01900  Großröhrsdorf
CATEGORIES:Saison 2025/26
END:VEVENT
BEGIN:VEVENT
DTSTAMP:20260422T234427Z
DTSTART;TZID=Europe/Berlin:20251214T130000
DTEND;TZID=Europe/Berlin:20251214T140000
SUMMARY:RLwBJ HC Rödertal  vs SV Union Halle-Neu. (4042)
UID:04144228-e1f2-42c3-9429-05d13563f98c
STATUS:CONFIRMED
LAST-MODIFIED:20251214T184900Z
DESCRIPTION:Regionalliga weibl. B-Jugend\nBegegnungs-Nr: 4042\nHeim: HC Rödertal \nGast: SV Union Halle-Neu.\nHalle: 3-Feld-Halle-GY Großröhrsdorf (34514)\nAdresse: Melanchthonstraße 21\, 01900  Großröhrsdorf\n
LOCATION:3-Feld-Halle-GY Großröhrsdorf (34514): Melanchthonstraße 21\, 01900  Großröhrsdorf
CATEGORIES:Saison 2025/26
END:VEVENT
BEGIN:VEVENT
DTSTAMP:20260422T234427Z
DTSTART;TZID=Europe/Berlin:20251220T140000
DTEND;TZID=Europe/Berlin:20251220T150000
SUMMARY:RLwBJ HC Rödertal  vs VfB Bischofswerda (4046)
UID:900b5fa5-1501-404b-ab72-38fe83ef0c38
STATUS:CONFIRMED
LAST-MODIFIED:20251223T154123Z
DESCRIPTION:Regionalliga weibl. B-Jugend\nBegegnungs-Nr: 4046\nHeim: HC Rödertal \nGast: VfB Bischofswerda\nHalle: 3-Feld-Halle-GY Großröhrsdorf (34514)\nAdresse: Melanchthonstraße 21\, 01900  Großröhrsdorf\n
LOCATION:3-Feld-Halle-GY Großröhrsdorf (34514): Melanchthonstraße 21\, 01900  Großröhrsdorf
CATEGORIES:Saison 2025/26
END:VEVENT
BEGIN:VEVENT
DTSTAMP:20260422T234427Z
DTSTART;TZID=Europe/Berlin:20260201T134500
DTEND;TZID=Europe/Berlin:20260201T144500
SUMMARY:RLwBJ HC Rödertal  vs HC Leipzig II (4062)
UID:9dfa551e-f278-43e0-afcb-ab843f6ccbbc
STATUS:CONFIRMED
LAST-MODIFIED:20260201T190630Z
DESCRIPTION:Regionalliga weibl. B-Jugend\nBegegnungs-Nr: 4062\nHeim: HC Rödertal \nGast: HC Leipzig II\nHalle: 3-Feld-Halle-GY Großröhrsdorf (34514)\nAdresse: Melanchthonstraße 21\, 01900  Großröhrsdorf\n
LOCATION:3-Feld-Halle-GY Großröhrsdorf (34514): Melanchthonstraße 21\, 01900  Großröhrsdorf
CATEGORIES:Saison 2025/26
END:VEVENT
BEGIN:VEVENT
DTSTAMP:20260422T234427Z
DTSTART;TZID=Europe/Berlin:20260314T173000
DTEND;TZID=Europe/Berlin:20260314T183000
SUMMARY:RLwBJ HC Rödertal  vs BSV Sa. Zwickau (4072)
UID:c762c8b0-e19d-4c65-963e-126915756784
STATUS:CONFIRMED
LAST-MODIFIED:20260314T211409Z
DESCRIPTION:Regionalliga weibl. B-Jugend\nBegegnungs-Nr: 4072\nHeim: HC Rödertal \nGast: BSV Sa. Zwickau\nHalle: 3-Feld-Halle-GY Großröhrsdorf (34514)\nAdresse: Melanchthonstraße 21\, 01900  Großröhrsdorf\n
LOCATION:3-Feld-Halle-GY Großröhrsdorf (34514): Melanchthonstraße 21\, 01900  Großröhrsdorf
CATEGORIES:Saison 2025/26
END:VEVENT
BEGIN:VEVENT
DTSTAMP:20260422T234427Z
DTSTART;TZID=Europe/Berlin:20260321T120000
DTEND;TZID=Europe/Berlin:20260321T130000
SUMMARY:RLwBJ HC Rödertal  vs VfL Meißen (4082)
UID:fb2d8dda-a30a-436e-95ee-ec15df057c3b
STATUS:CONFIRMED
LAST-MODIFIED:20260321T214917Z
DESCRIPTION:Regionalliga weibl. B-Jugend\nBegegnungs-Nr: 4082\nHeim: HC Rödertal \nGast: VfL Meißen\nHalle: 3-Feld-Halle-GY Großröhrsdorf (34514)\nAdresse: Melanchthonstraße 21\, 01900  Großröhrsdorf\n
LOCATION:3-Feld-Halle-GY Großröhrsdorf (34514): Melanchthonstraße 21\, 01900  Großröhrsdorf
CATEGORIES:Saison 2025/26
END:VEVENT
BEGIN:VEVENT
DTSTAMP:20260422T234427Z
DTSTART;TZID=Europe/Berlin:20260329T121500
DTEND;TZID=Europe/Berlin:20260329T131500
SUMMARY:RLwBJ SV Union Halle-Neu. vs HC Rödertal  (4087)
UID:1f1a27f2-2320-4d2a-b205-877099968f34
STATUS:CONFIRMED
LAST-MODIFIED:20260329T171753Z
DESCRIPTION:Regionalliga weibl. B-Jugend\nBegegnungs-Nr: 4087\nHeim: SV Union Halle-Neu.\nGast: HC Rödertal \nHalle: Dreifelderhalle Sportgymnasium Halle/Saale (4127)\nAdresse: Robert-Koch-Straße 33 a\, 06128 Halle\n
LOCATION:Dreifelderhalle Sportgymnasium Halle/Saale (4127): Robert-Koch-Straße 33 a\, 06128 Halle
CATEGORIES:Saison 2025/26
END:VEVENT
BEGIN:VEVENT
DTSTAMP:20260422T234427Z
DTSTART;TZID=Europe/Berlin:20250914T120000
DTEND;TZID=Europe/Berlin:20250914T130000
SUMMARY:RLwBJ VfB Bischofswerda vs HC Rödertal  (4001)
UID:5dccbedb-ec99-4a75-afd4-c0fe2b78da80
STATUS:CONFIRMED
LAST-MODIFIED:20250917T142702Z
DESCRIPTION:Regionalliga weibl. B-Jugend\nBegegnungs-Nr: 4001\nHeim: VfB Bischofswerda\nGast: HC Rödertal \nHalle: SH Wesenitzsportpark Bischofswerda (34505)\nAdresse: Clara-Zetkin-Str. 4\, 01877  Bischofswerda\n
LOCATION:SH Wesenitzsportpark Bischofswerda (34505): Clara-Zetkin-Str. 4\, 01877  Bischofswerda
CATEGORIES:Saison 2025/26
END:VEVENT
BEGIN:VEVENT
DTSTAMP:20260422T234427Z
DTSTART;TZID=Europe/Berlin:20251116T110000
DTEND;TZID=Europe/Berlin:20251116T120000
SUMMARY:RLwBJ HC Leipzig II vs HC Rödertal  (4017)
UID:187fe56d-978f-4576-bee9-61b2e3f6be46
STATUS:CONFIRMED
LAST-MODIFIED:20251120T091016Z
DESCRIPTION:Regionalliga weibl. B-Jugend\nBegegnungs-Nr: 4017\nHeim: HC Leipzig II\nGast: HC Rödertal \nHalle: SH Sportoberschule (31132)\nAdresse: Max -Planck-Str. 53-55\, 04105 Leipzig\n
LOCATION:SH Sportoberschule (31132): Max -Planck-Str. 53-55\, 04105 Leipzig
CATEGORIES:Saison 2025/26
END:VEVENT
BEGIN:VEVENT
DTSTAMP:20260422T234427Z
DTSTART;TZID=Europe/Berlin:20251025T123000
DTEND;TZID=Europe/Berlin:20251025T133000
SUMMARY:RLwBJ BSV Sa. Zwickau vs HC Rödertal  (4027)
UID:68cfcdad-a9d0-4513-8410-96cc1fa65bfc
STATUS:CONFIRMED
LAST-MODIFIED:20251025T183331Z
DESCRIPTION:Regionalliga weibl. B-Jugend\nBegegnungs-Nr: 4027\nHeim: BSV Sa. Zwickau\nGast: HC Rödertal \nHalle: SH Zwickau-Neuplanitz (32501)\nAdresse: Dortmunder Str. 7a\, 08062 Zwickau\n
LOCATION:SH Zwickau-Neuplanitz (32501): Dortmunder Str. 7a\, 08062 Zwickau
CATEGORIES:Saison 2025/26
END:VEVENT
BEGIN:VEVENT
DTSTAMP:20260422T234427Z
DTSTART;TZID=Europe/Berlin:20251129T140000
DTEND;TZID=Europe/Berlin:20251129T150000
SUMMARY:RLwBJ VfL Meißen vs HC Rödertal  (4037)
UID:772a5219-1bd8-4271-854c-ffbaecd1f0d5
STATUS:CONFIRMED
LAST-MODIFIED:20251129T173535Z
DESCRIPTION:Regionalliga weibl. B-Jugend\nBegegnungs-Nr: 4037\nHeim: VfL Meißen\nGast: HC Rödertal \nHalle: SH \"Heiliger Grund\" Meißen (33212)\nAdresse: Goethestraße 27\, 01662 Meißen\n
LOCATION:SH \"Heiliger Grund\" Meißen (33212): Goethestraße 27\, 01662 Meißen
CATEGORIES:Saison 2025/26
END:VEVENT
BEGIN:VEVENT
DTSTAMP:20260422T234427Z
DTSTART;TZID=Europe/Berlin:20260118T150000
DTEND;TZID=Europe/Berlin:20260118T160000
SUMMARY:RLwBJ HBC Wittenberg vs HC Rödertal  (4052)
UID:8251a35a-1793-45d2-8a9b-9560f8bf8124
STATUS:CONFIRMED
LAST-MODIFIED:20260129T151006Z
DESCRIPTION:Regionalliga weibl. B-Jugend\nBegegnungs-Nr: 4052\nHeim: HBC Wittenberg\nGast: HC Rödertal \nHalle: Stadthalle Wittenberg (3176)\nAdresse: An der Stadthalle 1\, 06886 Wittenberg\n
LOCATION:Stadthalle Wittenberg (3176): An der Stadthalle 1\, 06886 Wittenberg
CATEGORIES:Saison 2025/26
END:VEVENT
BEGIN:VEVENT
DTSTAMP:20260422T234427Z
DTSTART;TZID=Europe/Berlin:20260125T140000
DTEND;TZID=Europe/Berlin:20260125T150000
SUMMARY:RLwBJ HV Chemnitz vs HC Rödertal  (4057)
UID:7a71709d-5563-4eff-8d71-68e82aedce1a
STATUS:CONFIRMED
LAST-MODIFIED:20260125T180829Z
DESCRIPTION:Regionalliga weibl. B-Jugend\nBegegnungs-Nr: 4057\nHeim: HV Chemnitz\nGast: HC Rödertal \nHalle: Sachsenhalle Chemnitz (32101)\nAdresse: Straße Usti nad Labem 275\, 09119 Chemnitz\n
LOCATION:Sachsenhalle Chemnitz (32101): Straße Usti nad Labem 275\, 09119 Chemnitz
CATEGORIES:Saison 2025/26
END:VEVENT
BEGIN:VEVENT
DTSTAMP:20260422T234427Z
DTSTART;TZID=Europe/Berlin:20260222T130000
DTEND;TZID=Europe/Berlin:20260222T140000
SUMMARY:RLwBJ SG Zschorlau/Schneeberg vs HC Rödertal  (4067)
UID:f124c4d1-1868-41d5-8690-387f812154ac
STATUS:CONFIRMED
LAST-MODIFIED:20260227T152505Z
DESCRIPTION:Regionalliga weibl. B-Jugend\nBegegnungs-Nr: 4067\nHeim: SG Zschorlau/Schneeberg\nGast: HC Rödertal \nHalle: Silberstrom-Halle Schneeberg (32307)\nAdresse: Keilbergring 20\, 08289 Schneeberg\n
LOCATION:Silberstrom-Halle Schneeberg (32307): Keilbergring 20\, 08289 Schneeberg
CATEGORIES:Saison 2025/26
END:VEVENT
END:VCALENDAR
