BEGIN:VCALENDAR
PRODID:-//nuDatenautomaten//framework iCal4j //DE
VERSION:2.0
CALSCALE:GREGORIAN
BEGIN:VTIMEZONE
TZID:Europe/Berlin
LAST-MODIFIED:20260306T231828Z
TZURL:https://www.tzurl.org/zoneinfo/Europe/Berlin
X-LIC-LOCATION:Europe/Berlin
X-PROLEPTIC-TZNAME:LMT
BEGIN:STANDARD
TZNAME:CET
TZOFFSETFROM:+005328
TZOFFSETTO:+0100
DTSTART:18930401T000000
END:STANDARD
BEGIN:DAYLIGHT
TZNAME:CEST
TZOFFSETFROM:+0100
TZOFFSETTO:+0200
DTSTART:19160430T230000
RDATE:19400401T020000
RDATE:19430329T020000
RDATE:19460414T020000
RDATE:19470406T030000
RDATE:19480418T020000
RDATE:19490410T020000
RDATE:19800406T020000
END:DAYLIGHT
BEGIN:STANDARD
TZNAME:CET
TZOFFSETFROM:+0200
TZOFFSETTO:+0100
DTSTART:19161001T010000
RDATE:19421102T030000
RDATE:19431004T030000
RDATE:19441002T030000
RDATE:19451118T030000
RDATE:19461007T030000
END:STANDARD
BEGIN:DAYLIGHT
TZNAME:CEST
TZOFFSETFROM:+0100
TZOFFSETTO:+0200
DTSTART:19170416T020000
RRULE:FREQ=YEARLY;UNTIL=19180415T010000Z;BYMONTH=4;BYDAY=3MO
END:DAYLIGHT
BEGIN:STANDARD
TZNAME:CET
TZOFFSETFROM:+0200
TZOFFSETTO:+0100
DTSTART:19170917T030000
RRULE:FREQ=YEARLY;UNTIL=19180916T010000Z;BYMONTH=9;BYDAY=3MO
END:STANDARD
BEGIN:DAYLIGHT
TZNAME:CEST
TZOFFSETFROM:+0100
TZOFFSETTO:+0200
DTSTART:19440403T020000
RRULE:FREQ=YEARLY;UNTIL=19450402T010000Z;BYMONTH=4;BYDAY=1MO
END:DAYLIGHT
BEGIN:DAYLIGHT
TZNAME:CEMT
TZOFFSETFROM:+0200
TZOFFSETTO:+0300
DTSTART:19450524T020000
RDATE:19470511T030000
END:DAYLIGHT
BEGIN:DAYLIGHT
TZNAME:CEST
TZOFFSETFROM:+0300
TZOFFSETTO:+0200
DTSTART:19450924T030000
RDATE:19470629T030000
END:DAYLIGHT
BEGIN:STANDARD
TZNAME:CET
TZOFFSETFROM:+0100
TZOFFSETTO:+0100
DTSTART:19460101T000000
RDATE:19800101T000000
END:STANDARD
BEGIN:STANDARD
TZNAME:CET
TZOFFSETFROM:+0200
TZOFFSETTO:+0100
DTSTART:19471005T030000
RRULE:FREQ=YEARLY;UNTIL=19491002T010000Z;BYMONTH=10;BYDAY=1SU
END:STANDARD
BEGIN:STANDARD
TZNAME:CET
TZOFFSETFROM:+0200
TZOFFSETTO:+0100
DTSTART:19800928T030000
RRULE:FREQ=YEARLY;UNTIL=19950924T010000Z;BYMONTH=9;BYDAY=-1SU
END:STANDARD
BEGIN:DAYLIGHT
TZNAME:CEST
TZOFFSETFROM:+0100
TZOFFSETTO:+0200
DTSTART:19810329T020000
RRULE:FREQ=YEARLY;BYMONTH=3;BYDAY=-1SU
END:DAYLIGHT
BEGIN:STANDARD
TZNAME:CET
TZOFFSETFROM:+0200
TZOFFSETTO:+0100
DTSTART:19961027T030000
RRULE:FREQ=YEARLY;BYMONTH=10;BYDAY=-1SU
END:STANDARD
END:VTIMEZONE
BEGIN:VEVENT
DTSTAMP:20260426T012748Z
DTSTART;TZID=Europe/Berlin:20250914T170000
DTEND;TZID=Europe/Berlin:20250914T183000
SUMMARY:Po-mJA (§75 SpO) HC Elbflorenz 2006 vs HBV Jena 90 (5002)
UID:3464e386-58a7-4d33-9dfb-a17b2cc2e23c
STATUS:CONFIRMED
LAST-MODIFIED:20250914T190448Z
DESCRIPTION:MHV-Pokal männl. Jugernd A\nBegegnungs-Nr: 5002\nHeim: HC Elbflorenz 2006\nGast: HBV Jena 90\nHalle: BallsportARENA Dresden (33133)\nAdresse: Weißeritzstraße 4\, 01067 Dresden\n
LOCATION:BallsportARENA Dresden (33133): Weißeritzstraße 4\, 01067 Dresden
CATEGORIES:Saison 2025/26
END:VEVENT
BEGIN:VEVENT
DTSTAMP:20260426T012748Z
DTSTART;TZID=Europe/Berlin:20251102T140000
DTEND;TZID=Europe/Berlin:20251102T153000
SUMMARY:Po-mJA (§75 SpO) HC Elbflorenz 2006 vs DRHV 06 (5009)
UID:62834306-a065-47a4-b8ea-a82087a88831
STATUS:CONFIRMED
LAST-MODIFIED:20251102T155831Z
DESCRIPTION:MHV-Pokal männl. Jugernd A\nBegegnungs-Nr: 5009\nHeim: HC Elbflorenz 2006\nGast: DRHV 06\nHalle: BallsportARENA Dresden (33133)\nAdresse: Weißeritzstraße 4\, 01067 Dresden\n
LOCATION:BallsportARENA Dresden (33133): Weißeritzstraße 4\, 01067 Dresden
CATEGORIES:Saison 2025/26
END:VEVENT
BEGIN:VEVENT
DTSTAMP:20260426T012748Z
DTSTART;TZID=Europe/Berlin:20251109T120000
DTEND;TZID=Europe/Berlin:20251109T133000
SUMMARY:Po-mJA (§75 SpO) HC Elbflorenz 2006 vs SC DHfK Leipzig II (5010)
UID:6a971e90-4af8-4ed4-a981-4288eb508712
STATUS:CONFIRMED
LAST-MODIFIED:20251109T155041Z
DESCRIPTION:MHV-Pokal männl. Jugernd A\nBegegnungs-Nr: 5010\nHeim: HC Elbflorenz 2006\nGast: SC DHfK Leipzig II\nHalle: BallsportARENA Dresden (33133)\nAdresse: Weißeritzstraße 4\, 01067 Dresden\n
LOCATION:BallsportARENA Dresden (33133): Weißeritzstraße 4\, 01067 Dresden
CATEGORIES:Saison 2025/26
END:VEVENT
BEGIN:VEVENT
DTSTAMP:20260426T012748Z
DTSTART;TZID=Europe/Berlin:20260308T110000
DTEND;TZID=Europe/Berlin:20260308T123000
SUMMARY:Po-mJA (§75 SpO) HC Elbflorenz 2006 vs ThSV Eisenach (5029)
UID:03b60bc6-4208-461d-9082-f0816b3412bc
STATUS:CONFIRMED
LAST-MODIFIED:20260308T201956Z
DESCRIPTION:MHV-Pokal männl. Jugernd A\nBegegnungs-Nr: 5029\nHeim: HC Elbflorenz 2006\nGast: ThSV Eisenach\nHalle: BallsportARENA Dresden (33133)\nAdresse: Weißeritzstraße 4\, 01067 Dresden\n
LOCATION:BallsportARENA Dresden (33133): Weißeritzstraße 4\, 01067 Dresden
CATEGORIES:Saison 2025/26
END:VEVENT
BEGIN:VEVENT
DTSTAMP:20260426T012748Z
DTSTART;TZID=Europe/Berlin:20260118T133000
DTEND;TZID=Europe/Berlin:20260118T150000
SUMMARY:Po-mJA (§75 SpO) HC Elbflorenz 2006 vs NSG EHV/NH/Buteo (5021)
UID:403ae13a-82cc-4c77-b81a-548b74b88f92
STATUS:CONFIRMED
LAST-MODIFIED:20260125T104245Z
DESCRIPTION:MHV-Pokal männl. Jugernd A\nBegegnungs-Nr: 5021\nHeim: HC Elbflorenz 2006\nGast: NSG EHV/NH/Buteo\nHalle: BallsportARENA Dresden (33133)\nAdresse: Weißeritzstraße 4\, 01067 Dresden\n
LOCATION:BallsportARENA Dresden (33133): Weißeritzstraße 4\, 01067 Dresden
CATEGORIES:Saison 2025/26
END:VEVENT
BEGIN:VEVENT
DTSTAMP:20260426T012748Z
DTSTART;TZID=Europe/Berlin:20250921T143000
DTEND;TZID=Europe/Berlin:20250921T160000
SUMMARY:Po-mJA (§75 SpO) NSG EHV/NH/Buteo vs HC Elbflorenz 2006 (5006)
UID:454dfeeb-d80a-4912-b59c-c5713fa0d248
STATUS:CONFIRMED
LAST-MODIFIED:20250921T143224Z
DESCRIPTION:MHV-Pokal männl. Jugernd A\nBegegnungs-Nr: 5006\nHeim: NSG EHV/NH/Buteo\nGast: HC Elbflorenz 2006\nHalle: Erzgebirgshalle Lößnitz (32303)\nAdresse: Ringstraße 15\, 08294 Lößnitz\n
LOCATION:Erzgebirgshalle Lößnitz (32303): Ringstraße 15\, 08294 Lößnitz
CATEGORIES:Saison 2025/26
END:VEVENT
BEGIN:VEVENT
DTSTAMP:20260426T012748Z
DTSTART;TZID=Europe/Berlin:20251130T160000
DTEND;TZID=Europe/Berlin:20251130T173000
SUMMARY:Po-mJA (§75 SpO) ThSV Eisenach vs HC Elbflorenz 2006 (5014)
UID:4c8239ac-e4d9-4ec7-82cd-0c2c697c9236
STATUS:CONFIRMED
LAST-MODIFIED:20251206T161712Z
DESCRIPTION:MHV-Pokal männl. Jugernd A\nBegegnungs-Nr: 5014\nHeim: ThSV Eisenach\nGast: HC Elbflorenz 2006\nHalle: Eisenach\, \"Werner-Aßmann-Halle\" (421101)\nAdresse: Am Sportpark 1\, 99817 Eisenach\n
LOCATION:Eisenach\, \"Werner-Aßmann-Halle\" (421101): Am Sportpark 1\, 99817 Eisenach
CATEGORIES:Saison 2025/26
END:VEVENT
BEGIN:VEVENT
DTSTAMP:20260426T012748Z
DTSTART;TZID=Europe/Berlin:20251214T170000
DTEND;TZID=Europe/Berlin:20251214T183000
SUMMARY:Po-mJA (§75 SpO) HBV Jena 90 vs HC Elbflorenz 2006 (5017)
UID:ea97c6fa-e6a3-444a-afbf-07e1618318ca
STATUS:CONFIRMED
LAST-MODIFIED:20251214T184124Z
DESCRIPTION:MHV-Pokal männl. Jugernd A\nBegegnungs-Nr: 5017\nHeim: HBV Jena 90\nGast: HC Elbflorenz 2006\nHalle: Jena\, Sporthalle im SBSZ Göschwitz (420319)\nAdresse: Rudolstädter Str. 95b\, 07745 Jena-Göschwitz\n
LOCATION:Jena\, Sporthalle im SBSZ Göschwitz (420319): Rudolstädter Str. 95b\, 07745 Jena-Göschwitz
CATEGORIES:Saison 2025/26
END:VEVENT
BEGIN:VEVENT
DTSTAMP:20260426T012748Z
DTSTART;TZID=Europe/Berlin:20260221T170000
DTEND;TZID=Europe/Berlin:20260221T183000
SUMMARY:Po-mJA (§75 SpO) DRHV 06 vs HC Elbflorenz 2006 (5024)
UID:c6b21758-ccf4-48a2-8913-b0a6f9538026
STATUS:CONFIRMED
LAST-MODIFIED:20260227T152549Z
DESCRIPTION:MHV-Pokal männl. Jugernd A\nBegegnungs-Nr: 5024\nHeim: DRHV 06\nGast: HC Elbflorenz 2006\nHalle: Anhalt-Arena Dessau (3027)\nAdresse: An der Robert-Bosch-Straße 54\, 06847 Dessau-Roßlau / OT Alten\n
LOCATION:Anhalt-Arena Dessau (3027): An der Robert-Bosch-Straße 54\, 06847 Dessau-Roßlau / OT Alten
CATEGORIES:Saison 2025/26
END:VEVENT
BEGIN:VEVENT
DTSTAMP:20260426T012748Z
DTSTART;TZID=Europe/Berlin:20260228T143000
DTEND;TZID=Europe/Berlin:20260228T160000
SUMMARY:Po-mJA (§75 SpO) SC DHfK Leipzig II vs HC Elbflorenz 2006 (5025)
UID:11d6202c-f84d-4b52-aeb5-2cfdc0badf3d
STATUS:CONFIRMED
LAST-MODIFIED:20260301T203115Z
DESCRIPTION:MHV-Pokal männl. Jugernd A\nBegegnungs-Nr: 5025\nHeim: SC DHfK Leipzig II\nGast: HC Elbflorenz 2006\nHalle: Kleine ARENA Leipzig (31117)\nAdresse: Am Sportforum 1\, 04105 Leipzig\n
LOCATION:Kleine ARENA Leipzig (31117): Am Sportforum 1\, 04105 Leipzig
CATEGORIES:Saison 2025/26
END:VEVENT
END:VCALENDAR
