BEGIN:VCALENDAR
PRODID:-//nuDatenautomaten//framework iCal4j //DE
VERSION:2.0
CALSCALE:GREGORIAN
BEGIN:VTIMEZONE
TZID:Europe/Berlin
LAST-MODIFIED:20260306T231828Z
TZURL:https://www.tzurl.org/zoneinfo/Europe/Berlin
X-LIC-LOCATION:Europe/Berlin
X-PROLEPTIC-TZNAME:LMT
BEGIN:STANDARD
TZNAME:CET
TZOFFSETFROM:+005328
TZOFFSETTO:+0100
DTSTART:18930401T000000
END:STANDARD
BEGIN:DAYLIGHT
TZNAME:CEST
TZOFFSETFROM:+0100
TZOFFSETTO:+0200
DTSTART:19160430T230000
RDATE:19400401T020000
RDATE:19430329T020000
RDATE:19460414T020000
RDATE:19470406T030000
RDATE:19480418T020000
RDATE:19490410T020000
RDATE:19800406T020000
END:DAYLIGHT
BEGIN:STANDARD
TZNAME:CET
TZOFFSETFROM:+0200
TZOFFSETTO:+0100
DTSTART:19161001T010000
RDATE:19421102T030000
RDATE:19431004T030000
RDATE:19441002T030000
RDATE:19451118T030000
RDATE:19461007T030000
END:STANDARD
BEGIN:DAYLIGHT
TZNAME:CEST
TZOFFSETFROM:+0100
TZOFFSETTO:+0200
DTSTART:19170416T020000
RRULE:FREQ=YEARLY;UNTIL=19180415T010000Z;BYMONTH=4;BYDAY=3MO
END:DAYLIGHT
BEGIN:STANDARD
TZNAME:CET
TZOFFSETFROM:+0200
TZOFFSETTO:+0100
DTSTART:19170917T030000
RRULE:FREQ=YEARLY;UNTIL=19180916T010000Z;BYMONTH=9;BYDAY=3MO
END:STANDARD
BEGIN:DAYLIGHT
TZNAME:CEST
TZOFFSETFROM:+0100
TZOFFSETTO:+0200
DTSTART:19440403T020000
RRULE:FREQ=YEARLY;UNTIL=19450402T010000Z;BYMONTH=4;BYDAY=1MO
END:DAYLIGHT
BEGIN:DAYLIGHT
TZNAME:CEMT
TZOFFSETFROM:+0200
TZOFFSETTO:+0300
DTSTART:19450524T020000
RDATE:19470511T030000
END:DAYLIGHT
BEGIN:DAYLIGHT
TZNAME:CEST
TZOFFSETFROM:+0300
TZOFFSETTO:+0200
DTSTART:19450924T030000
RDATE:19470629T030000
END:DAYLIGHT
BEGIN:STANDARD
TZNAME:CET
TZOFFSETFROM:+0100
TZOFFSETTO:+0100
DTSTART:19460101T000000
RDATE:19800101T000000
END:STANDARD
BEGIN:STANDARD
TZNAME:CET
TZOFFSETFROM:+0200
TZOFFSETTO:+0100
DTSTART:19471005T030000
RRULE:FREQ=YEARLY;UNTIL=19491002T010000Z;BYMONTH=10;BYDAY=1SU
END:STANDARD
BEGIN:STANDARD
TZNAME:CET
TZOFFSETFROM:+0200
TZOFFSETTO:+0100
DTSTART:19800928T030000
RRULE:FREQ=YEARLY;UNTIL=19950924T010000Z;BYMONTH=9;BYDAY=-1SU
END:STANDARD
BEGIN:DAYLIGHT
TZNAME:CEST
TZOFFSETFROM:+0100
TZOFFSETTO:+0200
DTSTART:19810329T020000
RRULE:FREQ=YEARLY;BYMONTH=3;BYDAY=-1SU
END:DAYLIGHT
BEGIN:STANDARD
TZNAME:CET
TZOFFSETFROM:+0200
TZOFFSETTO:+0100
DTSTART:19961027T030000
RRULE:FREQ=YEARLY;BYMONTH=10;BYDAY=-1SU
END:STANDARD
END:VTIMEZONE
BEGIN:VEVENT
DTSTAMP:20260424T132340Z
DTSTART;TZID=Europe/Berlin:20260307T140000
DTEND;TZID=Europe/Berlin:20260307T150000
SUMMARY:Regionsoberliga S-M mJB S2 HC Großenhain  II vs SG Dippoldiswalde-Ruppendorf (53037)
UID:958197d2-18c7-4bfd-97d9-68c879150386
STATUS:CONFIRMED
LAST-MODIFIED:20260311T210451Z
DESCRIPTION:Regionsoberliga S-M mJB Staffel 2\nBegegnungs-Nr: 53037\nHeim: HC Großenhain  II\nGast: SG Dippoldiswalde-Ruppendorf\nHalle: Rödertal-SH (33205)\nAdresse: Am Marstall 4\, 01558 Großenhain\n
LOCATION:Rödertal-SH (33205): Am Marstall 4\, 01558 Großenhain
CATEGORIES:Saison 2025/26
END:VEVENT
BEGIN:VEVENT
DTSTAMP:20260424T132340Z
DTSTART;TZID=Europe/Berlin:20260131T120000
DTEND;TZID=Europe/Berlin:20260131T130000
SUMMARY:Regionsoberliga S-M mJB S2 HC Großenhain  II vs Motor Wilsdruff  (53031)
UID:eb6c0164-a56f-4847-bcd4-436dbe093606
STATUS:CONFIRMED
LAST-MODIFIED:20260201T160732Z
DESCRIPTION:Regionsoberliga S-M mJB Staffel 2\nBegegnungs-Nr: 53031\nHeim: HC Großenhain  II\nGast: Motor Wilsdruff \nHalle: Rödertal-SH (33205)\nAdresse: Am Marstall 4\, 01558 Großenhain\n
LOCATION:Rödertal-SH (33205): Am Marstall 4\, 01558 Großenhain
CATEGORIES:Saison 2025/26
END:VEVENT
BEGIN:VEVENT
DTSTAMP:20260424T132340Z
DTSTART;TZID=Europe/Berlin:20260117T114500
DTEND;TZID=Europe/Berlin:20260117T124500
SUMMARY:Regionsoberliga S-M mJB S2 HC Großenhain  II vs SG Klotzsche (53026)
UID:56d5f76f-efe1-4c7c-9320-2b955b72c421
STATUS:CONFIRMED
LAST-MODIFIED:20260119T125342Z
DESCRIPTION:Regionsoberliga S-M mJB Staffel 2\nBegegnungs-Nr: 53026\nHeim: HC Großenhain  II\nGast: SG Klotzsche\nHalle: Rödertal-SH (33205)\nAdresse: Am Marstall 4\, 01558 Großenhain\n
LOCATION:Rödertal-SH (33205): Am Marstall 4\, 01558 Großenhain
CATEGORIES:Saison 2025/26
END:VEVENT
BEGIN:VEVENT
DTSTAMP:20260424T132340Z
DTSTART;TZID=Europe/Berlin:20251122T130000
DTEND;TZID=Europe/Berlin:20251122T140000
SUMMARY:Regionsoberliga S-M mJB S2 HC Großenhain  II vs SG Weixdorf (53018)
UID:f1ecfe3c-d003-484d-9e00-1800ae1ea87a
STATUS:CONFIRMED
LAST-MODIFIED:20251126T172549Z
DESCRIPTION:Regionsoberliga S-M mJB Staffel 2\nBegegnungs-Nr: 53018\nHeim: HC Großenhain  II\nGast: SG Weixdorf\nHalle: Rödertal-SH (33205)\nAdresse: Am Marstall 4\, 01558 Großenhain\n
LOCATION:Rödertal-SH (33205): Am Marstall 4\, 01558 Großenhain
CATEGORIES:Saison 2025/26
END:VEVENT
BEGIN:VEVENT
DTSTAMP:20260424T132340Z
DTSTART;TZID=Europe/Berlin:20250913T143000
DTEND;TZID=Europe/Berlin:20250913T153000
SUMMARY:Regionsoberliga S-M mJB S2 HC Großenhain  II vs SV Niederau (53007)
UID:72eee71e-61e5-46f1-a4bb-e350297fb11a
STATUS:CONFIRMED
LAST-MODIFIED:20250914T162843Z
DESCRIPTION:Regionsoberliga S-M mJB Staffel 2\nBegegnungs-Nr: 53007\nHeim: HC Großenhain  II\nGast: SV Niederau\nHalle: Rödertal-SH (33205)\nAdresse: Am Marstall 4\, 01558 Großenhain\n
LOCATION:Rödertal-SH (33205): Am Marstall 4\, 01558 Großenhain
CATEGORIES:Saison 2025/26
END:VEVENT
BEGIN:VEVENT
DTSTAMP:20260424T132340Z
DTSTART;TZID=Europe/Berlin:20260322T120000
DTEND;TZID=Europe/Berlin:20260322T130000
SUMMARY:Regionsoberliga S-M mJB S2 SG Weixdorf vs HC Großenhain  II (53039)
UID:73eed173-5136-4613-9a99-dc2553c23f16
STATUS:CONFIRMED
LAST-MODIFIED:20260322T173019Z
DESCRIPTION:Regionsoberliga S-M mJB Staffel 2\nBegegnungs-Nr: 53039\nHeim: SG Weixdorf\nGast: HC Großenhain  II\nHalle: Gerhard-Grafe-SH Weixdorf (33116)\nAdresse: Weixdorfer Rathausplatz 2a\, 01108 Dresden\n
LOCATION:Gerhard-Grafe-SH Weixdorf (33116): Weixdorfer Rathausplatz 2a\, 01108 Dresden
CATEGORIES:Saison 2025/26
END:VEVENT
BEGIN:VEVENT
DTSTAMP:20260424T132340Z
DTSTART;TZID=Europe/Berlin:20260125T120000
DTEND;TZID=Europe/Berlin:20260125T130000
SUMMARY:Regionsoberliga S-M mJB S2 SV Niederau vs HC Großenhain  II (53028)
UID:a4590574-d6f4-43ce-850f-0e47d687156e
STATUS:CONFIRMED
LAST-MODIFIED:20260125T163354Z
DESCRIPTION:Regionsoberliga S-M mJB Staffel 2\nBegegnungs-Nr: 53028\nHeim: SV Niederau\nGast: HC Großenhain  II\nHalle: SH BSZ Meißen (33220)\nAdresse: Goethestraße 21\, 01662 Meißen\n
LOCATION:SH BSZ Meißen (33220): Goethestraße 21\, 01662 Meißen
CATEGORIES:Saison 2025/26
END:VEVENT
BEGIN:VEVENT
DTSTAMP:20260424T132340Z
DTSTART;TZID=Europe/Berlin:20251101T140000
DTEND;TZID=Europe/Berlin:20251101T150000
SUMMARY:Regionsoberliga S-M mJB S2 SG Dippoldiswalde-Ruppendorf vs HC Großenhain  II (53016)
UID:739ed0cd-00c9-41ab-b1a2-16f03a5e9e0b
STATUS:CONFIRMED
LAST-MODIFIED:20251106T155556Z
DESCRIPTION:Regionsoberliga S-M mJB Staffel 2\nBegegnungs-Nr: 53016\nHeim: SG Dippoldiswalde-Ruppendorf\nGast: HC Großenhain  II\nHalle: Sportpark Dippoldiswalde (33229)\nAdresse: Nikolai-Ostrowski-Straße 2\, 01744 Dippoldiswalde\n
LOCATION:Sportpark Dippoldiswalde (33229): Nikolai-Ostrowski-Straße 2\, 01744 Dippoldiswalde
CATEGORIES:Saison 2025/26
END:VEVENT
BEGIN:VEVENT
DTSTAMP:20260424T132340Z
DTSTART;TZID=Europe/Berlin:20251214T093000
DTEND;TZID=Europe/Berlin:20251214T103000
SUMMARY:Regionsoberliga S-M mJB S2 Coswiger HSG vs HC Großenhain  II (53013)
UID:a68cfff8-d5fc-4b62-b36f-714077681bb2
STATUS:CONFIRMED
LAST-MODIFIED:20260109T172946Z
DESCRIPTION:Regionsoberliga S-M mJB Staffel 2\nBegegnungs-Nr: 53013\nHeim: Coswiger HSG\nGast: HC Großenhain  II\nHalle: SH Gymnasium Coswig (33209)\nAdresse: Melanchthonstraße 8 - 10\, 01640 Coswig\n
LOCATION:SH Gymnasium Coswig (33209): Melanchthonstraße 8 - 10\, 01640 Coswig
CATEGORIES:Saison 2025/26
END:VEVENT
BEGIN:VEVENT
DTSTAMP:20260424T132340Z
DTSTART;TZID=Europe/Berlin:20251130T140000
DTEND;TZID=Europe/Berlin:20251130T150000
SUMMARY:Regionsoberliga S-M mJB S2 Motor Wilsdruff  vs HC Großenhain  II (53010)
UID:23f849eb-71c3-4bf5-812c-c918af0b24da
STATUS:CONFIRMED
LAST-MODIFIED:20251201T164110Z
DESCRIPTION:Regionsoberliga S-M mJB Staffel 2\nBegegnungs-Nr: 53010\nHeim: Motor Wilsdruff \nGast: HC Großenhain  II\nHalle: Saubach-SH Wilsdruff (33208)\nAdresse: Nossener Str. 21b\, 01723 Wilsdruff\n
LOCATION:Saubach-SH Wilsdruff (33208): Nossener Str. 21b\, 01723 Wilsdruff
CATEGORIES:Saison 2025/26
END:VEVENT
BEGIN:VEVENT
DTSTAMP:20260424T132340Z
DTSTART;TZID=Europe/Berlin:20250906T100000
DTEND;TZID=Europe/Berlin:20250906T110000
SUMMARY:Regionsoberliga S-M mJB S2 SG Klotzsche vs HC Großenhain  II (53005)
UID:3fc207e6-6645-4a82-b7f2-424e02dd8246
STATUS:CONFIRMED
LAST-MODIFIED:20250908T144933Z
DESCRIPTION:Regionsoberliga S-M mJB Staffel 2\nBegegnungs-Nr: 53005\nHeim: SG Klotzsche\nGast: HC Großenhain  II\nHalle: SH Gymnasium Klotzsche (33126)\nAdresse: Karl-Marx-Straße 44\, 01109 Dresden\n
LOCATION:SH Gymnasium Klotzsche (33126): Karl-Marx-Straße 44\, 01109 Dresden
CATEGORIES:Saison 2025/26
END:VEVENT
END:VCALENDAR
