BEGIN:VCALENDAR
PRODID:-//nuDatenautomaten//framework iCal4j //DE
VERSION:2.0
CALSCALE:GREGORIAN
BEGIN:VTIMEZONE
TZID:Europe/Berlin
LAST-MODIFIED:20260306T231828Z
TZURL:https://www.tzurl.org/zoneinfo/Europe/Berlin
X-LIC-LOCATION:Europe/Berlin
X-PROLEPTIC-TZNAME:LMT
BEGIN:STANDARD
TZNAME:CET
TZOFFSETFROM:+005328
TZOFFSETTO:+0100
DTSTART:18930401T000000
END:STANDARD
BEGIN:DAYLIGHT
TZNAME:CEST
TZOFFSETFROM:+0100
TZOFFSETTO:+0200
DTSTART:19160430T230000
RDATE:19400401T020000
RDATE:19430329T020000
RDATE:19460414T020000
RDATE:19470406T030000
RDATE:19480418T020000
RDATE:19490410T020000
RDATE:19800406T020000
END:DAYLIGHT
BEGIN:STANDARD
TZNAME:CET
TZOFFSETFROM:+0200
TZOFFSETTO:+0100
DTSTART:19161001T010000
RDATE:19421102T030000
RDATE:19431004T030000
RDATE:19441002T030000
RDATE:19451118T030000
RDATE:19461007T030000
END:STANDARD
BEGIN:DAYLIGHT
TZNAME:CEST
TZOFFSETFROM:+0100
TZOFFSETTO:+0200
DTSTART:19170416T020000
RRULE:FREQ=YEARLY;UNTIL=19180415T010000Z;BYMONTH=4;BYDAY=3MO
END:DAYLIGHT
BEGIN:STANDARD
TZNAME:CET
TZOFFSETFROM:+0200
TZOFFSETTO:+0100
DTSTART:19170917T030000
RRULE:FREQ=YEARLY;UNTIL=19180916T010000Z;BYMONTH=9;BYDAY=3MO
END:STANDARD
BEGIN:DAYLIGHT
TZNAME:CEST
TZOFFSETFROM:+0100
TZOFFSETTO:+0200
DTSTART:19440403T020000
RRULE:FREQ=YEARLY;UNTIL=19450402T010000Z;BYMONTH=4;BYDAY=1MO
END:DAYLIGHT
BEGIN:DAYLIGHT
TZNAME:CEMT
TZOFFSETFROM:+0200
TZOFFSETTO:+0300
DTSTART:19450524T020000
RDATE:19470511T030000
END:DAYLIGHT
BEGIN:DAYLIGHT
TZNAME:CEST
TZOFFSETFROM:+0300
TZOFFSETTO:+0200
DTSTART:19450924T030000
RDATE:19470629T030000
END:DAYLIGHT
BEGIN:STANDARD
TZNAME:CET
TZOFFSETFROM:+0100
TZOFFSETTO:+0100
DTSTART:19460101T000000
RDATE:19800101T000000
END:STANDARD
BEGIN:STANDARD
TZNAME:CET
TZOFFSETFROM:+0200
TZOFFSETTO:+0100
DTSTART:19471005T030000
RRULE:FREQ=YEARLY;UNTIL=19491002T010000Z;BYMONTH=10;BYDAY=1SU
END:STANDARD
BEGIN:STANDARD
TZNAME:CET
TZOFFSETFROM:+0200
TZOFFSETTO:+0100
DTSTART:19800928T030000
RRULE:FREQ=YEARLY;UNTIL=19950924T010000Z;BYMONTH=9;BYDAY=-1SU
END:STANDARD
BEGIN:DAYLIGHT
TZNAME:CEST
TZOFFSETFROM:+0100
TZOFFSETTO:+0200
DTSTART:19810329T020000
RRULE:FREQ=YEARLY;BYMONTH=3;BYDAY=-1SU
END:DAYLIGHT
BEGIN:STANDARD
TZNAME:CET
TZOFFSETFROM:+0200
TZOFFSETTO:+0100
DTSTART:19961027T030000
RRULE:FREQ=YEARLY;BYMONTH=10;BYDAY=-1SU
END:STANDARD
END:VTIMEZONE
BEGIN:VEVENT
DTSTAMP:20260419T222353Z
DTSTART;TZID=Europe/Berlin:20260124T103000
DTEND;TZID=Europe/Berlin:20260124T113000
SUMMARY:ROL mJB Ost Motor Rochlitz vs Rotation Weißenborn (322036)
UID:a22445a4-3c16-401b-b15e-210a84bf7f3e
STATUS:CONFIRMED
DESCRIPTION:Regionsoberliga männliche B-Jugend\nBegegnungs-Nr: 322036\nHeim: Motor Rochlitz\nGast: Rotation Weißenborn\nHalle: SH Rochlitz (32214)\nAdresse: Am Regenbogen 1\, 09306 Rochlitz\n
LOCATION:SH Rochlitz (32214): Am Regenbogen 1\, 09306 Rochlitz
CATEGORIES:Saison 2025/26
END:VEVENT
BEGIN:VEVENT
DTSTAMP:20260419T222353Z
DTSTART;TZID=Europe/Berlin:20260110T103000
DTEND;TZID=Europe/Berlin:20260110T113000
SUMMARY:ROL mJB Ost Motor Rochlitz vs Grün-Weiß Niederwiesa (322032)
UID:e763f9e1-f62a-4908-b016-b0c87c06a447
STATUS:CONFIRMED
LAST-MODIFIED:20260115T124843Z
DESCRIPTION:Regionsoberliga männliche B-Jugend\nBegegnungs-Nr: 322032\nHeim: Motor Rochlitz\nGast: Grün-Weiß Niederwiesa\nHalle: SH Rochlitz (32214)\nAdresse: Am Regenbogen 1\, 09306 Rochlitz\n
LOCATION:SH Rochlitz (32214): Am Regenbogen 1\, 09306 Rochlitz
CATEGORIES:Saison 2025/26
END:VEVENT
BEGIN:VEVENT
DTSTAMP:20260419T222353Z
DTSTART;TZID=Europe/Berlin:20251025T103000
DTEND;TZID=Europe/Berlin:20251025T113000
SUMMARY:ROL mJB Ost Motor Rochlitz vs Burgstädter HC (322018)
UID:a38232d9-04ef-4779-9f5f-c989f0201232
STATUS:CONFIRMED
LAST-MODIFIED:20251029T174854Z
DESCRIPTION:Regionsoberliga männliche B-Jugend\nBegegnungs-Nr: 322018\nHeim: Motor Rochlitz\nGast: Burgstädter HC\nHalle: SH Rochlitz (32214)\nAdresse: Am Regenbogen 1\, 09306 Rochlitz\n
LOCATION:SH Rochlitz (32214): Am Regenbogen 1\, 09306 Rochlitz
CATEGORIES:Saison 2025/26
END:VEVENT
BEGIN:VEVENT
DTSTAMP:20260419T222353Z
DTSTART;TZID=Europe/Berlin:20250913T103000
DTEND;TZID=Europe/Berlin:20250913T113000
SUMMARY:ROL mJB Ost Motor Rochlitz vs Roßweiner SV (322009)
UID:cc67c2e0-8f92-4c66-8bfd-ded40aef9da9
STATUS:CONFIRMED
LAST-MODIFIED:20250913T192744Z
DESCRIPTION:Regionsoberliga männliche B-Jugend\nBegegnungs-Nr: 322009\nHeim: Motor Rochlitz\nGast: Roßweiner SV\nHalle: SH Rochlitz (32214)\nAdresse: Am Regenbogen 1\, 09306 Rochlitz\n
LOCATION:SH Rochlitz (32214): Am Regenbogen 1\, 09306 Rochlitz
CATEGORIES:Saison 2025/26
END:VEVENT
BEGIN:VEVENT
DTSTAMP:20260419T222353Z
DTSTART;TZID=Europe/Berlin:20250830T103000
DTEND;TZID=Europe/Berlin:20250830T113000
SUMMARY:ROL mJB Ost Motor Rochlitz vs TSV Einheit Claußnitz (322003)
UID:ae78f103-1488-413f-829c-b1cbfb5d68a7
STATUS:CONFIRMED
LAST-MODIFIED:20251022T153303Z
DESCRIPTION:Regionsoberliga männliche B-Jugend\nBegegnungs-Nr: 322003\nHeim: Motor Rochlitz\nGast: TSV Einheit Claußnitz\nHalle: SH Rochlitz (32214)\nAdresse: Am Regenbogen 1\, 09306 Rochlitz\n
LOCATION:SH Rochlitz (32214): Am Regenbogen 1\, 09306 Rochlitz
CATEGORIES:Saison 2025/26
END:VEVENT
BEGIN:VEVENT
DTSTAMP:20260419T222353Z
DTSTART;TZID=Europe/Berlin:20260307T103000
DTEND;TZID=Europe/Berlin:20260307T113000
SUMMARY:ROL mJB Platzierungsr. 11-14 Motor Rochlitz vs TSV Zschopau (325003)
UID:8018d3f0-c617-44a8-befb-b861aa9be96c
STATUS:CONFIRMED
LAST-MODIFIED:20260318T160449Z
DESCRIPTION:Regionsoberliga männliche B-Jugend\nBegegnungs-Nr: 325003\nHeim: Motor Rochlitz\nGast: TSV Zschopau\nHalle: SH Rochlitz (32214)\nAdresse: Am Regenbogen 1\, 09306 Rochlitz\n
LOCATION:SH Rochlitz (32214): Am Regenbogen 1\, 09306 Rochlitz
CATEGORIES:Saison 2025/26
END:VEVENT
BEGIN:VEVENT
DTSTAMP:20260419T222353Z
DTSTART;TZID=Europe/Berlin:20260328T103000
DTEND;TZID=Europe/Berlin:20260328T113000
SUMMARY:ROL mJB Platzierungsr. 11-14 Motor Rochlitz vs TSV Lichtentanne (325005)
UID:044e8221-7f66-417d-882e-32a1dbba1e4d
STATUS:CONFIRMED
DESCRIPTION:Regionsoberliga männliche B-Jugend\nBegegnungs-Nr: 325005\nHeim: Motor Rochlitz\nGast: TSV Lichtentanne\nHalle: SH Rochlitz (32214)\nAdresse: Am Regenbogen 1\, 09306 Rochlitz\n
LOCATION:SH Rochlitz (32214): Am Regenbogen 1\, 09306 Rochlitz
CATEGORIES:Saison 2025/26
END:VEVENT
BEGIN:VEVENT
DTSTAMP:20260419T222353Z
DTSTART;TZID=Europe/Berlin:20251122T103000
DTEND;TZID=Europe/Berlin:20251122T113000
SUMMARY:ROL mJB Ost TSV Einheit Claußnitz vs Motor Rochlitz (322024)
UID:10487df0-b9f0-4fa5-9da6-4fdd2a8c109a
STATUS:CONFIRMED
LAST-MODIFIED:20251123T183205Z
DESCRIPTION:Regionsoberliga männliche B-Jugend\nBegegnungs-Nr: 322024\nHeim: TSV Einheit Claußnitz\nGast: Motor Rochlitz\nHalle: Zweifeldhalle Claußnitz (32218)\nAdresse: Daniel-Gottlob-Türk-Str. 3\, 09236 Claußnitz\n
LOCATION:Zweifeldhalle Claußnitz (32218): Daniel-Gottlob-Türk-Str. 3\, 09236 Claußnitz
CATEGORIES:Saison 2025/26
END:VEVENT
BEGIN:VEVENT
DTSTAMP:20260419T222353Z
DTSTART;TZID=Europe/Berlin:20251206T120000
DTEND;TZID=Europe/Berlin:20251206T130000
SUMMARY:ROL mJB Ost Roßweiner SV vs Motor Rochlitz (322030)
UID:18b2183b-a8ad-45b2-a065-8f33334d87f9
STATUS:CONFIRMED
LAST-MODIFIED:20251218T124057Z
DESCRIPTION:Regionsoberliga männliche B-Jugend\nBegegnungs-Nr: 322030\nHeim: Roßweiner SV\nGast: Motor Rochlitz\nHalle: Stadt-SH Roßwein (31203)\nAdresse: Grafestraße 1\, 04741 Roßwein\n
LOCATION:Stadt-SH Roßwein (31203): Grafestraße 1\, 04741 Roßwein
CATEGORIES:Saison 2025/26
END:VEVENT
BEGIN:VEVENT
DTSTAMP:20260419T222353Z
DTSTART;TZID=Europe/Berlin:20251102T140000
DTEND;TZID=Europe/Berlin:20251102T150000
SUMMARY:ROL mJB Ost Geringswalder HV vs Motor Rochlitz (322020)
UID:3696f61e-c913-449c-afb1-f6eedcc17b06
STATUS:CONFIRMED
LAST-MODIFIED:20251120T090508Z
DESCRIPTION:Regionsoberliga männliche B-Jugend\nBegegnungs-Nr: 322020\nHeim: Geringswalder HV\nGast: Motor Rochlitz\nHalle: Sportarena \"Arche\" Hausdorf (31207)\nAdresse: Hauptstr. 34 c\, 04680 Hausdorf\n
LOCATION:Sportarena \"Arche\" Hausdorf (31207): Hauptstr. 34 c\, 04680 Hausdorf
CATEGORIES:Saison 2025/26
END:VEVENT
BEGIN:VEVENT
DTSTAMP:20260419T222353Z
DTSTART;TZID=Europe/Berlin:20250928T153000
DTEND;TZID=Europe/Berlin:20250928T163000
SUMMARY:ROL mJB Ost Rotation Weißenborn vs Motor Rochlitz (322015)
UID:5e9cd8d4-d0ff-4e55-8981-41b85bacd713
STATUS:CONFIRMED
LAST-MODIFIED:20251022T152055Z
DESCRIPTION:Regionsoberliga männliche B-Jugend\nBegegnungs-Nr: 322015\nHeim: Rotation Weißenborn\nGast: Motor Rochlitz\nHalle: SH Schoeller Weißenborn (32415)\nAdresse: Lichtenberger Straße 8\, 09600 Weißenborn\n
LOCATION:SH Schoeller Weißenborn (32415): Lichtenberger Straße 8\, 09600 Weißenborn
CATEGORIES:Saison 2025/26
END:VEVENT
BEGIN:VEVENT
DTSTAMP:20260419T222353Z
DTSTART;TZID=Europe/Berlin:20250921T160000
DTEND;TZID=Europe/Berlin:20250921T170000
SUMMARY:ROL mJB Ost Grün-Weiß Niederwiesa vs Motor Rochlitz (322011)
UID:3dcaca8c-2ffa-4763-8ec4-6784007c31ab
STATUS:CONFIRMED
LAST-MODIFIED:20250924T172836Z
DESCRIPTION:Regionsoberliga männliche B-Jugend\nBegegnungs-Nr: 322011\nHeim: Grün-Weiß Niederwiesa\nGast: Motor Rochlitz\nHalle: SH S.-v.-Pufendorf-Gymnasium Flöha (32404)\nAdresse: Turnerstr. 16\, 09557 Flöha\n
LOCATION:SH S.-v.-Pufendorf-Gymnasium Flöha (32404): Turnerstr. 16\, 09557 Flöha
CATEGORIES:Saison 2025/26
END:VEVENT
BEGIN:VEVENT
DTSTAMP:20260419T222353Z
DTSTART;TZID=Europe/Berlin:20251115T151500
DTEND;TZID=Europe/Berlin:20251115T161500
SUMMARY:ROL mJB Ost Burgstädter HC vs Motor Rochlitz (322039)
UID:ad937057-1896-44d2-bc19-15e137702fef
STATUS:CONFIRMED
LAST-MODIFIED:20251120T091422Z
DESCRIPTION:Regionsoberliga männliche B-Jugend\nBegegnungs-Nr: 322039\nHeim: Burgstädter HC\nGast: Motor Rochlitz\nHalle: SH Burgstädt - Sportzentrum am Taurastein (32206)\nAdresse: Am Stadion 22\, 09217  Burgstädt\n
LOCATION:SH Burgstädt - Sportzentrum am Taurastein (32206): Am Stadion 22\, 09217  Burgstädt
CATEGORIES:Saison 2025/26
END:VEVENT
BEGIN:VEVENT
DTSTAMP:20260419T222353Z
DTSTART;TZID=Europe/Berlin:20251102T140000
DTEND;TZID=Europe/Berlin:20251102T150000
SUMMARY:ROL mJB Platzierungsr. 11-14 Geringswalder HV vs Motor Rochlitz (322020)
UID:64657e5a-af5f-4220-b23e-44c80964a731
STATUS:CONFIRMED
LAST-MODIFIED:20251120T090508Z
DESCRIPTION:Regionsoberliga männliche B-Jugend\nBegegnungs-Nr: 322020\nHeim: Geringswalder HV\nGast: Motor Rochlitz\n
LOCATION:
CATEGORIES:Saison 2025/26
END:VEVENT
BEGIN:VEVENT
DTSTAMP:20260419T222353Z
DTSTART;TZID=Europe/Berlin:20260228T163000
DTEND;TZID=Europe/Berlin:20260228T173000
SUMMARY:ROL mJB Platzierungsr. 11-14 TSV Lichtentanne vs Motor Rochlitz (325002)
UID:c6e79e3f-044a-4bd1-8823-9f748455510e
STATUS:CONFIRMED
LAST-MODIFIED:20260318T155736Z
DESCRIPTION:Regionsoberliga männliche B-Jugend\nBegegnungs-Nr: 325002\nHeim: TSV Lichtentanne\nGast: Motor Rochlitz\nHalle: SH Zwickau-Neuplanitz (32501)\nAdresse: Dortmunder Str. 7a\, 08062 Zwickau\n
LOCATION:SH Zwickau-Neuplanitz (32501): Dortmunder Str. 7a\, 08062 Zwickau
CATEGORIES:Saison 2025/26
END:VEVENT
BEGIN:VEVENT
DTSTAMP:20260419T222353Z
DTSTART;TZID=Europe/Berlin:20260418T153000
DTEND;TZID=Europe/Berlin:20260418T163000
SUMMARY:ROL mJB Platzierungsr. 11-14 TSV Zschopau vs Motor Rochlitz (325007)
UID:1a5a3f43-5323-4540-a30c-271bc43df8b7
STATUS:CONFIRMED
DESCRIPTION:Regionsoberliga männliche B-Jugend\nBegegnungs-Nr: 325007\nHeim: TSV Zschopau\nGast: Motor Rochlitz\nHalle: Sporthalle der M.A.N.-Schule Zschopau (32414)\nAdresse: An den Anlagen 19\, 09405 Zschopau\n
LOCATION:Sporthalle der M.A.N.-Schule Zschopau (32414): An den Anlagen 19\, 09405 Zschopau
CATEGORIES:Saison 2025/26
END:VEVENT
END:VCALENDAR
