BEGIN:VCALENDAR
PRODID:-//nuDatenautomaten//framework iCal4j //DE
VERSION:2.0
CALSCALE:GREGORIAN
BEGIN:VTIMEZONE
TZID:Europe/Berlin
LAST-MODIFIED:20260306T231828Z
TZURL:https://www.tzurl.org/zoneinfo/Europe/Berlin
X-LIC-LOCATION:Europe/Berlin
X-PROLEPTIC-TZNAME:LMT
BEGIN:STANDARD
TZNAME:CET
TZOFFSETFROM:+005328
TZOFFSETTO:+0100
DTSTART:18930401T000000
END:STANDARD
BEGIN:DAYLIGHT
TZNAME:CEST
TZOFFSETFROM:+0100
TZOFFSETTO:+0200
DTSTART:19160430T230000
RDATE:19400401T020000
RDATE:19430329T020000
RDATE:19460414T020000
RDATE:19470406T030000
RDATE:19480418T020000
RDATE:19490410T020000
RDATE:19800406T020000
END:DAYLIGHT
BEGIN:STANDARD
TZNAME:CET
TZOFFSETFROM:+0200
TZOFFSETTO:+0100
DTSTART:19161001T010000
RDATE:19421102T030000
RDATE:19431004T030000
RDATE:19441002T030000
RDATE:19451118T030000
RDATE:19461007T030000
END:STANDARD
BEGIN:DAYLIGHT
TZNAME:CEST
TZOFFSETFROM:+0100
TZOFFSETTO:+0200
DTSTART:19170416T020000
RRULE:FREQ=YEARLY;UNTIL=19180415T010000Z;BYMONTH=4;BYDAY=3MO
END:DAYLIGHT
BEGIN:STANDARD
TZNAME:CET
TZOFFSETFROM:+0200
TZOFFSETTO:+0100
DTSTART:19170917T030000
RRULE:FREQ=YEARLY;UNTIL=19180916T010000Z;BYMONTH=9;BYDAY=3MO
END:STANDARD
BEGIN:DAYLIGHT
TZNAME:CEST
TZOFFSETFROM:+0100
TZOFFSETTO:+0200
DTSTART:19440403T020000
RRULE:FREQ=YEARLY;UNTIL=19450402T010000Z;BYMONTH=4;BYDAY=1MO
END:DAYLIGHT
BEGIN:DAYLIGHT
TZNAME:CEMT
TZOFFSETFROM:+0200
TZOFFSETTO:+0300
DTSTART:19450524T020000
RDATE:19470511T030000
END:DAYLIGHT
BEGIN:DAYLIGHT
TZNAME:CEST
TZOFFSETFROM:+0300
TZOFFSETTO:+0200
DTSTART:19450924T030000
RDATE:19470629T030000
END:DAYLIGHT
BEGIN:STANDARD
TZNAME:CET
TZOFFSETFROM:+0100
TZOFFSETTO:+0100
DTSTART:19460101T000000
RDATE:19800101T000000
END:STANDARD
BEGIN:STANDARD
TZNAME:CET
TZOFFSETFROM:+0200
TZOFFSETTO:+0100
DTSTART:19471005T030000
RRULE:FREQ=YEARLY;UNTIL=19491002T010000Z;BYMONTH=10;BYDAY=1SU
END:STANDARD
BEGIN:STANDARD
TZNAME:CET
TZOFFSETFROM:+0200
TZOFFSETTO:+0100
DTSTART:19800928T030000
RRULE:FREQ=YEARLY;UNTIL=19950924T010000Z;BYMONTH=9;BYDAY=-1SU
END:STANDARD
BEGIN:DAYLIGHT
TZNAME:CEST
TZOFFSETFROM:+0100
TZOFFSETTO:+0200
DTSTART:19810329T020000
RRULE:FREQ=YEARLY;BYMONTH=3;BYDAY=-1SU
END:DAYLIGHT
BEGIN:STANDARD
TZNAME:CET
TZOFFSETFROM:+0200
TZOFFSETTO:+0100
DTSTART:19961027T030000
RRULE:FREQ=YEARLY;BYMONTH=10;BYDAY=-1SU
END:STANDARD
END:VTIMEZONE
BEGIN:VEVENT
DTSTAMP:20260421T142649Z
DTSTART;TZID=Europe/Berlin:20251109T130000
DTEND;TZID=Europe/Berlin:20251109T140000
SUMMARY:ROL wJB West Fortschritt Mylau-Reichenb. vs SG Raschau-Beierfeld (421019)
UID:b5fecece-1026-4d70-80d0-7440460a5ed0
STATUS:CONFIRMED
LAST-MODIFIED:20251110T095418Z
DESCRIPTION:Regionsoberliga weibliche B-Jugend\nBegegnungs-Nr: 421019\nHeim: Fortschritt Mylau-Reichenb.\nGast: SG Raschau-Beierfeld\nHalle: SH Reichenbach/V. (32709)\nAdresse: Cunsdorfer Straße 25\, 08468 Reichenbach/V.\n
LOCATION:SH Reichenbach/V. (32709): Cunsdorfer Straße 25\, 08468 Reichenbach/V.
CATEGORIES:Saison 2025/26
END:VEVENT
BEGIN:VEVENT
DTSTAMP:20260421T142649Z
DTSTART;TZID=Europe/Berlin:20260208T140000
DTEND;TZID=Europe/Berlin:20260208T150000
SUMMARY:ROL wJB West Fortschritt Mylau-Reichenb. vs SG HSC Chemnitz (421029)
UID:d674d630-9d20-43dd-8a7d-2f3a863cfa24
STATUS:CONFIRMED
LAST-MODIFIED:20260211T145033Z
DESCRIPTION:Regionsoberliga weibliche B-Jugend\nBegegnungs-Nr: 421029\nHeim: Fortschritt Mylau-Reichenb.\nGast: SG HSC Chemnitz\nHalle: SH Reichenbach/V. (32709)\nAdresse: Cunsdorfer Straße 25\, 08468 Reichenbach/V.\n
LOCATION:SH Reichenbach/V. (32709): Cunsdorfer Straße 25\, 08468 Reichenbach/V.
CATEGORIES:Saison 2025/26
END:VEVENT
BEGIN:VEVENT
DTSTAMP:20260421T142649Z
DTSTART;TZID=Europe/Berlin:20260111T140000
DTEND;TZID=Europe/Berlin:20260111T150000
SUMMARY:ROL wJB West Fortschritt Mylau-Reichenb. vs SV 04 Plauen-O. (421024)
UID:701c5ac5-42d3-42fa-a3e7-d2d48b9ac556
STATUS:CONFIRMED
LAST-MODIFIED:20260122T130820Z
DESCRIPTION:Regionsoberliga weibliche B-Jugend\nBegegnungs-Nr: 421024\nHeim: Fortschritt Mylau-Reichenb.\nGast: SV 04 Plauen-O.\nHalle: SH Reichenbach/V. (32709)\nAdresse: Cunsdorfer Straße 25\, 08468 Reichenbach/V.\n
LOCATION:SH Reichenbach/V. (32709): Cunsdorfer Straße 25\, 08468 Reichenbach/V.
CATEGORIES:Saison 2025/26
END:VEVENT
BEGIN:VEVENT
DTSTAMP:20260421T142649Z
DTSTART;TZID=Europe/Berlin:20250831T140000
DTEND;TZID=Europe/Berlin:20250831T150000
SUMMARY:ROL wJB West Fortschritt Mylau-Reichenb. vs HC Annaberg-B. (421002)
UID:12e1e770-4ad4-4419-a74d-dc9cdad099ae
STATUS:CONFIRMED
LAST-MODIFIED:20250908T211659Z
DESCRIPTION:Regionsoberliga weibliche B-Jugend\nBegegnungs-Nr: 421002\nHeim: Fortschritt Mylau-Reichenb.\nGast: HC Annaberg-B.\nHalle: SH Reichenbach/V. (32709)\nAdresse: Cunsdorfer Straße 25\, 08468 Reichenbach/V.\n
LOCATION:SH Reichenbach/V. (32709): Cunsdorfer Straße 25\, 08468 Reichenbach/V.
CATEGORIES:Saison 2025/26
END:VEVENT
BEGIN:VEVENT
DTSTAMP:20260421T142649Z
DTSTART;TZID=Europe/Berlin:20250914T120000
DTEND;TZID=Europe/Berlin:20250914T130000
SUMMARY:ROL wJB West Fortschritt Mylau-Reichenb. vs Sachsen 90 Werdau (421007)
UID:b8388f94-f06e-47f8-ab54-023bce2c5b42
STATUS:CONFIRMED
LAST-MODIFIED:20250914T205718Z
DESCRIPTION:Regionsoberliga weibliche B-Jugend\nBegegnungs-Nr: 421007\nHeim: Fortschritt Mylau-Reichenb.\nGast: Sachsen 90 Werdau\nHalle: SH Weinholdschule Reichenbach/V. (32710)\nAdresse: Weinholdstraße 14\, 08468 Reichenbach/V.\n
LOCATION:SH Weinholdschule Reichenbach/V. (32710): Weinholdstraße 14\, 08468 Reichenbach/V.
CATEGORIES:Saison 2025/26
END:VEVENT
BEGIN:VEVENT
DTSTAMP:20260421T142649Z
DTSTART;TZID=Europe/Berlin:20260301T120000
DTEND;TZID=Europe/Berlin:20260301T130000
SUMMARY:ROL wJB Platzierungsr. 7-12 Fortschritt Mylau-Reichenb. vs HSG Sachsenring (424001)
UID:5595b8c0-7250-49c4-8514-04c3e8cb58f1
STATUS:CONFIRMED
LAST-MODIFIED:20260302T073844Z
DESCRIPTION:Regionsoberliga weibliche B-Jugend\nBegegnungs-Nr: 424001\nHeim: Fortschritt Mylau-Reichenb.\nGast: HSG Sachsenring\nHalle: SH Reichenbach/V. (32709)\nAdresse: Cunsdorfer Straße 25\, 08468 Reichenbach/V.\n
LOCATION:SH Reichenbach/V. (32709): Cunsdorfer Straße 25\, 08468 Reichenbach/V.
CATEGORIES:Saison 2025/26
END:VEVENT
BEGIN:VEVENT
DTSTAMP:20260421T142649Z
DTSTART;TZID=Europe/Berlin:20250831T140000
DTEND;TZID=Europe/Berlin:20250831T150000
SUMMARY:ROL wJB Platzierungsr. 7-12 Fortschritt Mylau-Reichenb. vs HC Annaberg-B. (421002)
UID:a57c34d1-8f20-4a87-a277-287f27772e4d
STATUS:CONFIRMED
LAST-MODIFIED:20250908T211659Z
DESCRIPTION:Regionsoberliga weibliche B-Jugend\nBegegnungs-Nr: 421002\nHeim: Fortschritt Mylau-Reichenb.\nGast: HC Annaberg-B.\n
LOCATION:
CATEGORIES:Saison 2025/26
END:VEVENT
BEGIN:VEVENT
DTSTAMP:20260421T142649Z
DTSTART;TZID=Europe/Berlin:20260208T140000
DTEND;TZID=Europe/Berlin:20260208T150000
SUMMARY:ROL wJB Platzierungsr. 7-12 Fortschritt Mylau-Reichenb. vs SG HSC Chemnitz (421029)
UID:a2cfb84c-22e6-43a4-bd5d-23d3cec6582a
STATUS:CONFIRMED
LAST-MODIFIED:20260211T145033Z
DESCRIPTION:Regionsoberliga weibliche B-Jugend\nBegegnungs-Nr: 421029\nHeim: Fortschritt Mylau-Reichenb.\nGast: SG HSC Chemnitz\n
LOCATION:
CATEGORIES:Saison 2025/26
END:VEVENT
BEGIN:VEVENT
DTSTAMP:20260421T142649Z
DTSTART;TZID=Europe/Berlin:20260419T160000
DTEND;TZID=Europe/Berlin:20260419T170000
SUMMARY:ROL wJB Platzierungsr. 7-12 Fortschritt Mylau-Reichenb. vs BSV Limbach-O. (424009)
UID:d32f39b8-8fc5-405c-9caf-a5e501fb728c
STATUS:CONFIRMED
LAST-MODIFIED:20260419T180713Z
DESCRIPTION:Regionsoberliga weibliche B-Jugend\nBegegnungs-Nr: 424009\nHeim: Fortschritt Mylau-Reichenb.\nGast: BSV Limbach-O.\nHalle: SH Reichenbach/V. (32709)\nAdresse: Cunsdorfer Straße 25\, 08468 Reichenbach/V.\n
LOCATION:SH Reichenbach/V. (32709): Cunsdorfer Straße 25\, 08468 Reichenbach/V.
CATEGORIES:Saison 2025/26
END:VEVENT
BEGIN:VEVENT
DTSTAMP:20260421T142649Z
DTSTART;TZID=Europe/Berlin:20251207T120000
DTEND;TZID=Europe/Berlin:20251207T130000
SUMMARY:ROL wJB West Sachsen 90 Werdau vs Fortschritt Mylau-Reichenb. (421022)
UID:6b1b1dbb-71c3-4dcc-b822-6b91643f09ad
STATUS:CONFIRMED
LAST-MODIFIED:20251210T080040Z
DESCRIPTION:Regionsoberliga weibliche B-Jugend\nBegegnungs-Nr: 421022\nHeim: Sachsen 90 Werdau\nGast: Fortschritt Mylau-Reichenb.\nHalle: SH Werdau (32508)\nAdresse: Alexander-von-Humboldt-Str. 4\, 08412 Werdau\n
LOCATION:SH Werdau (32508): Alexander-von-Humboldt-Str. 4\, 08412 Werdau
CATEGORIES:Saison 2025/26
END:VEVENT
BEGIN:VEVENT
DTSTAMP:20260421T142649Z
DTSTART;TZID=Europe/Berlin:20251101T130000
DTEND;TZID=Europe/Berlin:20251101T140000
SUMMARY:ROL wJB West SG HSC Chemnitz vs Fortschritt Mylau-Reichenb. (421014)
UID:adaa19fb-21a4-4e6b-b97d-5f9dadba36b6
STATUS:CONFIRMED
LAST-MODIFIED:20251110T095116Z
DESCRIPTION:Regionsoberliga weibliche B-Jugend\nBegegnungs-Nr: 421014\nHeim: SG HSC Chemnitz\nGast: Fortschritt Mylau-Reichenb.\nHalle: SH Chemnitzer PSV (32108)\nAdresse: Forststraße 9\, 09130 Chemnitz\n
LOCATION:SH Chemnitzer PSV (32108): Forststraße 9\, 09130 Chemnitz
CATEGORIES:Saison 2025/26
END:VEVENT
BEGIN:VEVENT
DTSTAMP:20260421T142649Z
DTSTART;TZID=Europe/Berlin:20251122T100000
DTEND;TZID=Europe/Berlin:20251122T110000
SUMMARY:ROL wJB West HC Annaberg-B. vs Fortschritt Mylau-Reichenb. (421017)
UID:ab69a8fd-8ebd-4903-a633-615ddd7393f9
STATUS:CONFIRMED
LAST-MODIFIED:20251124T102913Z
DESCRIPTION:Regionsoberliga weibliche B-Jugend\nBegegnungs-Nr: 421017\nHeim: HC Annaberg-B.\nGast: Fortschritt Mylau-Reichenb.\nHalle: Silberlandhalle Annaberg-Buchholz (32601)\nAdresse: Talstraße 8-10\, 09456 Annaberg-Buchholz\n
LOCATION:Silberlandhalle Annaberg-Buchholz (32601): Talstraße 8-10\, 09456 Annaberg-Buchholz
CATEGORIES:Saison 2025/26
END:VEVENT
BEGIN:VEVENT
DTSTAMP:20260421T142649Z
DTSTART;TZID=Europe/Berlin:20260117T120000
DTEND;TZID=Europe/Berlin:20260117T130000
SUMMARY:ROL wJB West SG Raschau-Beierfeld vs Fortschritt Mylau-Reichenb. (421004)
UID:7e017092-5609-4e01-b960-4457dc3db428
STATUS:CONFIRMED
LAST-MODIFIED:20260122T130853Z
DESCRIPTION:Regionsoberliga weibliche B-Jugend\nBegegnungs-Nr: 421004\nHeim: SG Raschau-Beierfeld\nGast: Fortschritt Mylau-Reichenb.\nHalle: Spiegelwaldhalle Beierfeld (32309)\nAdresse: Str. des Sports\, 08340 Beierfeld\n
LOCATION:Spiegelwaldhalle Beierfeld (32309): Str. des Sports\, 08340 Beierfeld
CATEGORIES:Saison 2025/26
END:VEVENT
BEGIN:VEVENT
DTSTAMP:20260421T142649Z
DTSTART;TZID=Europe/Berlin:20250920T120000
DTEND;TZID=Europe/Berlin:20250920T130000
SUMMARY:ROL wJB West SV 04 Plauen-O. vs Fortschritt Mylau-Reichenb. (421009)
UID:db0a201c-19b5-449b-b14f-3c7111a677e2
STATUS:CONFIRMED
LAST-MODIFIED:20250924T125158Z
DESCRIPTION:Regionsoberliga weibliche B-Jugend\nBegegnungs-Nr: 421009\nHeim: SV 04 Plauen-O.\nGast: Fortschritt Mylau-Reichenb.\nHalle: SH Kurt-Helbig Plauen (32701)\nAdresse: Comeniusstr. 15\, 08523 Plauen\n
LOCATION:SH Kurt-Helbig Plauen (32701): Comeniusstr. 15\, 08523 Plauen
CATEGORIES:Saison 2025/26
END:VEVENT
BEGIN:VEVENT
DTSTAMP:20260421T142649Z
DTSTART;TZID=Europe/Berlin:20260308T133000
DTEND;TZID=Europe/Berlin:20260308T143000
SUMMARY:ROL wJB Platzierungsr. 7-12 BSV Limbach-O. vs Fortschritt Mylau-Reichenb. (424003)
UID:63e2a444-2533-4657-b4b2-425076358622
STATUS:CONFIRMED
LAST-MODIFIED:20260312T094835Z
DESCRIPTION:Regionsoberliga weibliche B-Jugend\nBegegnungs-Nr: 424003\nHeim: BSV Limbach-O.\nGast: Fortschritt Mylau-Reichenb.\nHalle: GSH Limbach-Oberfrohna (32201)\nAdresse: Anna-Esche-Gäßchen 1\, 09212 Limbach-Oberfrohna\n
LOCATION:GSH Limbach-Oberfrohna (32201): Anna-Esche-Gäßchen 1\, 09212 Limbach-Oberfrohna
CATEGORIES:Saison 2025/26
END:VEVENT
BEGIN:VEVENT
DTSTAMP:20260421T142649Z
DTSTART;TZID=Europe/Berlin:20260329T100000
DTEND;TZID=Europe/Berlin:20260329T110000
SUMMARY:ROL wJB Platzierungsr. 7-12 HSG Sachsenring vs Fortschritt Mylau-Reichenb. (424007)
UID:e7f70b5e-ecb3-403a-8f04-0962f6f983f2
STATUS:CONFIRMED
LAST-MODIFIED:20260402T201141Z
DESCRIPTION:Regionsoberliga weibliche B-Jugend\nBegegnungs-Nr: 424007\nHeim: HSG Sachsenring\nGast: Fortschritt Mylau-Reichenb.\nHalle: HOT-Sportzentrum - Hohenstein-Ernstthal (32225)\nAdresse: Logenstraße 2a\, 09337 Hohenstein-Ernstthal\n
LOCATION:HOT-Sportzentrum - Hohenstein-Ernstthal (32225): Logenstraße 2a\, 09337 Hohenstein-Ernstthal
CATEGORIES:Saison 2025/26
END:VEVENT
BEGIN:VEVENT
DTSTAMP:20260421T142649Z
DTSTART;TZID=Europe/Berlin:20251101T130000
DTEND;TZID=Europe/Berlin:20251101T140000
SUMMARY:ROL wJB Platzierungsr. 7-12 SG HSC Chemnitz vs Fortschritt Mylau-Reichenb. (421014)
UID:4e57e778-d4d8-4087-a2b8-a96bc5fa0ec7
STATUS:CONFIRMED
LAST-MODIFIED:20251110T095116Z
DESCRIPTION:Regionsoberliga weibliche B-Jugend\nBegegnungs-Nr: 421014\nHeim: SG HSC Chemnitz\nGast: Fortschritt Mylau-Reichenb.\n
LOCATION:
CATEGORIES:Saison 2025/26
END:VEVENT
BEGIN:VEVENT
DTSTAMP:20260421T142649Z
DTSTART;TZID=Europe/Berlin:20251122T100000
DTEND;TZID=Europe/Berlin:20251122T110000
SUMMARY:ROL wJB Platzierungsr. 7-12 HC Annaberg-B. vs Fortschritt Mylau-Reichenb. (421017)
UID:ab62b362-752c-4e37-9c88-1f4269216d9e
STATUS:CONFIRMED
LAST-MODIFIED:20251124T102913Z
DESCRIPTION:Regionsoberliga weibliche B-Jugend\nBegegnungs-Nr: 421017\nHeim: HC Annaberg-B.\nGast: Fortschritt Mylau-Reichenb.\n
LOCATION:
CATEGORIES:Saison 2025/26
END:VEVENT
END:VCALENDAR
