BEGIN:VCALENDAR
PRODID:-//nuDatenautomaten//framework iCal4j //DE
VERSION:2.0
CALSCALE:GREGORIAN
BEGIN:VTIMEZONE
TZID:Europe/Berlin
LAST-MODIFIED:20260306T231828Z
TZURL:https://www.tzurl.org/zoneinfo/Europe/Berlin
X-LIC-LOCATION:Europe/Berlin
X-PROLEPTIC-TZNAME:LMT
BEGIN:STANDARD
TZNAME:CET
TZOFFSETFROM:+005328
TZOFFSETTO:+0100
DTSTART:18930401T000000
END:STANDARD
BEGIN:DAYLIGHT
TZNAME:CEST
TZOFFSETFROM:+0100
TZOFFSETTO:+0200
DTSTART:19160430T230000
RDATE:19400401T020000
RDATE:19430329T020000
RDATE:19460414T020000
RDATE:19470406T030000
RDATE:19480418T020000
RDATE:19490410T020000
RDATE:19800406T020000
END:DAYLIGHT
BEGIN:STANDARD
TZNAME:CET
TZOFFSETFROM:+0200
TZOFFSETTO:+0100
DTSTART:19161001T010000
RDATE:19421102T030000
RDATE:19431004T030000
RDATE:19441002T030000
RDATE:19451118T030000
RDATE:19461007T030000
END:STANDARD
BEGIN:DAYLIGHT
TZNAME:CEST
TZOFFSETFROM:+0100
TZOFFSETTO:+0200
DTSTART:19170416T020000
RRULE:FREQ=YEARLY;UNTIL=19180415T010000Z;BYMONTH=4;BYDAY=3MO
END:DAYLIGHT
BEGIN:STANDARD
TZNAME:CET
TZOFFSETFROM:+0200
TZOFFSETTO:+0100
DTSTART:19170917T030000
RRULE:FREQ=YEARLY;UNTIL=19180916T010000Z;BYMONTH=9;BYDAY=3MO
END:STANDARD
BEGIN:DAYLIGHT
TZNAME:CEST
TZOFFSETFROM:+0100
TZOFFSETTO:+0200
DTSTART:19440403T020000
RRULE:FREQ=YEARLY;UNTIL=19450402T010000Z;BYMONTH=4;BYDAY=1MO
END:DAYLIGHT
BEGIN:DAYLIGHT
TZNAME:CEMT
TZOFFSETFROM:+0200
TZOFFSETTO:+0300
DTSTART:19450524T020000
RDATE:19470511T030000
END:DAYLIGHT
BEGIN:DAYLIGHT
TZNAME:CEST
TZOFFSETFROM:+0300
TZOFFSETTO:+0200
DTSTART:19450924T030000
RDATE:19470629T030000
END:DAYLIGHT
BEGIN:STANDARD
TZNAME:CET
TZOFFSETFROM:+0100
TZOFFSETTO:+0100
DTSTART:19460101T000000
RDATE:19800101T000000
END:STANDARD
BEGIN:STANDARD
TZNAME:CET
TZOFFSETFROM:+0200
TZOFFSETTO:+0100
DTSTART:19471005T030000
RRULE:FREQ=YEARLY;UNTIL=19491002T010000Z;BYMONTH=10;BYDAY=1SU
END:STANDARD
BEGIN:STANDARD
TZNAME:CET
TZOFFSETFROM:+0200
TZOFFSETTO:+0100
DTSTART:19800928T030000
RRULE:FREQ=YEARLY;UNTIL=19950924T010000Z;BYMONTH=9;BYDAY=-1SU
END:STANDARD
BEGIN:DAYLIGHT
TZNAME:CEST
TZOFFSETFROM:+0100
TZOFFSETTO:+0200
DTSTART:19810329T020000
RRULE:FREQ=YEARLY;BYMONTH=3;BYDAY=-1SU
END:DAYLIGHT
BEGIN:STANDARD
TZNAME:CET
TZOFFSETFROM:+0200
TZOFFSETTO:+0100
DTSTART:19961027T030000
RRULE:FREQ=YEARLY;BYMONTH=10;BYDAY=-1SU
END:STANDARD
END:VTIMEZONE
BEGIN:VEVENT
DTSTAMP:20260421T095422Z
DTSTART;TZID=Europe/Berlin:20251122T100000
DTEND;TZID=Europe/Berlin:20251122T110000
SUMMARY:ROL wJE HC Fraureuth vs SV 04 Plauen-O. (480045)
UID:df599ec9-07d9-47ed-b622-de249d072c1e
STATUS:CONFIRMED
LAST-MODIFIED:20251124T121254Z
DESCRIPTION:Regionsoberliga weibl. E-Jugend\nBegegnungs-Nr: 480045\nHeim: HC Fraureuth\nGast: SV 04 Plauen-O.\nHalle: Mehrzweckhalle \"Erich Glowatzky\" Fraureuth (32509)\nAdresse: Zwickauer Str. 8a\, 08427 Fraureuth\n
LOCATION:Mehrzweckhalle \"Erich Glowatzky\" Fraureuth (32509): Zwickauer Str. 8a\, 08427 Fraureuth
CATEGORIES:Saison 2025/26
END:VEVENT
BEGIN:VEVENT
DTSTAMP:20260421T095422Z
DTSTART;TZID=Europe/Berlin:20251122T130000
DTEND;TZID=Europe/Berlin:20251122T140000
SUMMARY:ROL wJE HC Fraureuth vs HC Glauchau/Meerane (480048)
UID:7dec8476-46a8-4fd2-ae06-995b7bfeae6e
STATUS:CONFIRMED
LAST-MODIFIED:20251124T121703Z
DESCRIPTION:Regionsoberliga weibl. E-Jugend\nBegegnungs-Nr: 480048\nHeim: HC Fraureuth\nGast: HC Glauchau/Meerane\nHalle: Mehrzweckhalle \"Erich Glowatzky\" Fraureuth (32509)\nAdresse: Zwickauer Str. 8a\, 08427 Fraureuth\n
LOCATION:Mehrzweckhalle \"Erich Glowatzky\" Fraureuth (32509): Zwickauer Str. 8a\, 08427 Fraureuth
CATEGORIES:Saison 2025/26
END:VEVENT
BEGIN:VEVENT
DTSTAMP:20260421T095422Z
DTSTART;TZID=Europe/Berlin:20251213T130000
DTEND;TZID=Europe/Berlin:20251213T140000
SUMMARY:ROL wJE HC Fraureuth vs SG Zschorlau/Schneeberg (480070)
UID:c80b3f1a-ca5d-41d1-b443-ee6fe088b74f
STATUS:CONFIRMED
LAST-MODIFIED:20251213T162958Z
DESCRIPTION:Regionsoberliga weibl. E-Jugend\nBegegnungs-Nr: 480070\nHeim: HC Fraureuth\nGast: SG Zschorlau/Schneeberg\nHalle: Silberstrom-Halle Schneeberg (32307)\nAdresse: Keilbergring 20\, 08289 Schneeberg\n
LOCATION:Silberstrom-Halle Schneeberg (32307): Keilbergring 20\, 08289 Schneeberg
CATEGORIES:Saison 2025/26
END:VEVENT
BEGIN:VEVENT
DTSTAMP:20260421T095422Z
DTSTART;TZID=Europe/Berlin:20260117T120000
DTEND;TZID=Europe/Berlin:20260117T130000
SUMMARY:ROL wJE HC Fraureuth vs BSV Limbach-O. (480082)
UID:d384194a-a232-431e-b297-4d8a8e2a964a
STATUS:CONFIRMED
LAST-MODIFIED:20260120T124022Z
DESCRIPTION:Regionsoberliga weibl. E-Jugend\nBegegnungs-Nr: 480082\nHeim: HC Fraureuth\nGast: BSV Limbach-O.\nHalle: Silberstrom-Halle Schneeberg (32307)\nAdresse: Keilbergring 20\, 08289 Schneeberg\n
LOCATION:Silberstrom-Halle Schneeberg (32307): Keilbergring 20\, 08289 Schneeberg
CATEGORIES:Saison 2025/26
END:VEVENT
BEGIN:VEVENT
DTSTAMP:20260421T095422Z
DTSTART;TZID=Europe/Berlin:20260117T130000
DTEND;TZID=Europe/Berlin:20260117T140000
SUMMARY:ROL wJE HC Fraureuth vs HV Chemnitz (480083)
UID:ca69fe7a-3e23-45c3-8fd2-28009934cab4
STATUS:CONFIRMED
LAST-MODIFIED:20260120T124203Z
DESCRIPTION:Regionsoberliga weibl. E-Jugend\nBegegnungs-Nr: 480083\nHeim: HC Fraureuth\nGast: HV Chemnitz\nHalle: Silberstrom-Halle Schneeberg (32307)\nAdresse: Keilbergring 20\, 08289 Schneeberg\n
LOCATION:Silberstrom-Halle Schneeberg (32307): Keilbergring 20\, 08289 Schneeberg
CATEGORIES:Saison 2025/26
END:VEVENT
BEGIN:VEVENT
DTSTAMP:20260421T095422Z
DTSTART;TZID=Europe/Berlin:20260308T100000
DTEND;TZID=Europe/Berlin:20260308T110000
SUMMARY:ROL wJE HC Fraureuth vs Chemie Zwickau (480105)
UID:8dab05f2-0064-4054-ac95-ad2b32ac8535
STATUS:CONFIRMED
LAST-MODIFIED:20260310T111146Z
DESCRIPTION:Regionsoberliga weibl. E-Jugend\nBegegnungs-Nr: 480105\nHeim: HC Fraureuth\nGast: Chemie Zwickau\nHalle: Mehrzweckhalle \"Erich Glowatzky\" Fraureuth (32509)\nAdresse: Zwickauer Str. 8a\, 08427 Fraureuth\n
LOCATION:Mehrzweckhalle \"Erich Glowatzky\" Fraureuth (32509): Zwickauer Str. 8a\, 08427 Fraureuth
CATEGORIES:Saison 2025/26
END:VEVENT
BEGIN:VEVENT
DTSTAMP:20260421T095422Z
DTSTART;TZID=Europe/Berlin:20260308T130000
DTEND;TZID=Europe/Berlin:20260308T140000
SUMMARY:ROL wJE HC Fraureuth vs BSV Sa. Zwickau (480108)
UID:83b1da8c-4abc-45bb-9b8e-78d88b9d8d34
STATUS:CONFIRMED
LAST-MODIFIED:20260310T111551Z
DESCRIPTION:Regionsoberliga weibl. E-Jugend\nBegegnungs-Nr: 480108\nHeim: HC Fraureuth\nGast: BSV Sa. Zwickau\nHalle: Mehrzweckhalle \"Erich Glowatzky\" Fraureuth (32509)\nAdresse: Zwickauer Str. 8a\, 08427 Fraureuth\n
LOCATION:Mehrzweckhalle \"Erich Glowatzky\" Fraureuth (32509): Zwickauer Str. 8a\, 08427 Fraureuth
CATEGORIES:Saison 2025/26
END:VEVENT
BEGIN:VEVENT
DTSTAMP:20260421T095422Z
DTSTART;TZID=Europe/Berlin:20260426T100000
DTEND;TZID=Europe/Berlin:20260426T110000
SUMMARY:ROL wJE HC Fraureuth vs HSV Marienberg II (480129)
UID:affb279c-01df-435d-a095-fb7c6a803104
STATUS:CONFIRMED
LAST-MODIFIED:20260223T102631Z
DESCRIPTION:Regionsoberliga weibl. E-Jugend\nBegegnungs-Nr: 480129\nHeim: HC Fraureuth\nGast: HSV Marienberg II\nHalle: Mehrzweckhalle \"Erich Glowatzky\" Fraureuth (32509)\nAdresse: Zwickauer Str. 8a\, 08427 Fraureuth\n
LOCATION:Mehrzweckhalle \"Erich Glowatzky\" Fraureuth (32509): Zwickauer Str. 8a\, 08427 Fraureuth
CATEGORIES:Saison 2025/26
END:VEVENT
BEGIN:VEVENT
DTSTAMP:20260421T095422Z
DTSTART;TZID=Europe/Berlin:20260426T130000
DTEND;TZID=Europe/Berlin:20260426T140000
SUMMARY:ROL wJE HC Fraureuth vs HSV Marienberg (480132)
UID:77a764cc-ba14-4f88-bc34-c947a2fdb5f7
STATUS:CONFIRMED
LAST-MODIFIED:20260223T102811Z
DESCRIPTION:Regionsoberliga weibl. E-Jugend\nBegegnungs-Nr: 480132\nHeim: HC Fraureuth\nGast: HSV Marienberg\nHalle: Mehrzweckhalle \"Erich Glowatzky\" Fraureuth (32509)\nAdresse: Zwickauer Str. 8a\, 08427 Fraureuth\n
LOCATION:Mehrzweckhalle \"Erich Glowatzky\" Fraureuth (32509): Zwickauer Str. 8a\, 08427 Fraureuth
CATEGORIES:Saison 2025/26
END:VEVENT
BEGIN:VEVENT
DTSTAMP:20260421T095422Z
DTSTART;TZID=Europe/Berlin:20251025T130000
DTEND;TZID=Europe/Berlin:20251025T140000
SUMMARY:ROL wJE HC Fraureuth vs HSG Sachsenring (480022)
UID:85869168-c151-48b5-ac26-c203965760aa
STATUS:CONFIRMED
LAST-MODIFIED:20251110T132828Z
DESCRIPTION:Regionsoberliga weibl. E-Jugend\nBegegnungs-Nr: 480022\nHeim: HC Fraureuth\nGast: HSG Sachsenring\nHalle: Silberstrom-Halle Schneeberg (32307)\nAdresse: Keilbergring 20\, 08289 Schneeberg\n
LOCATION:Silberstrom-Halle Schneeberg (32307): Keilbergring 20\, 08289 Schneeberg
CATEGORIES:Saison 2025/26
END:VEVENT
BEGIN:VEVENT
DTSTAMP:20260421T095422Z
DTSTART;TZID=Europe/Berlin:20251025T140000
DTEND;TZID=Europe/Berlin:20251025T150000
SUMMARY:ROL wJE HC Fraureuth vs Rotation Weißenborn (480023)
UID:f4f8937d-0f36-41d4-949c-b976b73a8b63
STATUS:CONFIRMED
LAST-MODIFIED:20251110T132925Z
DESCRIPTION:Regionsoberliga weibl. E-Jugend\nBegegnungs-Nr: 480023\nHeim: HC Fraureuth\nGast: Rotation Weißenborn\nHalle: Silberstrom-Halle Schneeberg (32307)\nAdresse: Keilbergring 20\, 08289 Schneeberg\n
LOCATION:Silberstrom-Halle Schneeberg (32307): Keilbergring 20\, 08289 Schneeberg
CATEGORIES:Saison 2025/26
END:VEVENT
BEGIN:VEVENT
DTSTAMP:20260421T095422Z
DTSTART;TZID=Europe/Berlin:20251207T120000
DTEND;TZID=Europe/Berlin:20251207T130000
SUMMARY:ROL wJE HSV Marienberg II vs HC Fraureuth (480058)
UID:efba568d-5c52-4992-9bd6-11697e393e4a
STATUS:CONFIRMED
LAST-MODIFIED:20251210T110546Z
DESCRIPTION:Regionsoberliga weibl. E-Jugend\nBegegnungs-Nr: 480058\nHeim: HSV Marienberg II\nGast: HC Fraureuth\nHalle: SH am Goldkindstein Marienberg (32416)\nAdresse: Dr.-Wilhelm-Külz-Allee 23\, 09496 Marienberg\n
LOCATION:SH am Goldkindstein Marienberg (32416): Dr.-Wilhelm-Külz-Allee 23\, 09496 Marienberg
CATEGORIES:Saison 2025/26
END:VEVENT
BEGIN:VEVENT
DTSTAMP:20260421T095422Z
DTSTART;TZID=Europe/Berlin:20251207T140000
DTEND;TZID=Europe/Berlin:20251207T150000
SUMMARY:ROL wJE HSV Marienberg vs HC Fraureuth (480060)
UID:d51a5a45-2c4e-497e-ac20-08f2e151ccc9
STATUS:CONFIRMED
LAST-MODIFIED:20251210T110754Z
DESCRIPTION:Regionsoberliga weibl. E-Jugend\nBegegnungs-Nr: 480060\nHeim: HSV Marienberg\nGast: HC Fraureuth\nHalle: SH am Goldkindstein Marienberg (32416)\nAdresse: Dr.-Wilhelm-Külz-Allee 23\, 09496 Marienberg\n
LOCATION:SH am Goldkindstein Marienberg (32416): Dr.-Wilhelm-Külz-Allee 23\, 09496 Marienberg
CATEGORIES:Saison 2025/26
END:VEVENT
BEGIN:VEVENT
DTSTAMP:20260421T095422Z
DTSTART;TZID=Europe/Berlin:20251213T120000
DTEND;TZID=Europe/Berlin:20251213T130000
SUMMARY:ROL wJE SG Zschorlau/Schneeberg vs HC Fraureuth (480069)
UID:9caa1e17-036a-43b9-a60f-e52baecd3592
STATUS:CONFIRMED
LAST-MODIFIED:20251213T162759Z
DESCRIPTION:Regionsoberliga weibl. E-Jugend\nBegegnungs-Nr: 480069\nHeim: SG Zschorlau/Schneeberg\nGast: HC Fraureuth\nHalle: Silberstrom-Halle Schneeberg (32307)\nAdresse: Keilbergring 20\, 08289 Schneeberg\n
LOCATION:Silberstrom-Halle Schneeberg (32307): Keilbergring 20\, 08289 Schneeberg
CATEGORIES:Saison 2025/26
END:VEVENT
BEGIN:VEVENT
DTSTAMP:20260421T095422Z
DTSTART;TZID=Europe/Berlin:20260228T110000
DTEND;TZID=Europe/Berlin:20260228T120000
SUMMARY:ROL wJE Rotation Weißenborn vs HC Fraureuth (480094)
UID:1a4b595a-c678-4820-91ab-398cd908643f
STATUS:CONFIRMED
LAST-MODIFIED:20260302T134733Z
DESCRIPTION:Regionsoberliga weibl. E-Jugend\nBegegnungs-Nr: 480094\nHeim: Rotation Weißenborn\nGast: HC Fraureuth\nHalle: SH Oberlungwitz (32203)\nAdresse: Erlbacher Str. 19\, 09353 Oberlungwitz\n
LOCATION:SH Oberlungwitz (32203): Erlbacher Str. 19\, 09353 Oberlungwitz
CATEGORIES:Saison 2025/26
END:VEVENT
BEGIN:VEVENT
DTSTAMP:20260421T095422Z
DTSTART;TZID=Europe/Berlin:20260228T130000
DTEND;TZID=Europe/Berlin:20260228T140000
SUMMARY:ROL wJE HSG Sachsenring vs HC Fraureuth (480096)
UID:20451f92-db63-4170-8511-285a253b4a8b
STATUS:CONFIRMED
LAST-MODIFIED:20260302T134956Z
DESCRIPTION:Regionsoberliga weibl. E-Jugend\nBegegnungs-Nr: 480096\nHeim: HSG Sachsenring\nGast: HC Fraureuth\nHalle: SH Oberlungwitz (32203)\nAdresse: Erlbacher Str. 19\, 09353 Oberlungwitz\n
LOCATION:SH Oberlungwitz (32203): Erlbacher Str. 19\, 09353 Oberlungwitz
CATEGORIES:Saison 2025/26
END:VEVENT
BEGIN:VEVENT
DTSTAMP:20260421T095422Z
DTSTART;TZID=Europe/Berlin:20260328T140000
DTEND;TZID=Europe/Berlin:20260328T150000
SUMMARY:ROL wJE HC Glauchau/Meerane vs HC Fraureuth (480118)
UID:387f12da-21a5-4a3a-8d27-279f24c0f33c
STATUS:CONFIRMED
LAST-MODIFIED:20260409T092114Z
DESCRIPTION:Regionsoberliga weibl. E-Jugend\nBegegnungs-Nr: 480118\nHeim: HC Glauchau/Meerane\nGast: HC Fraureuth\nHalle: SH Kurt-Helbig Plauen (32701)\nAdresse: Comeniusstr. 15\, 08523 Plauen\n
LOCATION:SH Kurt-Helbig Plauen (32701): Comeniusstr. 15\, 08523 Plauen
CATEGORIES:Saison 2025/26
END:VEVENT
BEGIN:VEVENT
DTSTAMP:20260421T095422Z
DTSTART;TZID=Europe/Berlin:20260328T160000
DTEND;TZID=Europe/Berlin:20260328T170000
SUMMARY:ROL wJE SV 04 Plauen-O. vs HC Fraureuth (480120)
UID:0f8f125b-19b1-4e5c-a1f6-d17a8cbb02d5
STATUS:CONFIRMED
LAST-MODIFIED:20260409T092321Z
DESCRIPTION:Regionsoberliga weibl. E-Jugend\nBegegnungs-Nr: 480120\nHeim: SV 04 Plauen-O.\nGast: HC Fraureuth\nHalle: SH Kurt-Helbig Plauen (32701)\nAdresse: Comeniusstr. 15\, 08523 Plauen\n
LOCATION:SH Kurt-Helbig Plauen (32701): Comeniusstr. 15\, 08523 Plauen
CATEGORIES:Saison 2025/26
END:VEVENT
BEGIN:VEVENT
DTSTAMP:20260421T095422Z
DTSTART;TZID=Europe/Berlin:20250914T124500
DTEND;TZID=Europe/Berlin:20250914T134500
SUMMARY:ROL wJE BSV Limbach-O. vs HC Fraureuth (480006)
UID:b773de9d-e77b-4db2-a92e-2af1be9685e8
STATUS:CONFIRMED
LAST-MODIFIED:20250916T070634Z
DESCRIPTION:Regionsoberliga weibl. E-Jugend\nBegegnungs-Nr: 480006\nHeim: BSV Limbach-O.\nGast: HC Fraureuth\nHalle: Sachsenhalle Chemnitz (32101)\nAdresse: Straße Usti nad Labem 275\, 09119 Chemnitz\n
LOCATION:Sachsenhalle Chemnitz (32101): Straße Usti nad Labem 275\, 09119 Chemnitz
CATEGORIES:Saison 2025/26
END:VEVENT
BEGIN:VEVENT
DTSTAMP:20260421T095422Z
DTSTART;TZID=Europe/Berlin:20250914T144500
DTEND;TZID=Europe/Berlin:20250914T154500
SUMMARY:ROL wJE HV Chemnitz vs HC Fraureuth (480008)
UID:22089c87-c5ae-4139-b339-b165283c5269
STATUS:CONFIRMED
LAST-MODIFIED:20250916T070838Z
DESCRIPTION:Regionsoberliga weibl. E-Jugend\nBegegnungs-Nr: 480008\nHeim: HV Chemnitz\nGast: HC Fraureuth\nHalle: Sachsenhalle Chemnitz (32101)\nAdresse: Straße Usti nad Labem 275\, 09119 Chemnitz\n
LOCATION:Sachsenhalle Chemnitz (32101): Straße Usti nad Labem 275\, 09119 Chemnitz
CATEGORIES:Saison 2025/26
END:VEVENT
BEGIN:VEVENT
DTSTAMP:20260421T095422Z
DTSTART;TZID=Europe/Berlin:20260412T130000
DTEND;TZID=Europe/Berlin:20260412T140000
SUMMARY:ROL wJE Chemie Zwickau vs HC Fraureuth (480025)
UID:c5e74da1-3980-457b-b5b9-8c48767ac903
STATUS:CONFIRMED
LAST-MODIFIED:20260413T100254Z
DESCRIPTION:Regionsoberliga weibl. E-Jugend\nBegegnungs-Nr: 480025\nHeim: Chemie Zwickau\nGast: HC Fraureuth\nHalle: SH Zwickau-Neuplanitz (32501)\nAdresse: Dortmunder Str. 7a\, 08062 Zwickau\n
LOCATION:SH Zwickau-Neuplanitz (32501): Dortmunder Str. 7a\, 08062 Zwickau
CATEGORIES:Saison 2025/26
END:VEVENT
BEGIN:VEVENT
DTSTAMP:20260421T095422Z
DTSTART;TZID=Europe/Berlin:20260412T143000
DTEND;TZID=Europe/Berlin:20260412T153000
SUMMARY:ROL wJE BSV Sa. Zwickau vs HC Fraureuth (480027)
UID:da4f924f-6283-4de4-bf6a-1edc111fd3d1
STATUS:CONFIRMED
LAST-MODIFIED:20260413T100548Z
DESCRIPTION:Regionsoberliga weibl. E-Jugend\nBegegnungs-Nr: 480027\nHeim: BSV Sa. Zwickau\nGast: HC Fraureuth\nHalle: SH Zwickau-Neuplanitz (32501)\nAdresse: Dortmunder Str. 7a\, 08062 Zwickau\n
LOCATION:SH Zwickau-Neuplanitz (32501): Dortmunder Str. 7a\, 08062 Zwickau
CATEGORIES:Saison 2025/26
END:VEVENT
END:VCALENDAR
