BEGIN:VCALENDAR
PRODID:-//nuDatenautomaten//framework iCal4j //DE
VERSION:2.0
CALSCALE:GREGORIAN
BEGIN:VTIMEZONE
TZID:Europe/Berlin
LAST-MODIFIED:20260306T231828Z
TZURL:https://www.tzurl.org/zoneinfo/Europe/Berlin
X-LIC-LOCATION:Europe/Berlin
X-PROLEPTIC-TZNAME:LMT
BEGIN:STANDARD
TZNAME:CET
TZOFFSETFROM:+005328
TZOFFSETTO:+0100
DTSTART:18930401T000000
END:STANDARD
BEGIN:DAYLIGHT
TZNAME:CEST
TZOFFSETFROM:+0100
TZOFFSETTO:+0200
DTSTART:19160430T230000
RDATE:19400401T020000
RDATE:19430329T020000
RDATE:19460414T020000
RDATE:19470406T030000
RDATE:19480418T020000
RDATE:19490410T020000
RDATE:19800406T020000
END:DAYLIGHT
BEGIN:STANDARD
TZNAME:CET
TZOFFSETFROM:+0200
TZOFFSETTO:+0100
DTSTART:19161001T010000
RDATE:19421102T030000
RDATE:19431004T030000
RDATE:19441002T030000
RDATE:19451118T030000
RDATE:19461007T030000
END:STANDARD
BEGIN:DAYLIGHT
TZNAME:CEST
TZOFFSETFROM:+0100
TZOFFSETTO:+0200
DTSTART:19170416T020000
RRULE:FREQ=YEARLY;UNTIL=19180415T010000Z;BYMONTH=4;BYDAY=3MO
END:DAYLIGHT
BEGIN:STANDARD
TZNAME:CET
TZOFFSETFROM:+0200
TZOFFSETTO:+0100
DTSTART:19170917T030000
RRULE:FREQ=YEARLY;UNTIL=19180916T010000Z;BYMONTH=9;BYDAY=3MO
END:STANDARD
BEGIN:DAYLIGHT
TZNAME:CEST
TZOFFSETFROM:+0100
TZOFFSETTO:+0200
DTSTART:19440403T020000
RRULE:FREQ=YEARLY;UNTIL=19450402T010000Z;BYMONTH=4;BYDAY=1MO
END:DAYLIGHT
BEGIN:DAYLIGHT
TZNAME:CEMT
TZOFFSETFROM:+0200
TZOFFSETTO:+0300
DTSTART:19450524T020000
RDATE:19470511T030000
END:DAYLIGHT
BEGIN:DAYLIGHT
TZNAME:CEST
TZOFFSETFROM:+0300
TZOFFSETTO:+0200
DTSTART:19450924T030000
RDATE:19470629T030000
END:DAYLIGHT
BEGIN:STANDARD
TZNAME:CET
TZOFFSETFROM:+0100
TZOFFSETTO:+0100
DTSTART:19460101T000000
RDATE:19800101T000000
END:STANDARD
BEGIN:STANDARD
TZNAME:CET
TZOFFSETFROM:+0200
TZOFFSETTO:+0100
DTSTART:19471005T030000
RRULE:FREQ=YEARLY;UNTIL=19491002T010000Z;BYMONTH=10;BYDAY=1SU
END:STANDARD
BEGIN:STANDARD
TZNAME:CET
TZOFFSETFROM:+0200
TZOFFSETTO:+0100
DTSTART:19800928T030000
RRULE:FREQ=YEARLY;UNTIL=19950924T010000Z;BYMONTH=9;BYDAY=-1SU
END:STANDARD
BEGIN:DAYLIGHT
TZNAME:CEST
TZOFFSETFROM:+0100
TZOFFSETTO:+0200
DTSTART:19810329T020000
RRULE:FREQ=YEARLY;BYMONTH=3;BYDAY=-1SU
END:DAYLIGHT
BEGIN:STANDARD
TZNAME:CET
TZOFFSETFROM:+0200
TZOFFSETTO:+0100
DTSTART:19961027T030000
RRULE:FREQ=YEARLY;BYMONTH=10;BYDAY=-1SU
END:STANDARD
END:VTIMEZONE
BEGIN:VEVENT
DTSTAMP:20260423T203424Z
DTSTART;TZID=Europe/Berlin:20251101T100000
DTEND;TZID=Europe/Berlin:20251101T110000
SUMMARY:Regionsoberliga mJE - 2 HV Böhlen vs NHV Concordia Delitzsch (19209)
UID:6a882c6d-f1fd-4ef9-9b85-6f04fa03123e
STATUS:CONFIRMED
LAST-MODIFIED:20251104T103541Z
DESCRIPTION:Regionsoberliga männliche E-Jugend (2)\nBegegnungs-Nr: 19209\nHeim: HV Böhlen\nGast: NHV Concordia Delitzsch\nHalle: SH Oberschule Böhlen (31411)\nAdresse: Lessingstraße 1\, 04564 Böhlen\n
LOCATION:SH Oberschule Böhlen (31411): Lessingstraße 1\, 04564 Böhlen
CATEGORIES:Saison 2025/26
END:VEVENT
BEGIN:VEVENT
DTSTAMP:20260423T203424Z
DTSTART;TZID=Europe/Berlin:20251115T140000
DTEND;TZID=Europe/Berlin:20251115T150000
SUMMARY:Regionsoberliga mJE - 2 HV Böhlen vs TSV Markkleeberg (19213)
UID:914971a0-b646-45cf-9a9c-d85cdc7532be
STATUS:CONFIRMED
LAST-MODIFIED:20251115T212329Z
DESCRIPTION:Regionsoberliga männliche E-Jugend (2)\nBegegnungs-Nr: 19213\nHeim: HV Böhlen\nGast: TSV Markkleeberg\nHalle: SH Oberschule Böhlen (31411)\nAdresse: Lessingstraße 1\, 04564 Böhlen\n
LOCATION:SH Oberschule Böhlen (31411): Lessingstraße 1\, 04564 Böhlen
CATEGORIES:Saison 2025/26
END:VEVENT
BEGIN:VEVENT
DTSTAMP:20260423T203424Z
DTSTART;TZID=Europe/Berlin:20260307T100000
DTEND;TZID=Europe/Berlin:20260307T110000
SUMMARY:ROL - mJE 9-16 HV Böhlen vs TSG 1861 Taucha (19622)
UID:12475158-e5ed-4f01-88ca-3a4c91e9efaa
STATUS:CONFIRMED
LAST-MODIFIED:20260310T192042Z
DESCRIPTION:Regionsoberliga männliche E-Jugend (9-16)\nBegegnungs-Nr: 19622\nHeim: HV Böhlen\nGast: TSG 1861 Taucha\nHalle: SH Oberschule Böhlen (31411)\nAdresse: Lessingstraße 1\, 04564 Böhlen\n
LOCATION:SH Oberschule Böhlen (31411): Lessingstraße 1\, 04564 Böhlen
CATEGORIES:Saison 2025/26
END:VEVENT
BEGIN:VEVENT
DTSTAMP:20260423T203424Z
DTSTART;TZID=Europe/Berlin:20260131T100000
DTEND;TZID=Europe/Berlin:20260131T110000
SUMMARY:ROL - mJE 9-16 HV Böhlen vs Leipziger SV Südwest (19614)
UID:2fbbefe7-14ca-4ea7-9b21-946df496895d
STATUS:CONFIRMED
LAST-MODIFIED:20260201T191617Z
DESCRIPTION:Regionsoberliga männliche E-Jugend (9-16)\nBegegnungs-Nr: 19614\nHeim: HV Böhlen\nGast: Leipziger SV Südwest\nHalle: SH Oberschule Böhlen (31411)\nAdresse: Lessingstraße 1\, 04564 Böhlen\n
LOCATION:SH Oberschule Böhlen (31411): Lessingstraße 1\, 04564 Böhlen
CATEGORIES:Saison 2025/26
END:VEVENT
BEGIN:VEVENT
DTSTAMP:20260423T203424Z
DTSTART;TZID=Europe/Berlin:20260124T110000
DTEND;TZID=Europe/Berlin:20260124T120000
SUMMARY:ROL - mJE 9-16 HV Böhlen vs TuS Leipzig-Mockau (19612)
UID:ffc9610b-eb2d-44a0-bf17-915470b97c75
STATUS:CONFIRMED
LAST-MODIFIED:20260125T184630Z
DESCRIPTION:Regionsoberliga männliche E-Jugend (9-16)\nBegegnungs-Nr: 19612\nHeim: HV Böhlen\nGast: TuS Leipzig-Mockau\nHalle: SH Oberschule Böhlen (31411)\nAdresse: Lessingstraße 1\, 04564 Böhlen\n
LOCATION:SH Oberschule Böhlen (31411): Lessingstraße 1\, 04564 Böhlen
CATEGORIES:Saison 2025/26
END:VEVENT
BEGIN:VEVENT
DTSTAMP:20260423T203424Z
DTSTART;TZID=Europe/Berlin:20260117T113000
DTEND;TZID=Europe/Berlin:20260117T123000
SUMMARY:ROL - mJE 9-16 HV Böhlen vs HSG Neudorf/Döbeln (19606)
UID:7c31611c-d416-4b21-81cb-55edee0c4552
STATUS:CONFIRMED
LAST-MODIFIED:20260203T060217Z
DESCRIPTION:Regionsoberliga männliche E-Jugend (9-16)\nBegegnungs-Nr: 19606\nHeim: HV Böhlen\nGast: HSG Neudorf/Döbeln\nHalle: SH Oberschule Böhlen (31411)\nAdresse: Lessingstraße 1\, 04564 Böhlen\n
LOCATION:SH Oberschule Böhlen (31411): Lessingstraße 1\, 04564 Böhlen
CATEGORIES:Saison 2025/26
END:VEVENT
BEGIN:VEVENT
DTSTAMP:20260423T203424Z
DTSTART;TZID=Europe/Berlin:20260425T124500
DTEND;TZID=Europe/Berlin:20260425T134500
SUMMARY:RP_4 HV Böhlen vs VfB Torgau (7)
UID:17ad0a84-ae89-4f3e-ada3-15c05817dba7
STATUS:CONFIRMED
DESCRIPTION:Regionspokal mJE der Staffelvierten\nBegegnungs-Nr: 7\nHeim: HV Böhlen\nGast: VfB Torgau\nHalle: SH Oberschule Böhlen (31411)\nAdresse: Lessingstraße 1\, 04564 Böhlen\n
LOCATION:SH Oberschule Böhlen (31411): Lessingstraße 1\, 04564 Böhlen
CATEGORIES:Saison 2025/26
END:VEVENT
BEGIN:VEVENT
DTSTAMP:20260423T203424Z
DTSTART;TZID=Europe/Berlin:20260425T114500
DTEND;TZID=Europe/Berlin:20260425T124500
SUMMARY:RP_4 HV Böhlen vs HSG Neudorf/Döbeln (6)
UID:8bd6bda9-b3ed-4a39-b0d7-ea5f5dbe4fee
STATUS:CONFIRMED
DESCRIPTION:Regionspokal mJE der Staffelvierten\nBegegnungs-Nr: 6\nHeim: HV Böhlen\nGast: HSG Neudorf/Döbeln\nHalle: SH Oberschule Böhlen (31411)\nAdresse: Lessingstraße 1\, 04564 Böhlen\n
LOCATION:SH Oberschule Böhlen (31411): Lessingstraße 1\, 04564 Böhlen
CATEGORIES:Saison 2025/26
END:VEVENT
BEGIN:VEVENT
DTSTAMP:20260423T203424Z
DTSTART;TZID=Europe/Berlin:20260419T143000
DTEND;TZID=Europe/Berlin:20260419T153000
SUMMARY:RP_4 HV Böhlen vs TSG 1861 Taucha (4)
UID:ac53c41b-0d76-4dda-aaa2-a385b016261a
STATUS:CONFIRMED
DESCRIPTION:Regionspokal mJE der Staffelvierten\nBegegnungs-Nr: 4\nHeim: HV Böhlen\nGast: TSG 1861 Taucha\nHalle: Stadt-SH Döbeln (31202)\nAdresse: Str. des Friedens 9\, 04720 Döbeln\n
LOCATION:Stadt-SH Döbeln (31202): Str. des Friedens 9\, 04720 Döbeln
CATEGORIES:Saison 2025/26
END:VEVENT
BEGIN:VEVENT
DTSTAMP:20260423T203424Z
DTSTART;TZID=Europe/Berlin:20250907T093000
DTEND;TZID=Europe/Berlin:20250907T103000
SUMMARY:Regionsoberliga mJE - 2 SG LVB vs HV Böhlen (19201)
UID:05785352-bd5d-46ab-9896-de84b0ea3421
STATUS:CONFIRMED
LAST-MODIFIED:20250908T164317Z
DESCRIPTION:Regionsoberliga männliche E-Jugend (2)\nBegegnungs-Nr: 19201\nHeim: SG LVB\nGast: HV Böhlen\nHalle: SH Gymnasium an der Telemannstraße  (31109)\nAdresse: Telemannstraße 9\, 04107 Leipzig\n
LOCATION:SH Gymnasium an der Telemannstraße  (31109): Telemannstraße 9\, 04107 Leipzig
CATEGORIES:Saison 2025/26
END:VEVENT
BEGIN:VEVENT
DTSTAMP:20260423T203424Z
DTSTART;TZID=Europe/Berlin:20251108T100000
DTEND;TZID=Europe/Berlin:20251108T110000
SUMMARY:Regionsoberliga mJE - 2 NSG Neuseenland II vs HV Böhlen (19212)
UID:f296d559-1122-4a91-ae64-2ffa89420858
STATUS:CONFIRMED
LAST-MODIFIED:20251109T094741Z
DESCRIPTION:Regionsoberliga männliche E-Jugend (2)\nBegegnungs-Nr: 19212\nHeim: NSG Neuseenland II\nGast: HV Böhlen\nHalle: SH Borna-Ost (31401)\nAdresse: Oststr. 2 \, 04552 Borna\n
LOCATION:SH Borna-Ost (31401): Oststr. 2 \, 04552 Borna
CATEGORIES:Saison 2025/26
END:VEVENT
BEGIN:VEVENT
DTSTAMP:20260423T203424Z
DTSTART;TZID=Europe/Berlin:20250920T100000
DTEND;TZID=Europe/Berlin:20250920T110000
SUMMARY:Regionsoberliga mJE - 2 Turbine Leipzig vs HV Böhlen (19204)
UID:96024595-7d33-4359-abd2-214066bc0c9f
STATUS:CONFIRMED
LAST-MODIFIED:20250920T163828Z
DESCRIPTION:Regionsoberliga männliche E-Jugend (2)\nBegegnungs-Nr: 19204\nHeim: Turbine Leipzig\nGast: HV Böhlen\nHalle: SH Ostwald Gymnasium Leipzig-Lößnig (31105)\nAdresse: Willi-Bredel-Str. 13\, 04279 Leipzig\n
LOCATION:SH Ostwald Gymnasium Leipzig-Lößnig (31105): Willi-Bredel-Str. 13\, 04279 Leipzig
CATEGORIES:Saison 2025/26
END:VEVENT
BEGIN:VEVENT
DTSTAMP:20260423T203424Z
DTSTART;TZID=Europe/Berlin:20260322T090000
DTEND;TZID=Europe/Berlin:20260322T100000
SUMMARY:ROL - mJE 9-16 NHV Concordia Delitzsch vs HV Böhlen (19627)
UID:0ba26375-8eb3-4409-a9be-99b2490503ab
STATUS:CONFIRMED
LAST-MODIFIED:20260322T204157Z
DESCRIPTION:Regionsoberliga männliche E-Jugend (9-16)\nBegegnungs-Nr: 19627\nHeim: NHV Concordia Delitzsch\nGast: HV Böhlen\nHalle: Mehrzweckhalle Delitzsch  (31304)\nAdresse: Karl-Marx-Str. 1\, 04509 Delitzsch\n
LOCATION:Mehrzweckhalle Delitzsch  (31304): Karl-Marx-Str. 1\, 04509 Delitzsch
CATEGORIES:Saison 2025/26
END:VEVENT
BEGIN:VEVENT
DTSTAMP:20260423T203424Z
DTSTART;TZID=Europe/Berlin:20260228T141500
DTEND;TZID=Europe/Berlin:20260228T151500
SUMMARY:ROL - mJE 9-16 TSG Schkeuditz vs HV Böhlen (19619)
UID:93f51593-04a9-4b62-add5-2af4c429b6be
STATUS:CONFIRMED
LAST-MODIFIED:20260306T175034Z
DESCRIPTION:Regionsoberliga männliche E-Jugend (9-16)\nBegegnungs-Nr: 19619\nHeim: TSG Schkeuditz\nGast: HV Böhlen\nHalle: SH Schkeuditz (31403)\nAdresse: Goethestr. 8a\, 04435 Schkeuditz\n
LOCATION:SH Schkeuditz (31403): Goethestr. 8a\, 04435 Schkeuditz
CATEGORIES:Saison 2025/26
END:VEVENT
BEGIN:VEVENT
DTSTAMP:20260423T203424Z
DTSTART;TZID=Europe/Berlin:20260203T170000
DTEND;TZID=Europe/Berlin:20260203T180000
SUMMARY:ROL - mJE 9-16 VfB Torgau vs HV Böhlen (19602)
UID:938f2f77-389e-48c1-887d-c1b5bd5af7a3
STATUS:CONFIRMED
LAST-MODIFIED:20260225T190624Z
DESCRIPTION:Regionsoberliga männliche E-Jugend (9-16)\nBegegnungs-Nr: 19602\nHeim: VfB Torgau\nGast: HV Böhlen\nHalle: SH J.-Walter Gymnasium Torgau (31601)\nAdresse: Schloßstr. 7-9\, 04860 Torgau\n
LOCATION:SH J.-Walter Gymnasium Torgau (31601): Schloßstr. 7-9\, 04860 Torgau
CATEGORIES:Saison 2025/26
END:VEVENT
BEGIN:VEVENT
DTSTAMP:20260423T203424Z
DTSTART;TZID=Europe/Berlin:20260419T120000
DTEND;TZID=Europe/Berlin:20260419T130000
SUMMARY:RP_4 VfB Torgau vs HV Böhlen (1)
UID:06176054-13a0-4470-93ef-44b7fcbf5a4a
STATUS:CONFIRMED
DESCRIPTION:Regionspokal mJE der Staffelvierten\nBegegnungs-Nr: 1\nHeim: VfB Torgau\nGast: HV Böhlen\nHalle: Stadt-SH Döbeln (31202)\nAdresse: Str. des Friedens 9\, 04720 Döbeln\n
LOCATION:Stadt-SH Döbeln (31202): Str. des Friedens 9\, 04720 Döbeln
CATEGORIES:Saison 2025/26
END:VEVENT
BEGIN:VEVENT
DTSTAMP:20260423T203424Z
DTSTART;TZID=Europe/Berlin:20260503T120000
DTEND;TZID=Europe/Berlin:20260503T130000
SUMMARY:RP_4 HSG Neudorf/Döbeln vs HV Böhlen (12)
UID:98509c0e-7873-4756-a6f0-545f0258406c
STATUS:CONFIRMED
DESCRIPTION:Regionspokal mJE der Staffelvierten\nBegegnungs-Nr: 12\nHeim: HSG Neudorf/Döbeln\nGast: HV Böhlen\nHalle: SH Am Wasserturm Torgau (31602)\nAdresse: Dahlener Str. 11 a\, 04860 Torgau\n
LOCATION:SH Am Wasserturm Torgau (31602): Dahlener Str. 11 a\, 04860 Torgau
CATEGORIES:Saison 2025/26
END:VEVENT
BEGIN:VEVENT
DTSTAMP:20260423T203424Z
DTSTART;TZID=Europe/Berlin:20260503T101500
DTEND;TZID=Europe/Berlin:20260503T111500
SUMMARY:RP_4 TSG 1861 Taucha vs HV Böhlen (10)
UID:062f2256-8d33-47c2-8bcf-40315d9d1bef
STATUS:CONFIRMED
DESCRIPTION:Regionspokal mJE der Staffelvierten\nBegegnungs-Nr: 10\nHeim: TSG 1861 Taucha\nGast: HV Böhlen\nHalle: SH Am Wasserturm Torgau (31602)\nAdresse: Dahlener Str. 11 a\, 04860 Torgau\n
LOCATION:SH Am Wasserturm Torgau (31602): Dahlener Str. 11 a\, 04860 Torgau
CATEGORIES:Saison 2025/26
END:VEVENT
END:VCALENDAR
