BEGIN:VCALENDAR
PRODID:-//nuDatenautomaten//framework iCal4j //DE
VERSION:2.0
CALSCALE:GREGORIAN
BEGIN:VTIMEZONE
TZID:Europe/Berlin
LAST-MODIFIED:20260306T231828Z
TZURL:https://www.tzurl.org/zoneinfo/Europe/Berlin
X-LIC-LOCATION:Europe/Berlin
X-PROLEPTIC-TZNAME:LMT
BEGIN:STANDARD
TZNAME:CET
TZOFFSETFROM:+005328
TZOFFSETTO:+0100
DTSTART:18930401T000000
END:STANDARD
BEGIN:DAYLIGHT
TZNAME:CEST
TZOFFSETFROM:+0100
TZOFFSETTO:+0200
DTSTART:19160430T230000
RDATE:19400401T020000
RDATE:19430329T020000
RDATE:19460414T020000
RDATE:19470406T030000
RDATE:19480418T020000
RDATE:19490410T020000
RDATE:19800406T020000
END:DAYLIGHT
BEGIN:STANDARD
TZNAME:CET
TZOFFSETFROM:+0200
TZOFFSETTO:+0100
DTSTART:19161001T010000
RDATE:19421102T030000
RDATE:19431004T030000
RDATE:19441002T030000
RDATE:19451118T030000
RDATE:19461007T030000
END:STANDARD
BEGIN:DAYLIGHT
TZNAME:CEST
TZOFFSETFROM:+0100
TZOFFSETTO:+0200
DTSTART:19170416T020000
RRULE:FREQ=YEARLY;UNTIL=19180415T010000Z;BYMONTH=4;BYDAY=3MO
END:DAYLIGHT
BEGIN:STANDARD
TZNAME:CET
TZOFFSETFROM:+0200
TZOFFSETTO:+0100
DTSTART:19170917T030000
RRULE:FREQ=YEARLY;UNTIL=19180916T010000Z;BYMONTH=9;BYDAY=3MO
END:STANDARD
BEGIN:DAYLIGHT
TZNAME:CEST
TZOFFSETFROM:+0100
TZOFFSETTO:+0200
DTSTART:19440403T020000
RRULE:FREQ=YEARLY;UNTIL=19450402T010000Z;BYMONTH=4;BYDAY=1MO
END:DAYLIGHT
BEGIN:DAYLIGHT
TZNAME:CEMT
TZOFFSETFROM:+0200
TZOFFSETTO:+0300
DTSTART:19450524T020000
RDATE:19470511T030000
END:DAYLIGHT
BEGIN:DAYLIGHT
TZNAME:CEST
TZOFFSETFROM:+0300
TZOFFSETTO:+0200
DTSTART:19450924T030000
RDATE:19470629T030000
END:DAYLIGHT
BEGIN:STANDARD
TZNAME:CET
TZOFFSETFROM:+0100
TZOFFSETTO:+0100
DTSTART:19460101T000000
RDATE:19800101T000000
END:STANDARD
BEGIN:STANDARD
TZNAME:CET
TZOFFSETFROM:+0200
TZOFFSETTO:+0100
DTSTART:19471005T030000
RRULE:FREQ=YEARLY;UNTIL=19491002T010000Z;BYMONTH=10;BYDAY=1SU
END:STANDARD
BEGIN:STANDARD
TZNAME:CET
TZOFFSETFROM:+0200
TZOFFSETTO:+0100
DTSTART:19800928T030000
RRULE:FREQ=YEARLY;UNTIL=19950924T010000Z;BYMONTH=9;BYDAY=-1SU
END:STANDARD
BEGIN:DAYLIGHT
TZNAME:CEST
TZOFFSETFROM:+0100
TZOFFSETTO:+0200
DTSTART:19810329T020000
RRULE:FREQ=YEARLY;BYMONTH=3;BYDAY=-1SU
END:DAYLIGHT
BEGIN:STANDARD
TZNAME:CET
TZOFFSETFROM:+0200
TZOFFSETTO:+0100
DTSTART:19961027T030000
RRULE:FREQ=YEARLY;BYMONTH=10;BYDAY=-1SU
END:STANDARD
END:VTIMEZONE
BEGIN:VEVENT
DTSTAMP:20260424T082512Z
DTSTART;TZID=Europe/Berlin:20251213T000000
DTEND;TZID=Europe/Berlin:20251213T013000
SUMMARY:Regionspokal HV Grüna vs spielfrei (50013)
UID:2daa451a-e6c3-4d6a-b467-a880ae01abf1
STATUS:CONFIRMED
DESCRIPTION:Regionspokal\nBegegnungs-Nr: 50013\nHeim: HV Grüna\nGast: spielfrei\n
LOCATION:
CATEGORIES:Saison Pokal 2025/26
END:VEVENT
BEGIN:VEVENT
DTSTAMP:20260424T082512Z
DTSTART;TZID=Europe/Berlin:20260221T150000
DTEND;TZID=Europe/Berlin:20260221T163000
SUMMARY:Regionspokal HV Grüna vs TSV Oelsnitz (50014)
UID:b6977087-b7da-445a-bfe7-ea36d36b42b2
STATUS:CONFIRMED
LAST-MODIFIED:20260222T060326Z
DESCRIPTION:Regionspokal\nBegegnungs-Nr: 50014\nHeim: HV Grüna\nGast: TSV Oelsnitz\nHalle: SH Dr.-Wilhelm-André-Gymnasium Chemnitz (32114)\nAdresse: Henriettenstraße 35\, 09112 Chemnitz\n
LOCATION:SH Dr.-Wilhelm-André-Gymnasium Chemnitz (32114): Henriettenstraße 35\, 09112 Chemnitz
CATEGORIES:Saison Pokal 2025/26
END:VEVENT
BEGIN:VEVENT
DTSTAMP:20260424T082512Z
DTSTART;TZID=Europe/Berlin:20260314T151500
DTEND;TZID=Europe/Berlin:20260314T164500
SUMMARY:Regionspokal HV Grüna vs BSG Wismut Aue (50017)
UID:a250c35c-898a-4d12-9016-2c648d34d0b2
STATUS:CONFIRMED
LAST-MODIFIED:20260321T054259Z
DESCRIPTION:Regionspokal\nBegegnungs-Nr: 50017\nHeim: HV Grüna\nGast: BSG Wismut Aue\nHalle: SH Jakobstraße (32116)\nAdresse: Jakobstraße 20\, 09130 Chemnitz\n
LOCATION:SH Jakobstraße (32116): Jakobstraße 20\, 09130 Chemnitz
CATEGORIES:Saison Pokal 2025/26
END:VEVENT
BEGIN:VEVENT
DTSTAMP:20260424T082512Z
DTSTART;TZID=Europe/Berlin:20251019T160000
DTEND;TZID=Europe/Berlin:20251019T173000
SUMMARY:Regionspokal Grün-Weiß Niederwiesa vs HV Grüna (50007)
UID:6d2ac354-1a78-4ec2-83f1-4d448a230b05
STATUS:CONFIRMED
LAST-MODIFIED:20251106T190053Z
DESCRIPTION:Regionspokal\nBegegnungs-Nr: 50007\nHeim: Grün-Weiß Niederwiesa\nGast: HV Grüna\nHalle: Sporthalle Niederwiesa (32419)\nAdresse: Mühlenstr. 21\, 09577 Niederwiesa\n
LOCATION:Sporthalle Niederwiesa (32419): Mühlenstr. 21\, 09577 Niederwiesa
CATEGORIES:Saison Pokal 2025/26
END:VEVENT
END:VCALENDAR
