BEGIN:VCALENDAR
PRODID:-//nuDatenautomaten//framework iCal4j //DE
VERSION:2.0
CALSCALE:GREGORIAN
BEGIN:VTIMEZONE
TZID:Europe/Berlin
LAST-MODIFIED:20260306T231828Z
TZURL:https://www.tzurl.org/zoneinfo/Europe/Berlin
X-LIC-LOCATION:Europe/Berlin
X-PROLEPTIC-TZNAME:LMT
BEGIN:STANDARD
TZNAME:CET
TZOFFSETFROM:+005328
TZOFFSETTO:+0100
DTSTART:18930401T000000
END:STANDARD
BEGIN:DAYLIGHT
TZNAME:CEST
TZOFFSETFROM:+0100
TZOFFSETTO:+0200
DTSTART:19160430T230000
RDATE:19400401T020000
RDATE:19430329T020000
RDATE:19460414T020000
RDATE:19470406T030000
RDATE:19480418T020000
RDATE:19490410T020000
RDATE:19800406T020000
END:DAYLIGHT
BEGIN:STANDARD
TZNAME:CET
TZOFFSETFROM:+0200
TZOFFSETTO:+0100
DTSTART:19161001T010000
RDATE:19421102T030000
RDATE:19431004T030000
RDATE:19441002T030000
RDATE:19451118T030000
RDATE:19461007T030000
END:STANDARD
BEGIN:DAYLIGHT
TZNAME:CEST
TZOFFSETFROM:+0100
TZOFFSETTO:+0200
DTSTART:19170416T020000
RRULE:FREQ=YEARLY;UNTIL=19180415T010000Z;BYMONTH=4;BYDAY=3MO
END:DAYLIGHT
BEGIN:STANDARD
TZNAME:CET
TZOFFSETFROM:+0200
TZOFFSETTO:+0100
DTSTART:19170917T030000
RRULE:FREQ=YEARLY;UNTIL=19180916T010000Z;BYMONTH=9;BYDAY=3MO
END:STANDARD
BEGIN:DAYLIGHT
TZNAME:CEST
TZOFFSETFROM:+0100
TZOFFSETTO:+0200
DTSTART:19440403T020000
RRULE:FREQ=YEARLY;UNTIL=19450402T010000Z;BYMONTH=4;BYDAY=1MO
END:DAYLIGHT
BEGIN:DAYLIGHT
TZNAME:CEMT
TZOFFSETFROM:+0200
TZOFFSETTO:+0300
DTSTART:19450524T020000
RDATE:19470511T030000
END:DAYLIGHT
BEGIN:DAYLIGHT
TZNAME:CEST
TZOFFSETFROM:+0300
TZOFFSETTO:+0200
DTSTART:19450924T030000
RDATE:19470629T030000
END:DAYLIGHT
BEGIN:STANDARD
TZNAME:CET
TZOFFSETFROM:+0100
TZOFFSETTO:+0100
DTSTART:19460101T000000
RDATE:19800101T000000
END:STANDARD
BEGIN:STANDARD
TZNAME:CET
TZOFFSETFROM:+0200
TZOFFSETTO:+0100
DTSTART:19471005T030000
RRULE:FREQ=YEARLY;UNTIL=19491002T010000Z;BYMONTH=10;BYDAY=1SU
END:STANDARD
BEGIN:STANDARD
TZNAME:CET
TZOFFSETFROM:+0200
TZOFFSETTO:+0100
DTSTART:19800928T030000
RRULE:FREQ=YEARLY;UNTIL=19950924T010000Z;BYMONTH=9;BYDAY=-1SU
END:STANDARD
BEGIN:DAYLIGHT
TZNAME:CEST
TZOFFSETFROM:+0100
TZOFFSETTO:+0200
DTSTART:19810329T020000
RRULE:FREQ=YEARLY;BYMONTH=3;BYDAY=-1SU
END:DAYLIGHT
BEGIN:STANDARD
TZNAME:CET
TZOFFSETFROM:+0200
TZOFFSETTO:+0100
DTSTART:19961027T030000
RRULE:FREQ=YEARLY;BYMONTH=10;BYDAY=-1SU
END:STANDARD
END:VTIMEZONE
BEGIN:VEVENT
DTSTAMP:20260420T222852Z
DTSTART;TZID=Europe/Berlin:20260419T143000
DTEND;TZID=Europe/Berlin:20260419T153000
SUMMARY:Regionsoberliga mBJ TSV Friedersdorf vs Lok Schleife (6126)
UID:1b4d1cc0-c2f3-432c-b256-27a242e57fd0
STATUS:CONFIRMED
LAST-MODIFIED:20260416T183231Z
DESCRIPTION:Regionsoberliga  mBJ\nBegegnungs-Nr: 6126\nHeim: TSV Friedersdorf\nGast: Lok Schleife\nHalle: FSZ Oberland \"Albert Schweitzer\" (34112)\nAdresse: Friedrich-Ebert-Str.27\, 02730 Ebersbach-Neugersdorf\n
LOCATION:FSZ Oberland \"Albert Schweitzer\" (34112): Friedrich-Ebert-Str.27\, 02730 Ebersbach-Neugersdorf
CATEGORIES:Saison 2025/26
END:VEVENT
BEGIN:VEVENT
DTSTAMP:20260420T222852Z
DTSTART;TZID=Europe/Berlin:20251206T140000
DTEND;TZID=Europe/Berlin:20251206T150000
SUMMARY:Regionsoberliga mBJ TSV Friedersdorf vs OHC Bernstadt (6066)
UID:b41caf6f-3143-4828-9e17-4ae09b48e72a
STATUS:CONFIRMED
LAST-MODIFIED:20260409T043732Z
DESCRIPTION:Regionsoberliga  mBJ\nBegegnungs-Nr: 6066\nHeim: TSV Friedersdorf\nGast: OHC Bernstadt\nHalle: FSZ Oberland \"Albert Schweitzer\" (34112)\nAdresse: Friedrich-Ebert-Str.27\, 02730 Ebersbach-Neugersdorf\n
LOCATION:FSZ Oberland \"Albert Schweitzer\" (34112): Friedrich-Ebert-Str.27\, 02730 Ebersbach-Neugersdorf
CATEGORIES:Saison 2025/26
END:VEVENT
BEGIN:VEVENT
DTSTAMP:20260420T222852Z
DTSTART;TZID=Europe/Berlin:20260111T153000
DTEND;TZID=Europe/Berlin:20260111T163000
SUMMARY:Regionsoberliga mBJ TSV Friedersdorf vs LHV Hoyerswerda (6071)
UID:fe4c9e4b-4e6a-4067-ac5d-c457a9bdaef7
STATUS:CONFIRMED
LAST-MODIFIED:20260409T043926Z
DESCRIPTION:Regionsoberliga  mBJ\nBegegnungs-Nr: 6071\nHeim: TSV Friedersdorf\nGast: LHV Hoyerswerda\nHalle: FSZ Oberland \"Albert Schweitzer\" (34112)\nAdresse: Friedrich-Ebert-Str.27\, 02730 Ebersbach-Neugersdorf\n
LOCATION:FSZ Oberland \"Albert Schweitzer\" (34112): Friedrich-Ebert-Str.27\, 02730 Ebersbach-Neugersdorf
CATEGORIES:Saison 2025/26
END:VEVENT
BEGIN:VEVENT
DTSTAMP:20260420T222852Z
DTSTART;TZID=Europe/Berlin:20260125T153000
DTEND;TZID=Europe/Berlin:20260125T163000
SUMMARY:Regionsoberliga mBJ TSV Friedersdorf vs Stahl Rietschen (6082)
UID:caa73ce0-dd1c-4aec-96df-edf9ce9f5a0c
STATUS:CONFIRMED
LAST-MODIFIED:20260311T180435Z
DESCRIPTION:Regionsoberliga  mBJ\nBegegnungs-Nr: 6082\nHeim: TSV Friedersdorf\nGast: Stahl Rietschen\nHalle: FSZ Oberland \"Albert Schweitzer\" (34112)\nAdresse: Friedrich-Ebert-Str.27\, 02730 Ebersbach-Neugersdorf\n
LOCATION:FSZ Oberland \"Albert Schweitzer\" (34112): Friedrich-Ebert-Str.27\, 02730 Ebersbach-Neugersdorf
CATEGORIES:Saison 2025/26
END:VEVENT
BEGIN:VEVENT
DTSTAMP:20260420T222852Z
DTSTART;TZID=Europe/Berlin:20260416T174500
DTEND;TZID=Europe/Berlin:20260416T184500
SUMMARY:Regionsoberliga mBJ TSV Friedersdorf vs MSV Bautzen 04 (6091)
UID:c2c23a0e-edf0-4c70-9500-c2d9e52ef326
STATUS:CONFIRMED
LAST-MODIFIED:20260416T183417Z
DESCRIPTION:Regionsoberliga  mBJ\nBegegnungs-Nr: 6091\nHeim: TSV Friedersdorf\nGast: MSV Bautzen 04\nHalle: SH Georgewitzer Straße Löbau (34101)\nAdresse: Georgewitzer Str.\, 02708 Löbau\n
LOCATION:SH Georgewitzer Straße Löbau (34101): Georgewitzer Str.\, 02708 Löbau
CATEGORIES:Saison 2025/26
END:VEVENT
BEGIN:VEVENT
DTSTAMP:20260420T222852Z
DTSTART;TZID=Europe/Berlin:20251026T153000
DTEND;TZID=Europe/Berlin:20251026T163000
SUMMARY:Regionsoberliga mBJ TSV Friedersdorf vs Radeberger SV (6032)
UID:06ffb93c-464f-46f0-a1de-4e2f38cbb5ad
STATUS:CONFIRMED
LAST-MODIFIED:20260409T044740Z
DESCRIPTION:Regionsoberliga  mBJ\nBegegnungs-Nr: 6032\nHeim: TSV Friedersdorf\nGast: Radeberger SV\nHalle: FSZ Oberland \"Albert Schweitzer\" (34112)\nAdresse: Friedrich-Ebert-Str.27\, 02730 Ebersbach-Neugersdorf\n
LOCATION:FSZ Oberland \"Albert Schweitzer\" (34112): Friedrich-Ebert-Str.27\, 02730 Ebersbach-Neugersdorf
CATEGORIES:Saison 2025/26
END:VEVENT
BEGIN:VEVENT
DTSTAMP:20260420T222852Z
DTSTART;TZID=Europe/Berlin:20260308T153000
DTEND;TZID=Europe/Berlin:20260308T163000
SUMMARY:Regionsoberliga mBJ TSV Friedersdorf vs HVH Kamenz (6105)
UID:4752f103-4591-46f0-b80c-3dff9cf4074c
STATUS:CONFIRMED
LAST-MODIFIED:20260310T203201Z
DESCRIPTION:Regionsoberliga  mBJ\nBegegnungs-Nr: 6105\nHeim: TSV Friedersdorf\nGast: HVH Kamenz\nHalle: FSZ Oberland \"Albert Schweitzer\" (34112)\nAdresse: Friedrich-Ebert-Str.27\, 02730 Ebersbach-Neugersdorf\n
LOCATION:FSZ Oberland \"Albert Schweitzer\" (34112): Friedrich-Ebert-Str.27\, 02730 Ebersbach-Neugersdorf
CATEGORIES:Saison 2025/26
END:VEVENT
BEGIN:VEVENT
DTSTAMP:20260420T222852Z
DTSTART;TZID=Europe/Berlin:20251109T153000
DTEND;TZID=Europe/Berlin:20251109T163000
SUMMARY:Regionsoberliga mBJ TSV Friedersdorf vs SG Cunewalde/Sohland (6046)
UID:9fa5654a-78a8-4fd4-a9e3-db5373371e7a
STATUS:CONFIRMED
LAST-MODIFIED:20260409T045113Z
DESCRIPTION:Regionsoberliga  mBJ\nBegegnungs-Nr: 6046\nHeim: TSV Friedersdorf\nGast: SG Cunewalde/Sohland\nHalle: FSZ Oberland \"Albert Schweitzer\" (34112)\nAdresse: Friedrich-Ebert-Str.27\, 02730 Ebersbach-Neugersdorf\n
LOCATION:FSZ Oberland \"Albert Schweitzer\" (34112): Friedrich-Ebert-Str.27\, 02730 Ebersbach-Neugersdorf
CATEGORIES:Saison 2025/26
END:VEVENT
BEGIN:VEVENT
DTSTAMP:20260420T222852Z
DTSTART;TZID=Europe/Berlin:20260329T153000
DTEND;TZID=Europe/Berlin:20260329T163000
SUMMARY:Regionsoberliga mBJ TSV Friedersdorf vs OSV Zittau (6119)
UID:d60644c0-f8cb-455b-bb91-b8ab4999bb1c
STATUS:CONFIRMED
LAST-MODIFIED:20260409T043124Z
DESCRIPTION:Regionsoberliga  mBJ\nBegegnungs-Nr: 6119\nHeim: TSV Friedersdorf\nGast: OSV Zittau\nHalle: FSZ Oberland \"Albert Schweitzer\" (34112)\nAdresse: Friedrich-Ebert-Str.27\, 02730 Ebersbach-Neugersdorf\n
LOCATION:FSZ Oberland \"Albert Schweitzer\" (34112): Friedrich-Ebert-Str.27\, 02730 Ebersbach-Neugersdorf
CATEGORIES:Saison 2025/26
END:VEVENT
BEGIN:VEVENT
DTSTAMP:20260420T222852Z
DTSTART;TZID=Europe/Berlin:20251129T140000
DTEND;TZID=Europe/Berlin:20251129T150000
SUMMARY:Regionsoberliga mBJ Lok Schleife vs TSV Friedersdorf (6060)
UID:c4a14d34-ed14-4857-9bb3-366fab23b36e
STATUS:CONFIRMED
LAST-MODIFIED:20260409T043610Z
DESCRIPTION:Regionsoberliga  mBJ\nBegegnungs-Nr: 6060\nHeim: Lok Schleife\nGast: TSV Friedersdorf\nHalle: SH Schleife (34402)\nAdresse: Spremberger Straße 29\, 02959 Schleife\n
LOCATION:SH Schleife (34402): Spremberger Straße 29\, 02959 Schleife
CATEGORIES:Saison 2025/26
END:VEVENT
BEGIN:VEVENT
DTSTAMP:20260420T222852Z
DTSTART;TZID=Europe/Berlin:20260426T140000
DTEND;TZID=Europe/Berlin:20260426T150000
SUMMARY:Regionsoberliga mBJ OHC Bernstadt vs TSV Friedersdorf (6132)
UID:8082dcb3-c9ec-46c9-8d3f-57932421b788
STATUS:CONFIRMED
DESCRIPTION:Regionsoberliga  mBJ\nBegegnungs-Nr: 6132\nHeim: OHC Bernstadt\nGast: TSV Friedersdorf\nHalle: Sporthalle \"Pließnitztal\" Bernstadt (34108)\nAdresse: Am Pließnitztal 3\, 02748 Bernstadt a.d. Eigen OT Kunnersdorf\n
LOCATION:Sporthalle \"Pließnitztal\" Bernstadt (34108): Am Pließnitztal 3\, 02748 Bernstadt a.d. Eigen OT Kunnersdorf
CATEGORIES:Saison 2025/26
END:VEVENT
BEGIN:VEVENT
DTSTAMP:20260420T222852Z
DTSTART;TZID=Europe/Berlin:20260131T100000
DTEND;TZID=Europe/Berlin:20260131T110000
SUMMARY:Regionsoberliga mBJ LHV Hoyerswerda vs TSV Friedersdorf (6005)
UID:98429c8c-f340-42c7-b4fc-c310523c1c5e
STATUS:CONFIRMED
LAST-MODIFIED:20260130T073034Z
DESCRIPTION:Regionsoberliga  mBJ\nBegegnungs-Nr: 6005\nHeim: LHV Hoyerswerda\nGast: TSV Friedersdorf\nHalle: SH BSZ \"Konrad Zuse\" Hoyerswerda (34201)\nAdresse: Käthe-Kollwitz-Str. 5\, 02977 Hoyerswerda\n
LOCATION:SH BSZ \"Konrad Zuse\" Hoyerswerda (34201): Käthe-Kollwitz-Str. 5\, 02977 Hoyerswerda
CATEGORIES:Saison 2025/26
END:VEVENT
BEGIN:VEVENT
DTSTAMP:20260420T222852Z
DTSTART;TZID=Europe/Berlin:20250913T131500
DTEND;TZID=Europe/Berlin:20250913T141500
SUMMARY:Regionsoberliga mBJ Stahl Rietschen vs TSV Friedersdorf (6016)
UID:e409a0d3-23fc-4d06-a4fe-5b68477db6ad
STATUS:CONFIRMED
LAST-MODIFIED:20250910T153221Z
DESCRIPTION:Regionsoberliga  mBJ\nBegegnungs-Nr: 6016\nHeim: Stahl Rietschen\nGast: TSV Friedersdorf\nHalle: Oberlausitz-SH Rietschen (34403)\nAdresse: Am Festplatz 1\, 02956 Rietschen\n
LOCATION:Oberlausitz-SH Rietschen (34403): Am Festplatz 1\, 02956 Rietschen
CATEGORIES:Saison 2025/26
END:VEVENT
BEGIN:VEVENT
DTSTAMP:20260420T222852Z
DTSTART;TZID=Europe/Berlin:20250927T114500
DTEND;TZID=Europe/Berlin:20250927T124500
SUMMARY:Regionsoberliga mBJ MSV Bautzen 04 vs TSV Friedersdorf (6025)
UID:659195e4-1f4b-401b-8173-91df2eca1f49
STATUS:CONFIRMED
LAST-MODIFIED:20260409T044340Z
DESCRIPTION:Regionsoberliga  mBJ\nBegegnungs-Nr: 6025\nHeim: MSV Bautzen 04\nGast: TSV Friedersdorf\nHalle: SH Daimler Schule Bautzen (34512)\nAdresse: Daimlerstrasse 6\, 02625 Bautzen\n
LOCATION:SH Daimler Schule Bautzen (34512): Daimlerstrasse 6\, 02625 Bautzen
CATEGORIES:Saison 2025/26
END:VEVENT
BEGIN:VEVENT
DTSTAMP:20260420T222852Z
DTSTART;TZID=Europe/Berlin:20260228T123000
DTEND;TZID=Europe/Berlin:20260228T133000
SUMMARY:Regionsoberliga mBJ Radeberger SV vs TSV Friedersdorf (6098)
UID:82ce3a9a-f763-41dc-8c67-dd830498da6a
STATUS:CONFIRMED
LAST-MODIFIED:20260311T180900Z
DESCRIPTION:Regionsoberliga  mBJ\nBegegnungs-Nr: 6098\nHeim: Radeberger SV\nGast: TSV Friedersdorf\nHalle: 3-Feld-Halle-BSZ Radeberg (34209)\nAdresse: Robert-Blum-Weg 5\, 01454 Radeberg\n
LOCATION:3-Feld-Halle-BSZ Radeberg (34209): Robert-Blum-Weg 5\, 01454 Radeberg
CATEGORIES:Saison 2025/26
END:VEVENT
BEGIN:VEVENT
DTSTAMP:20260420T222852Z
DTSTART;TZID=Europe/Berlin:20251102T110000
DTEND;TZID=Europe/Berlin:20251102T120000
SUMMARY:Regionsoberliga mBJ HVH Kamenz vs TSV Friedersdorf (6039)
UID:2e78426f-ca1e-4b8a-aeff-337b5e4c6c2a
STATUS:CONFIRMED
LAST-MODIFIED:20260409T044900Z
DESCRIPTION:Regionsoberliga  mBJ\nBegegnungs-Nr: 6039\nHeim: HVH Kamenz\nGast: TSV Friedersdorf\nHalle: SH Albert-Schweitzer-Gymnasium Kamenz (34204)\nAdresse: Am Flugplatz\, 01917 Kamenz\, Parkplatz - Macherstraße 142\n
LOCATION:SH Albert-Schweitzer-Gymnasium Kamenz (34204): Am Flugplatz\, 01917 Kamenz\, Parkplatz - Macherstraße 142
CATEGORIES:Saison 2025/26
END:VEVENT
BEGIN:VEVENT
DTSTAMP:20260420T222852Z
DTSTART;TZID=Europe/Berlin:20260321T133000
DTEND;TZID=Europe/Berlin:20260321T143000
SUMMARY:Regionsoberliga mBJ SG Cunewalde/Sohland vs TSV Friedersdorf (6112)
UID:5a35f09f-4421-4a10-9241-201e6f4b94aa
STATUS:CONFIRMED
LAST-MODIFIED:20260330T084812Z
DESCRIPTION:Regionsoberliga  mBJ\nBegegnungs-Nr: 6112\nHeim: SG Cunewalde/Sohland\nGast: TSV Friedersdorf\nHalle: \"Oberland-Sporthalle\" Sohland (34501)\nAdresse: G. - Hauptmann - Str. 4 A\, 02689 Sohland\n
LOCATION:\"Oberland-Sporthalle\" Sohland (34501): G. - Hauptmann - Str. 4 A\, 02689 Sohland
CATEGORIES:Saison 2025/26
END:VEVENT
BEGIN:VEVENT
DTSTAMP:20260420T222852Z
DTSTART;TZID=Europe/Berlin:20251122T140000
DTEND;TZID=Europe/Berlin:20251122T150000
SUMMARY:Regionsoberliga mBJ OSV Zittau vs TSV Friedersdorf (6053)
UID:d7f91d16-84d4-4cb4-9cdb-5cc9eca48137
STATUS:CONFIRMED
LAST-MODIFIED:20260409T043203Z
DESCRIPTION:Regionsoberliga  mBJ\nBegegnungs-Nr: 6053\nHeim: OSV Zittau\nGast: TSV Friedersdorf\nHalle: SH Zittau (34107)\nAdresse: Lisa - Tetzner - Str.\, 02763 Zittau\n
LOCATION:SH Zittau (34107): Lisa - Tetzner - Str.\, 02763 Zittau
CATEGORIES:Saison 2025/26
END:VEVENT
END:VCALENDAR
