BEGIN:VCALENDAR
PRODID:-//nuDatenautomaten//framework iCal4j //DE
VERSION:2.0
CALSCALE:GREGORIAN
BEGIN:VTIMEZONE
TZID:Europe/Berlin
LAST-MODIFIED:20260306T231828Z
TZURL:https://www.tzurl.org/zoneinfo/Europe/Berlin
X-LIC-LOCATION:Europe/Berlin
X-PROLEPTIC-TZNAME:LMT
BEGIN:STANDARD
TZNAME:CET
TZOFFSETFROM:+005328
TZOFFSETTO:+0100
DTSTART:18930401T000000
END:STANDARD
BEGIN:DAYLIGHT
TZNAME:CEST
TZOFFSETFROM:+0100
TZOFFSETTO:+0200
DTSTART:19160430T230000
RDATE:19400401T020000
RDATE:19430329T020000
RDATE:19460414T020000
RDATE:19470406T030000
RDATE:19480418T020000
RDATE:19490410T020000
RDATE:19800406T020000
END:DAYLIGHT
BEGIN:STANDARD
TZNAME:CET
TZOFFSETFROM:+0200
TZOFFSETTO:+0100
DTSTART:19161001T010000
RDATE:19421102T030000
RDATE:19431004T030000
RDATE:19441002T030000
RDATE:19451118T030000
RDATE:19461007T030000
END:STANDARD
BEGIN:DAYLIGHT
TZNAME:CEST
TZOFFSETFROM:+0100
TZOFFSETTO:+0200
DTSTART:19170416T020000
RRULE:FREQ=YEARLY;UNTIL=19180415T010000Z;BYMONTH=4;BYDAY=3MO
END:DAYLIGHT
BEGIN:STANDARD
TZNAME:CET
TZOFFSETFROM:+0200
TZOFFSETTO:+0100
DTSTART:19170917T030000
RRULE:FREQ=YEARLY;UNTIL=19180916T010000Z;BYMONTH=9;BYDAY=3MO
END:STANDARD
BEGIN:DAYLIGHT
TZNAME:CEST
TZOFFSETFROM:+0100
TZOFFSETTO:+0200
DTSTART:19440403T020000
RRULE:FREQ=YEARLY;UNTIL=19450402T010000Z;BYMONTH=4;BYDAY=1MO
END:DAYLIGHT
BEGIN:DAYLIGHT
TZNAME:CEMT
TZOFFSETFROM:+0200
TZOFFSETTO:+0300
DTSTART:19450524T020000
RDATE:19470511T030000
END:DAYLIGHT
BEGIN:DAYLIGHT
TZNAME:CEST
TZOFFSETFROM:+0300
TZOFFSETTO:+0200
DTSTART:19450924T030000
RDATE:19470629T030000
END:DAYLIGHT
BEGIN:STANDARD
TZNAME:CET
TZOFFSETFROM:+0100
TZOFFSETTO:+0100
DTSTART:19460101T000000
RDATE:19800101T000000
END:STANDARD
BEGIN:STANDARD
TZNAME:CET
TZOFFSETFROM:+0200
TZOFFSETTO:+0100
DTSTART:19471005T030000
RRULE:FREQ=YEARLY;UNTIL=19491002T010000Z;BYMONTH=10;BYDAY=1SU
END:STANDARD
BEGIN:STANDARD
TZNAME:CET
TZOFFSETFROM:+0200
TZOFFSETTO:+0100
DTSTART:19800928T030000
RRULE:FREQ=YEARLY;UNTIL=19950924T010000Z;BYMONTH=9;BYDAY=-1SU
END:STANDARD
BEGIN:DAYLIGHT
TZNAME:CEST
TZOFFSETFROM:+0100
TZOFFSETTO:+0200
DTSTART:19810329T020000
RRULE:FREQ=YEARLY;BYMONTH=3;BYDAY=-1SU
END:DAYLIGHT
BEGIN:STANDARD
TZNAME:CET
TZOFFSETFROM:+0200
TZOFFSETTO:+0100
DTSTART:19961027T030000
RRULE:FREQ=YEARLY;BYMONTH=10;BYDAY=-1SU
END:STANDARD
END:VTIMEZONE
BEGIN:VEVENT
DTSTAMP:20260421T051937Z
DTSTART;TZID=Europe/Berlin:20251206T090000
DTEND;TZID=Europe/Berlin:20251206T100000
SUMMARY:Regionsoberliga S-M wJE VfL Meißen II vs Radebeuler HV (44021)
UID:70805eff-8555-43a2-af64-09fd0eeb62da
STATUS:CONFIRMED
LAST-MODIFIED:20251207T132524Z
DESCRIPTION:Regionsoberliga S-M wJE\nBegegnungs-Nr: 44021\nHeim: VfL Meißen II\nGast: Radebeuler HV\nHalle: SH \"Heiliger Grund\" Meißen (33212)\nAdresse: Goethestraße 27\, 01662 Meißen\n
LOCATION:SH \"Heiliger Grund\" Meißen (33212): Goethestraße 27\, 01662 Meißen
CATEGORIES:Saison 2025/26
END:VEVENT
BEGIN:VEVENT
DTSTAMP:20260421T051937Z
DTSTART;TZID=Europe/Berlin:20251206T113000
DTEND;TZID=Europe/Berlin:20251206T123000
SUMMARY:Regionsoberliga S-M wJE VfL Meißen II vs SSV Lommatzsch (44024)
UID:301a2f73-f546-4954-9e3f-1ff88407620b
STATUS:CONFIRMED
LAST-MODIFIED:20251207T132730Z
DESCRIPTION:Regionsoberliga S-M wJE\nBegegnungs-Nr: 44024\nHeim: VfL Meißen II\nGast: SSV Lommatzsch\nHalle: SH \"Heiliger Grund\" Meißen (33212)\nAdresse: Goethestraße 27\, 01662 Meißen\n
LOCATION:SH \"Heiliger Grund\" Meißen (33212): Goethestraße 27\, 01662 Meißen
CATEGORIES:Saison 2025/26
END:VEVENT
BEGIN:VEVENT
DTSTAMP:20260421T051937Z
DTSTART;TZID=Europe/Berlin:20251122T103000
DTEND;TZID=Europe/Berlin:20251122T113000
SUMMARY:Regionsoberliga S-M wJE VfL Meißen II vs VfL Meißen (44061)
UID:e1745453-6e7a-402e-8ade-ba4492497f3c
STATUS:CONFIRMED
LAST-MODIFIED:20251207T132011Z
DESCRIPTION:Regionsoberliga S-M wJE\nBegegnungs-Nr: 44061\nHeim: VfL Meißen II\nGast: VfL Meißen\nHalle: SH \"Heiliger Grund\" Meißen (33212)\nAdresse: Goethestraße 27\, 01662 Meißen\n
LOCATION:SH \"Heiliger Grund\" Meißen (33212): Goethestraße 27\, 01662 Meißen
CATEGORIES:Saison 2025/26
END:VEVENT
BEGIN:VEVENT
DTSTAMP:20260421T051937Z
DTSTART;TZID=Europe/Berlin:20260419T144500
DTEND;TZID=Europe/Berlin:20260419T154500
SUMMARY:Regionsoberliga S-M wJE VfL Meißen II vs SHV Oschatz (44092)
UID:ebd82cab-fe99-4cc0-8f42-f66c5456dd82
STATUS:CONFIRMED
LAST-MODIFIED:20260210T122728Z
DESCRIPTION:Regionsoberliga S-M wJE\nBegegnungs-Nr: 44092\nHeim: VfL Meißen II\nGast: SHV Oschatz\nHalle: SH \"Heiliger Grund\" Meißen (33212)\nAdresse: Goethestraße 27\, 01662 Meißen\n
LOCATION:SH \"Heiliger Grund\" Meißen (33212): Goethestraße 27\, 01662 Meißen
CATEGORIES:Saison 2025/26
END:VEVENT
BEGIN:VEVENT
DTSTAMP:20260421T051937Z
DTSTART;TZID=Europe/Berlin:20260419T154500
DTEND;TZID=Europe/Berlin:20260419T164500
SUMMARY:Regionsoberliga S-M wJE VfL Meißen II vs MSV Dresden (44093)
UID:fbca9d7f-6cde-465b-a9ae-90f04a9f2d51
STATUS:CONFIRMED
LAST-MODIFIED:20260210T122746Z
DESCRIPTION:Regionsoberliga S-M wJE\nBegegnungs-Nr: 44093\nHeim: VfL Meißen II\nGast: MSV Dresden\nHalle: SH \"Heiliger Grund\" Meißen (33212)\nAdresse: Goethestraße 27\, 01662 Meißen\n
LOCATION:SH \"Heiliger Grund\" Meißen (33212): Goethestraße 27\, 01662 Meißen
CATEGORIES:Saison 2025/26
END:VEVENT
BEGIN:VEVENT
DTSTAMP:20260421T051937Z
DTSTART;TZID=Europe/Berlin:20260307T120000
DTEND;TZID=Europe/Berlin:20260307T130000
SUMMARY:Regionsoberliga S-M wJE SSV Lommatzsch vs VfL Meißen II (44111)
UID:978d5144-e3a1-4908-bda5-a3bae547037b
STATUS:CONFIRMED
LAST-MODIFIED:20260313T170635Z
DESCRIPTION:Regionsoberliga S-M wJE\nBegegnungs-Nr: 44111\nHeim: SSV Lommatzsch\nGast: VfL Meißen II\nHalle: Lothar-Krauße-SH Lommatzsch (33211)\nAdresse: Domselwitzer Str. 21\, 01623 Lommatzsch\n
LOCATION:Lothar-Krauße-SH Lommatzsch (33211): Domselwitzer Str. 21\, 01623 Lommatzsch
CATEGORIES:Saison 2025/26
END:VEVENT
BEGIN:VEVENT
DTSTAMP:20260421T051937Z
DTSTART;TZID=Europe/Berlin:20260307T100000
DTEND;TZID=Europe/Berlin:20260307T110000
SUMMARY:Regionsoberliga S-M wJE Radebeuler HV vs VfL Meißen II (44113)
UID:3ddcf1cf-39a6-4151-a24c-b7ca1cb0d3a6
STATUS:CONFIRMED
LAST-MODIFIED:20260313T170508Z
DESCRIPTION:Regionsoberliga S-M wJE\nBegegnungs-Nr: 44113\nHeim: Radebeuler HV\nGast: VfL Meißen II\nHalle: Lothar-Krauße-SH Lommatzsch (33211)\nAdresse: Domselwitzer Str. 21\, 01623 Lommatzsch\n
LOCATION:Lothar-Krauße-SH Lommatzsch (33211): Domselwitzer Str. 21\, 01623 Lommatzsch
CATEGORIES:Saison 2025/26
END:VEVENT
BEGIN:VEVENT
DTSTAMP:20260421T051937Z
DTSTART;TZID=Europe/Berlin:20260322T093000
DTEND;TZID=Europe/Berlin:20260322T103000
SUMMARY:Regionsoberliga S-M wJE SHV Oschatz vs VfL Meißen II (44121)
UID:54020af9-96f5-45af-8b02-4e518ffde1cd
STATUS:CONFIRMED
LAST-MODIFIED:20250715T183819Z
DESCRIPTION:Regionsoberliga S-M wJE\nBegegnungs-Nr: 44121\nHeim: SHV Oschatz\nGast: VfL Meißen II\nHalle: Rosental-SH Oschatz (31604)\nAdresse: Berufsschulstraße 8\, 04758 Oschatz\n
LOCATION:Rosental-SH Oschatz (31604): Berufsschulstraße 8\, 04758 Oschatz
CATEGORIES:Saison 2025/26
END:VEVENT
BEGIN:VEVENT
DTSTAMP:20260421T051937Z
DTSTART;TZID=Europe/Berlin:20260322T113000
DTEND;TZID=Europe/Berlin:20260322T123000
SUMMARY:Regionsoberliga S-M wJE MSV Dresden vs VfL Meißen II (44123)
UID:8448fb15-2fe8-42ca-98f2-5d4f99dd0d49
STATUS:CONFIRMED
LAST-MODIFIED:20250715T183819Z
DESCRIPTION:Regionsoberliga S-M wJE\nBegegnungs-Nr: 44123\nHeim: MSV Dresden\nGast: VfL Meißen II\nHalle: Rosental-SH Oschatz (31604)\nAdresse: Berufsschulstraße 8\, 04758 Oschatz\n
LOCATION:Rosental-SH Oschatz (31604): Berufsschulstraße 8\, 04758 Oschatz
CATEGORIES:Saison 2025/26
END:VEVENT
BEGIN:VEVENT
DTSTAMP:20260421T051937Z
DTSTART;TZID=Europe/Berlin:20250928T090000
DTEND;TZID=Europe/Berlin:20250928T100000
SUMMARY:Regionsoberliga S-M wJE VfL Meißen vs VfL Meißen II (44031)
UID:6d84172b-6522-4f97-bfd7-380ebe666f39
STATUS:CONFIRMED
LAST-MODIFIED:20251015T133652Z
DESCRIPTION:Regionsoberliga S-M wJE\nBegegnungs-Nr: 44031\nHeim: VfL Meißen\nGast: VfL Meißen II\nHalle: SH \"Heiliger Grund\" Meißen (33212)\nAdresse: Goethestraße 27\, 01662 Meißen\n
LOCATION:SH \"Heiliger Grund\" Meißen (33212): Goethestraße 27\, 01662 Meißen
CATEGORIES:Saison 2025/26
END:VEVENT
BEGIN:VEVENT
DTSTAMP:20260421T051937Z
DTSTART;TZID=Europe/Berlin:20250928T110000
DTEND;TZID=Europe/Berlin:20250928T120000
SUMMARY:Regionsoberliga S-M wJE MSV Dresden vs VfL Meißen II (44032)
UID:d0dcf3f3-c2e0-438f-a3cb-656d83f464df
STATUS:CONFIRMED
LAST-MODIFIED:20251015T134120Z
DESCRIPTION:Regionsoberliga S-M wJE\nBegegnungs-Nr: 44032\nHeim: MSV Dresden\nGast: VfL Meißen II\nHalle: SH \"Heiliger Grund\" Meißen (33212)\nAdresse: Goethestraße 27\, 01662 Meißen\n
LOCATION:SH \"Heiliger Grund\" Meißen (33212): Goethestraße 27\, 01662 Meißen
CATEGORIES:Saison 2025/26
END:VEVENT
BEGIN:VEVENT
DTSTAMP:20260421T051937Z
DTSTART;TZID=Europe/Berlin:20251122T113000
DTEND;TZID=Europe/Berlin:20251122T123000
SUMMARY:Regionsoberliga S-M wJE SHV Oschatz vs VfL Meißen II (44063)
UID:4c527bfa-1596-492a-bdea-0a951850f019
STATUS:CONFIRMED
LAST-MODIFIED:20251207T132049Z
DESCRIPTION:Regionsoberliga S-M wJE\nBegegnungs-Nr: 44063\nHeim: SHV Oschatz\nGast: VfL Meißen II\nHalle: SH \"Heiliger Grund\" Meißen (33212)\nAdresse: Goethestraße 27\, 01662 Meißen\n
LOCATION:SH \"Heiliger Grund\" Meißen (33212): Goethestraße 27\, 01662 Meißen
CATEGORIES:Saison 2025/26
END:VEVENT
BEGIN:VEVENT
DTSTAMP:20260421T051937Z
DTSTART;TZID=Europe/Berlin:20251129T090000
DTEND;TZID=Europe/Berlin:20251129T100000
SUMMARY:Regionsoberliga S-M wJE SSV Lommatzsch vs VfL Meißen II (44071)
UID:9fb74982-7bce-41bf-b7f0-1a34658a64d4
STATUS:CONFIRMED
LAST-MODIFIED:20251207T132224Z
DESCRIPTION:Regionsoberliga S-M wJE\nBegegnungs-Nr: 44071\nHeim: SSV Lommatzsch\nGast: VfL Meißen II\nHalle: Lothar-Krauße-SH Lommatzsch (33211)\nAdresse: Domselwitzer Str. 21\, 01623 Lommatzsch\n
LOCATION:Lothar-Krauße-SH Lommatzsch (33211): Domselwitzer Str. 21\, 01623 Lommatzsch
CATEGORIES:Saison 2025/26
END:VEVENT
BEGIN:VEVENT
DTSTAMP:20260421T051937Z
DTSTART;TZID=Europe/Berlin:20251129T100000
DTEND;TZID=Europe/Berlin:20251129T110000
SUMMARY:Regionsoberliga S-M wJE Radebeuler HV vs VfL Meißen II (44072)
UID:1505a83d-8848-4279-a1c3-34cb963b4b0c
STATUS:CONFIRMED
LAST-MODIFIED:20251207T132352Z
DESCRIPTION:Regionsoberliga S-M wJE\nBegegnungs-Nr: 44072\nHeim: Radebeuler HV\nGast: VfL Meißen II\nHalle: Lothar-Krauße-SH Lommatzsch (33211)\nAdresse: Domselwitzer Str. 21\, 01623 Lommatzsch\n
LOCATION:Lothar-Krauße-SH Lommatzsch (33211): Domselwitzer Str. 21\, 01623 Lommatzsch
CATEGORIES:Saison 2025/26
END:VEVENT
BEGIN:VEVENT
DTSTAMP:20260421T051937Z
DTSTART;TZID=Europe/Berlin:20260328T103000
DTEND;TZID=Europe/Berlin:20260328T113000
SUMMARY:Regionsoberliga S-M wJE VfL Meißen vs VfL Meißen II (44133)
UID:e2c76482-f499-40c5-883a-a445301686e6
STATUS:CONFIRMED
LAST-MODIFIED:20250715T183819Z
DESCRIPTION:Regionsoberliga S-M wJE\nBegegnungs-Nr: 44133\nHeim: VfL Meißen\nGast: VfL Meißen II\nHalle: SH \"Heiliger Grund\" Meißen (33212)\nAdresse: Goethestraße 27\, 01662 Meißen\n
LOCATION:SH \"Heiliger Grund\" Meißen (33212): Goethestraße 27\, 01662 Meißen
CATEGORIES:Saison 2025/26
END:VEVENT
END:VCALENDAR
