BEGIN:VCALENDAR
PRODID:-//nuDatenautomaten//framework iCal4j //DE
VERSION:2.0
CALSCALE:GREGORIAN
BEGIN:VTIMEZONE
TZID:Europe/Berlin
LAST-MODIFIED:20260306T231828Z
TZURL:https://www.tzurl.org/zoneinfo/Europe/Berlin
X-LIC-LOCATION:Europe/Berlin
X-PROLEPTIC-TZNAME:LMT
BEGIN:STANDARD
TZNAME:CET
TZOFFSETFROM:+005328
TZOFFSETTO:+0100
DTSTART:18930401T000000
END:STANDARD
BEGIN:DAYLIGHT
TZNAME:CEST
TZOFFSETFROM:+0100
TZOFFSETTO:+0200
DTSTART:19160430T230000
RDATE:19400401T020000
RDATE:19430329T020000
RDATE:19460414T020000
RDATE:19470406T030000
RDATE:19480418T020000
RDATE:19490410T020000
RDATE:19800406T020000
END:DAYLIGHT
BEGIN:STANDARD
TZNAME:CET
TZOFFSETFROM:+0200
TZOFFSETTO:+0100
DTSTART:19161001T010000
RDATE:19421102T030000
RDATE:19431004T030000
RDATE:19441002T030000
RDATE:19451118T030000
RDATE:19461007T030000
END:STANDARD
BEGIN:DAYLIGHT
TZNAME:CEST
TZOFFSETFROM:+0100
TZOFFSETTO:+0200
DTSTART:19170416T020000
RRULE:FREQ=YEARLY;UNTIL=19180415T010000Z;BYMONTH=4;BYDAY=3MO
END:DAYLIGHT
BEGIN:STANDARD
TZNAME:CET
TZOFFSETFROM:+0200
TZOFFSETTO:+0100
DTSTART:19170917T030000
RRULE:FREQ=YEARLY;UNTIL=19180916T010000Z;BYMONTH=9;BYDAY=3MO
END:STANDARD
BEGIN:DAYLIGHT
TZNAME:CEST
TZOFFSETFROM:+0100
TZOFFSETTO:+0200
DTSTART:19440403T020000
RRULE:FREQ=YEARLY;UNTIL=19450402T010000Z;BYMONTH=4;BYDAY=1MO
END:DAYLIGHT
BEGIN:DAYLIGHT
TZNAME:CEMT
TZOFFSETFROM:+0200
TZOFFSETTO:+0300
DTSTART:19450524T020000
RDATE:19470511T030000
END:DAYLIGHT
BEGIN:DAYLIGHT
TZNAME:CEST
TZOFFSETFROM:+0300
TZOFFSETTO:+0200
DTSTART:19450924T030000
RDATE:19470629T030000
END:DAYLIGHT
BEGIN:STANDARD
TZNAME:CET
TZOFFSETFROM:+0100
TZOFFSETTO:+0100
DTSTART:19460101T000000
RDATE:19800101T000000
END:STANDARD
BEGIN:STANDARD
TZNAME:CET
TZOFFSETFROM:+0200
TZOFFSETTO:+0100
DTSTART:19471005T030000
RRULE:FREQ=YEARLY;UNTIL=19491002T010000Z;BYMONTH=10;BYDAY=1SU
END:STANDARD
BEGIN:STANDARD
TZNAME:CET
TZOFFSETFROM:+0200
TZOFFSETTO:+0100
DTSTART:19800928T030000
RRULE:FREQ=YEARLY;UNTIL=19950924T010000Z;BYMONTH=9;BYDAY=-1SU
END:STANDARD
BEGIN:DAYLIGHT
TZNAME:CEST
TZOFFSETFROM:+0100
TZOFFSETTO:+0200
DTSTART:19810329T020000
RRULE:FREQ=YEARLY;BYMONTH=3;BYDAY=-1SU
END:DAYLIGHT
BEGIN:STANDARD
TZNAME:CET
TZOFFSETFROM:+0200
TZOFFSETTO:+0100
DTSTART:19961027T030000
RRULE:FREQ=YEARLY;BYMONTH=10;BYDAY=-1SU
END:STANDARD
END:VTIMEZONE
BEGIN:VEVENT
DTSTAMP:20260426T030853Z
DTSTART;TZID=Europe/Berlin:20250928T110000
DTEND;TZID=Europe/Berlin:20250928T120000
SUMMARY:Po-mJC (§75 SpO) HC Elbflorenz 2006 vs NSG EHV/NH/Buteo (7002)
UID:180d593c-50c4-4710-9326-4de26c7f6b89
STATUS:CONFIRMED
LAST-MODIFIED:20250929T091525Z
DESCRIPTION:MHV-Pokal männl. Jugend C\nBegegnungs-Nr: 7002\nHeim: HC Elbflorenz 2006\nGast: NSG EHV/NH/Buteo\nHalle: BallsportARENA Dresden (33133)\nAdresse: Weißeritzstraße 4\, 01067 Dresden\n
LOCATION:BallsportARENA Dresden (33133): Weißeritzstraße 4\, 01067 Dresden
CATEGORIES:Saison 2025/26
END:VEVENT
BEGIN:VEVENT
DTSTAMP:20260426T030853Z
DTSTART;TZID=Europe/Berlin:20251102T120000
DTEND;TZID=Europe/Berlin:20251102T130000
SUMMARY:Po-mJC (§75 SpO) HC Elbflorenz 2006 vs DRHV 06 (7009)
UID:68b8aa7a-2dd6-400a-a3ae-504670b9dd38
STATUS:CONFIRMED
LAST-MODIFIED:20251102T142558Z
DESCRIPTION:MHV-Pokal männl. Jugend C\nBegegnungs-Nr: 7009\nHeim: HC Elbflorenz 2006\nGast: DRHV 06\nHalle: BallsportARENA Dresden (33133)\nAdresse: Weißeritzstraße 4\, 01067 Dresden\n
LOCATION:BallsportARENA Dresden (33133): Weißeritzstraße 4\, 01067 Dresden
CATEGORIES:Saison 2025/26
END:VEVENT
BEGIN:VEVENT
DTSTAMP:20260426T030853Z
DTSTART;TZID=Europe/Berlin:20251109T100000
DTEND;TZID=Europe/Berlin:20251109T110000
SUMMARY:Po-mJC (§75 SpO) HC Elbflorenz 2006 vs USV Halle (7010)
UID:e9f6cc24-7aca-4dd5-bac9-f4b1993f7864
STATUS:CONFIRMED
LAST-MODIFIED:20251109T155243Z
DESCRIPTION:MHV-Pokal männl. Jugend C\nBegegnungs-Nr: 7010\nHeim: HC Elbflorenz 2006\nGast: USV Halle\nHalle: BallsportARENA Dresden (33133)\nAdresse: Weißeritzstraße 4\, 01067 Dresden\n
LOCATION:BallsportARENA Dresden (33133): Weißeritzstraße 4\, 01067 Dresden
CATEGORIES:Saison 2025/26
END:VEVENT
BEGIN:VEVENT
DTSTAMP:20260426T030853Z
DTSTART;TZID=Europe/Berlin:20260308T150000
DTEND;TZID=Europe/Berlin:20260308T160000
SUMMARY:Po-mJC (§75 SpO) HC Elbflorenz 2006 vs HBV Jena 90 (7029)
UID:12b48dea-6c95-4319-bb02-ef36ca2d0965
STATUS:CONFIRMED
LAST-MODIFIED:20260322T131745Z
DESCRIPTION:MHV-Pokal männl. Jugend C\nBegegnungs-Nr: 7029\nHeim: HC Elbflorenz 2006\nGast: HBV Jena 90\nHalle: BallsportARENA Dresden (33133)\nAdresse: Weißeritzstraße 4\, 01067 Dresden\n
LOCATION:BallsportARENA Dresden (33133): Weißeritzstraße 4\, 01067 Dresden
CATEGORIES:Saison 2025/26
END:VEVENT
BEGIN:VEVENT
DTSTAMP:20260426T030853Z
DTSTART;TZID=Europe/Berlin:20251214T120000
DTEND;TZID=Europe/Berlin:20251214T130000
SUMMARY:Po-mJC (§75 SpO) HC Elbflorenz 2006 vs SC Magdeburg (7021)
UID:0e048c67-97a3-4c53-9014-cef19771192e
STATUS:CONFIRMED
LAST-MODIFIED:20251214T190938Z
DESCRIPTION:MHV-Pokal männl. Jugend C\nBegegnungs-Nr: 7021\nHeim: HC Elbflorenz 2006\nGast: SC Magdeburg\nHalle: BallsportARENA Dresden (33133)\nAdresse: Weißeritzstraße 4\, 01067 Dresden\n
LOCATION:BallsportARENA Dresden (33133): Weißeritzstraße 4\, 01067 Dresden
CATEGORIES:Saison 2025/26
END:VEVENT
BEGIN:VEVENT
DTSTAMP:20260426T030853Z
DTSTART;TZID=Europe/Berlin:20250921T140000
DTEND;TZID=Europe/Berlin:20250921T150000
SUMMARY:Po-mJC (§75 SpO) SC Magdeburg vs HC Elbflorenz 2006 (7006)
UID:c6e6193c-a398-4eb6-93a7-ed2595f3fe57
STATUS:CONFIRMED
LAST-MODIFIED:20250921T145949Z
DESCRIPTION:MHV-Pokal männl. Jugend C\nBegegnungs-Nr: 7006\nHeim: SC Magdeburg\nGast: HC Elbflorenz 2006\nHalle: Wolfgang-Lakenmacher-Halle (1106)\nAdresse: An der Steinkuhle 4\, 39128 Magdeburg\n
LOCATION:Wolfgang-Lakenmacher-Halle (1106): An der Steinkuhle 4\, 39128 Magdeburg
CATEGORIES:Saison 2025/26
END:VEVENT
BEGIN:VEVENT
DTSTAMP:20260426T030853Z
DTSTART;TZID=Europe/Berlin:20251130T103000
DTEND;TZID=Europe/Berlin:20251130T113000
SUMMARY:Po-mJC (§75 SpO) HBV Jena 90 vs HC Elbflorenz 2006 (7014)
UID:3975d3b6-6229-446b-b05e-1a65cfd7a439
STATUS:CONFIRMED
LAST-MODIFIED:20251130T162802Z
DESCRIPTION:MHV-Pokal männl. Jugend C\nBegegnungs-Nr: 7014\nHeim: HBV Jena 90\nGast: HC Elbflorenz 2006\nHalle: Jena\, Sporthalle im SBSZ Göschwitz (420319)\nAdresse: Rudolstädter Str. 95b\, 07745 Jena-Göschwitz\n
LOCATION:Jena\, Sporthalle im SBSZ Göschwitz (420319): Rudolstädter Str. 95b\, 07745 Jena-Göschwitz
CATEGORIES:Saison 2025/26
END:VEVENT
BEGIN:VEVENT
DTSTAMP:20260426T030853Z
DTSTART;TZID=Europe/Berlin:20251207T100000
DTEND;TZID=Europe/Berlin:20251207T110000
SUMMARY:Po-mJC (§75 SpO) NSG EHV/NH/Buteo vs HC Elbflorenz 2006 (7017)
UID:8be27343-c362-497f-9742-223159759b6b
STATUS:CONFIRMED
LAST-MODIFIED:20251208T111057Z
DESCRIPTION:MHV-Pokal männl. Jugend C\nBegegnungs-Nr: 7017\nHeim: NSG EHV/NH/Buteo\nGast: HC Elbflorenz 2006\nHalle: Sachsenhalle Chemnitz (32101)\nAdresse: Straße Usti nad Labem 275\, 09119 Chemnitz\n
LOCATION:Sachsenhalle Chemnitz (32101): Straße Usti nad Labem 275\, 09119 Chemnitz
CATEGORIES:Saison 2025/26
END:VEVENT
BEGIN:VEVENT
DTSTAMP:20260426T030853Z
DTSTART;TZID=Europe/Berlin:20260111T140000
DTEND;TZID=Europe/Berlin:20260111T150000
SUMMARY:Po-mJC (§75 SpO) DRHV 06 vs HC Elbflorenz 2006 (7024)
UID:3be120d2-19a2-4066-b1df-d96fd33a5d76
STATUS:CONFIRMED
LAST-MODIFIED:20260111T174122Z
DESCRIPTION:MHV-Pokal männl. Jugend C\nBegegnungs-Nr: 7024\nHeim: DRHV 06\nGast: HC Elbflorenz 2006\nHalle: Anhalt-Arena Dessau (3027)\nAdresse: An der Robert-Bosch-Straße 54\, 06847 Dessau-Roßlau / OT Alten\n
LOCATION:Anhalt-Arena Dessau (3027): An der Robert-Bosch-Straße 54\, 06847 Dessau-Roßlau / OT Alten
CATEGORIES:Saison 2025/26
END:VEVENT
BEGIN:VEVENT
DTSTAMP:20260426T030853Z
DTSTART;TZID=Europe/Berlin:20260118T100000
DTEND;TZID=Europe/Berlin:20260118T110000
SUMMARY:Po-mJC (§75 SpO) USV Halle vs HC Elbflorenz 2006 (7025)
UID:26f12e07-14d7-4c2a-b72e-8443d8237469
STATUS:CONFIRMED
LAST-MODIFIED:20260118T194852Z
DESCRIPTION:MHV-Pokal männl. Jugend C\nBegegnungs-Nr: 7025\nHeim: USV Halle\nGast: HC Elbflorenz 2006\nHalle: Dreifelderhalle Sportgymnasium Halle/Saale (4127)\nAdresse: Robert-Koch-Straße 33 a\, 06128 Halle\n
LOCATION:Dreifelderhalle Sportgymnasium Halle/Saale (4127): Robert-Koch-Straße 33 a\, 06128 Halle
CATEGORIES:Saison 2025/26
END:VEVENT
END:VCALENDAR
