BEGIN:VCALENDAR
PRODID:-//nuDatenautomaten//framework iCal4j //DE
VERSION:2.0
CALSCALE:GREGORIAN
BEGIN:VTIMEZONE
TZID:Europe/Berlin
LAST-MODIFIED:20260306T231828Z
TZURL:https://www.tzurl.org/zoneinfo/Europe/Berlin
X-LIC-LOCATION:Europe/Berlin
X-PROLEPTIC-TZNAME:LMT
BEGIN:STANDARD
TZNAME:CET
TZOFFSETFROM:+005328
TZOFFSETTO:+0100
DTSTART:18930401T000000
END:STANDARD
BEGIN:DAYLIGHT
TZNAME:CEST
TZOFFSETFROM:+0100
TZOFFSETTO:+0200
DTSTART:19160430T230000
RDATE:19400401T020000
RDATE:19430329T020000
RDATE:19460414T020000
RDATE:19470406T030000
RDATE:19480418T020000
RDATE:19490410T020000
RDATE:19800406T020000
END:DAYLIGHT
BEGIN:STANDARD
TZNAME:CET
TZOFFSETFROM:+0200
TZOFFSETTO:+0100
DTSTART:19161001T010000
RDATE:19421102T030000
RDATE:19431004T030000
RDATE:19441002T030000
RDATE:19451118T030000
RDATE:19461007T030000
END:STANDARD
BEGIN:DAYLIGHT
TZNAME:CEST
TZOFFSETFROM:+0100
TZOFFSETTO:+0200
DTSTART:19170416T020000
RRULE:FREQ=YEARLY;UNTIL=19180415T010000Z;BYMONTH=4;BYDAY=3MO
END:DAYLIGHT
BEGIN:STANDARD
TZNAME:CET
TZOFFSETFROM:+0200
TZOFFSETTO:+0100
DTSTART:19170917T030000
RRULE:FREQ=YEARLY;UNTIL=19180916T010000Z;BYMONTH=9;BYDAY=3MO
END:STANDARD
BEGIN:DAYLIGHT
TZNAME:CEST
TZOFFSETFROM:+0100
TZOFFSETTO:+0200
DTSTART:19440403T020000
RRULE:FREQ=YEARLY;UNTIL=19450402T010000Z;BYMONTH=4;BYDAY=1MO
END:DAYLIGHT
BEGIN:DAYLIGHT
TZNAME:CEMT
TZOFFSETFROM:+0200
TZOFFSETTO:+0300
DTSTART:19450524T020000
RDATE:19470511T030000
END:DAYLIGHT
BEGIN:DAYLIGHT
TZNAME:CEST
TZOFFSETFROM:+0300
TZOFFSETTO:+0200
DTSTART:19450924T030000
RDATE:19470629T030000
END:DAYLIGHT
BEGIN:STANDARD
TZNAME:CET
TZOFFSETFROM:+0100
TZOFFSETTO:+0100
DTSTART:19460101T000000
RDATE:19800101T000000
END:STANDARD
BEGIN:STANDARD
TZNAME:CET
TZOFFSETFROM:+0200
TZOFFSETTO:+0100
DTSTART:19471005T030000
RRULE:FREQ=YEARLY;UNTIL=19491002T010000Z;BYMONTH=10;BYDAY=1SU
END:STANDARD
BEGIN:STANDARD
TZNAME:CET
TZOFFSETFROM:+0200
TZOFFSETTO:+0100
DTSTART:19800928T030000
RRULE:FREQ=YEARLY;UNTIL=19950924T010000Z;BYMONTH=9;BYDAY=-1SU
END:STANDARD
BEGIN:DAYLIGHT
TZNAME:CEST
TZOFFSETFROM:+0100
TZOFFSETTO:+0200
DTSTART:19810329T020000
RRULE:FREQ=YEARLY;BYMONTH=3;BYDAY=-1SU
END:DAYLIGHT
BEGIN:STANDARD
TZNAME:CET
TZOFFSETFROM:+0200
TZOFFSETTO:+0100
DTSTART:19961027T030000
RRULE:FREQ=YEARLY;BYMONTH=10;BYDAY=-1SU
END:STANDARD
END:VTIMEZONE
BEGIN:VEVENT
DTSTAMP:20260426T031233Z
DTSTART;TZID=Europe/Berlin:20251026T140000
DTEND;TZID=Europe/Berlin:20251026T153000
SUMMARY:Verbandsliga Staffel Ost HC Elbflorenz 2006 III vs HSV 1923 Pulsnitz (13034)
UID:1a7344a2-1369-48b8-8309-10923bca25ef
STATUS:CONFIRMED
LAST-MODIFIED:20251028T222355Z
DESCRIPTION:Verbandsliga Männer Staffel Ost\nBegegnungs-Nr: 13034\nHeim: HC Elbflorenz 2006 III\nGast: HSV 1923 Pulsnitz\nHalle: JOYNEXT Arena Dresden (Spielfeld 2) (33112b)\nAdresse: Magdeburger Straße 10\, 01067 Dresden\n
LOCATION:JOYNEXT Arena Dresden (Spielfeld 2) (33112b): Magdeburger Straße 10\, 01067 Dresden
CATEGORIES:Saison 2025/26
END:VEVENT
BEGIN:VEVENT
DTSTAMP:20260426T031233Z
DTSTART;TZID=Europe/Berlin:20250920T180000
DTEND;TZID=Europe/Berlin:20250920T193000
SUMMARY:Verbandsliga Staffel Ost HC Elbflorenz 2006 III vs Radeberger SV (13020)
UID:e8de6a11-2b29-4121-b74b-1ec13ca83a2a
STATUS:CONFIRMED
LAST-MODIFIED:20250926T083938Z
DESCRIPTION:Verbandsliga Männer Staffel Ost\nBegegnungs-Nr: 13020\nHeim: HC Elbflorenz 2006 III\nGast: Radeberger SV\nHalle: BallsportARENA Dresden (33133)\nAdresse: Weißeritzstraße 4\, 01067 Dresden\n
LOCATION:BallsportARENA Dresden (33133): Weißeritzstraße 4\, 01067 Dresden
CATEGORIES:Saison 2025/26
END:VEVENT
BEGIN:VEVENT
DTSTAMP:20260426T031233Z
DTSTART;TZID=Europe/Berlin:20250907T140000
DTEND;TZID=Europe/Berlin:20250907T153000
SUMMARY:Verbandsliga Staffel Ost HC Elbflorenz 2006 III vs Radebeuler HV (13009)
UID:f6f24860-694b-451f-aca5-51748cb7cac1
STATUS:CONFIRMED
LAST-MODIFIED:20250912T083905Z
DESCRIPTION:Verbandsliga Männer Staffel Ost\nBegegnungs-Nr: 13009\nHeim: HC Elbflorenz 2006 III\nGast: Radebeuler HV\nHalle: BallsportARENA Dresden (33133)\nAdresse: Weißeritzstraße 4\, 01067 Dresden\n
LOCATION:BallsportARENA Dresden (33133): Weißeritzstraße 4\, 01067 Dresden
CATEGORIES:Saison 2025/26
END:VEVENT
BEGIN:VEVENT
DTSTAMP:20260426T031233Z
DTSTART;TZID=Europe/Berlin:20260418T140000
DTEND;TZID=Europe/Berlin:20260418T153000
SUMMARY:Verbandsliga Staffel Ost HC Elbflorenz 2006 III vs ESV Dresden (13123)
UID:5392c788-02ed-4039-80f3-00acafeb73d9
STATUS:CONFIRMED
LAST-MODIFIED:20260419T175804Z
DESCRIPTION:Verbandsliga Männer Staffel Ost\nBegegnungs-Nr: 13123\nHeim: HC Elbflorenz 2006 III\nGast: ESV Dresden\nHalle: BallsportARENA Dresden (33133)\nAdresse: Weißeritzstraße 4\, 01067 Dresden\n
LOCATION:BallsportARENA Dresden (33133): Weißeritzstraße 4\, 01067 Dresden
CATEGORIES:Saison 2025/26
END:VEVENT
BEGIN:VEVENT
DTSTAMP:20260426T031233Z
DTSTART;TZID=Europe/Berlin:20260322T143000
DTEND;TZID=Europe/Berlin:20260322T160000
SUMMARY:Verbandsliga Staffel Ost HC Elbflorenz 2006 III vs SV Niederau (13111)
UID:9d4a8a64-e940-4435-af63-e0b7419c7685
STATUS:CONFIRMED
LAST-MODIFIED:20260324T093340Z
DESCRIPTION:Verbandsliga Männer Staffel Ost\nBegegnungs-Nr: 13111\nHeim: HC Elbflorenz 2006 III\nGast: SV Niederau\nHalle: BallsportARENA Dresden (33133)\nAdresse: Weißeritzstraße 4\, 01067 Dresden\n
LOCATION:BallsportARENA Dresden (33133): Weißeritzstraße 4\, 01067 Dresden
CATEGORIES:Saison 2025/26
END:VEVENT
BEGIN:VEVENT
DTSTAMP:20260426T031233Z
DTSTART;TZID=Europe/Berlin:20260207T140000
DTEND;TZID=Europe/Berlin:20260207T153000
SUMMARY:Verbandsliga Staffel Ost HC Elbflorenz 2006 III vs HSV Dresden II (13093)
UID:b7eda92f-6a91-4a24-9c5e-014c6fd9e1b1
STATUS:CONFIRMED
LAST-MODIFIED:20260213T191558Z
DESCRIPTION:Verbandsliga Männer Staffel Ost\nBegegnungs-Nr: 13093\nHeim: HC Elbflorenz 2006 III\nGast: HSV Dresden II\nHalle: BallsportARENA Dresden (33133)\nAdresse: Weißeritzstraße 4\, 01067 Dresden\n
LOCATION:BallsportARENA Dresden (33133): Weißeritzstraße 4\, 01067 Dresden
CATEGORIES:Saison 2025/26
END:VEVENT
BEGIN:VEVENT
DTSTAMP:20260426T031233Z
DTSTART;TZID=Europe/Berlin:20260125T163000
DTEND;TZID=Europe/Berlin:20260125T180000
SUMMARY:Verbandsliga Staffel Ost HC Elbflorenz 2006 III vs HSV Weinböhla (13079)
UID:687c9d83-92ce-4260-a944-803bdae9776a
STATUS:CONFIRMED
LAST-MODIFIED:20260202T074904Z
DESCRIPTION:Verbandsliga Männer Staffel Ost\nBegegnungs-Nr: 13079\nHeim: HC Elbflorenz 2006 III\nGast: HSV Weinböhla\nHalle: BallsportARENA Dresden - 2.Spielfeld (33137)\nAdresse: Weißeritzstraße 4\, 01067 Dresden\n
LOCATION:BallsportARENA Dresden - 2.Spielfeld (33137): Weißeritzstraße 4\, 01067 Dresden
CATEGORIES:Saison 2025/26
END:VEVENT
BEGIN:VEVENT
DTSTAMP:20260426T031233Z
DTSTART;TZID=Europe/Berlin:20260111T170000
DTEND;TZID=Europe/Berlin:20260111T183000
SUMMARY:Verbandsliga Staffel Ost HC Elbflorenz 2006 III vs Stahl Rietschen (13069)
UID:bbdf1924-62ed-4759-ae96-f35f29f18a39
STATUS:CONFIRMED
LAST-MODIFIED:20260116T191438Z
DESCRIPTION:Verbandsliga Männer Staffel Ost\nBegegnungs-Nr: 13069\nHeim: HC Elbflorenz 2006 III\nGast: Stahl Rietschen\nHalle: BallsportARENA Dresden (33133)\nAdresse: Weißeritzstraße 4\, 01067 Dresden\n
LOCATION:BallsportARENA Dresden (33133): Weißeritzstraße 4\, 01067 Dresden
CATEGORIES:Saison 2025/26
END:VEVENT
BEGIN:VEVENT
DTSTAMP:20260426T031233Z
DTSTART;TZID=Europe/Berlin:20251206T120000
DTEND;TZID=Europe/Berlin:20251206T133000
SUMMARY:Verbandsliga Staffel Ost HC Elbflorenz 2006 III vs TSV 1862 Radeburg (13063)
UID:0b312cb2-5c43-4365-bee7-ac94a3303fff
STATUS:CONFIRMED
LAST-MODIFIED:20251230T081959Z
DESCRIPTION:Verbandsliga Männer Staffel Ost\nBegegnungs-Nr: 13063\nHeim: HC Elbflorenz 2006 III\nGast: TSV 1862 Radeburg\nHalle: BallsportARENA Dresden - 2.Spielfeld (33137)\nAdresse: Weißeritzstraße 4\, 01067 Dresden\n
LOCATION:BallsportARENA Dresden - 2.Spielfeld (33137): Weißeritzstraße 4\, 01067 Dresden
CATEGORIES:Saison 2025/26
END:VEVENT
BEGIN:VEVENT
DTSTAMP:20260426T031233Z
DTSTART;TZID=Europe/Berlin:20251123T140000
DTEND;TZID=Europe/Berlin:20251123T153000
SUMMARY:Verbandsliga Staffel Ost HC Elbflorenz 2006 III vs OHC Bernstadt (13051)
UID:33d78e96-ffe3-4a5b-b255-1d087dcaeeb2
STATUS:CONFIRMED
LAST-MODIFIED:20251230T081724Z
DESCRIPTION:Verbandsliga Männer Staffel Ost\nBegegnungs-Nr: 13051\nHeim: HC Elbflorenz 2006 III\nGast: OHC Bernstadt\nHalle: BallsportARENA Dresden (33133)\nAdresse: Weißeritzstraße 4\, 01067 Dresden\n
LOCATION:BallsportARENA Dresden (33133): Weißeritzstraße 4\, 01067 Dresden
CATEGORIES:Saison 2025/26
END:VEVENT
BEGIN:VEVENT
DTSTAMP:20260426T031233Z
DTSTART;TZID=Europe/Berlin:20251102T160000
DTEND;TZID=Europe/Berlin:20251102T173000
SUMMARY:Verbandsliga Staffel Ost HC Elbflorenz 2006 III vs SG Pirna/Heidenau II (13039)
UID:12a1ff6a-5379-4a31-a14f-40e35ff5e7ff
STATUS:CONFIRMED
LAST-MODIFIED:20251109T120029Z
DESCRIPTION:Verbandsliga Männer Staffel Ost\nBegegnungs-Nr: 13039\nHeim: HC Elbflorenz 2006 III\nGast: SG Pirna/Heidenau II\nHalle: BallsportARENA Dresden (33133)\nAdresse: Weißeritzstraße 4\, 01067 Dresden\n
LOCATION:BallsportARENA Dresden (33133): Weißeritzstraße 4\, 01067 Dresden
CATEGORIES:Saison 2025/26
END:VEVENT
BEGIN:VEVENT
DTSTAMP:20260426T031233Z
DTSTART;TZID=Europe/Berlin:20250927T163000
DTEND;TZID=Europe/Berlin:20250927T180000
SUMMARY:Verbandsliga Staffel Ost HSV Dresden II vs HC Elbflorenz 2006 III (13026)
UID:d28b62b5-19c0-4757-8f4b-f43871e0d484
STATUS:CONFIRMED
LAST-MODIFIED:20251019T100459Z
DESCRIPTION:Verbandsliga Männer Staffel Ost\nBegegnungs-Nr: 13026\nHeim: HSV Dresden II\nGast: HC Elbflorenz 2006 III\nHalle: SH 121. Oberschule Dresden (33102)\nAdresse: Gamigstraße 28/30\, 01239 Dresden\n
LOCATION:SH 121. Oberschule Dresden (33102): Gamigstraße 28/30\, 01239 Dresden
CATEGORIES:Saison 2025/26
END:VEVENT
BEGIN:VEVENT
DTSTAMP:20260426T031233Z
DTSTART;TZID=Europe/Berlin:20251004T190000
DTEND;TZID=Europe/Berlin:20251004T203000
SUMMARY:Verbandsliga Staffel Ost HSV Weinböhla vs HC Elbflorenz 2006 III (13013)
UID:fdf0dbb6-4229-4a75-b711-fd627f68ebf0
STATUS:CONFIRMED
LAST-MODIFIED:20251019T101447Z
DESCRIPTION:Verbandsliga Männer Staffel Ost\nBegegnungs-Nr: 13013\nHeim: HSV Weinböhla\nGast: HC Elbflorenz 2006 III\nHalle: Nassau-SH Weinböhla (33224)\nAdresse: Meißner Str. 1\, 01689 Weinböhla\n
LOCATION:Nassau-SH Weinböhla (33224): Meißner Str. 1\, 01689 Weinböhla
CATEGORIES:Saison 2025/26
END:VEVENT
BEGIN:VEVENT
DTSTAMP:20260426T031233Z
DTSTART;TZID=Europe/Berlin:20250830T173000
DTEND;TZID=Europe/Berlin:20250830T190000
SUMMARY:Verbandsliga Staffel Ost Stahl Rietschen vs HC Elbflorenz 2006 III (13002)
UID:dab5de2f-7e45-4a30-840b-30bbbcd00012
STATUS:CONFIRMED
LAST-MODIFIED:20250912T080624Z
DESCRIPTION:Verbandsliga Männer Staffel Ost\nBegegnungs-Nr: 13002\nHeim: Stahl Rietschen\nGast: HC Elbflorenz 2006 III\nHalle: Oberlausitz-SH Rietschen (34403)\nAdresse: Am Festplatz 1\, 02956 Rietschen\n
LOCATION:Oberlausitz-SH Rietschen (34403): Am Festplatz 1\, 02956 Rietschen
CATEGORIES:Saison 2025/26
END:VEVENT
BEGIN:VEVENT
DTSTAMP:20260426T031233Z
DTSTART;TZID=Europe/Berlin:20260425T183000
DTEND;TZID=Europe/Berlin:20260425T200000
SUMMARY:Verbandsliga Staffel Ost TSV 1862 Radeburg vs HC Elbflorenz 2006 III (13129)
UID:05b63404-9c8d-43de-b1db-c11775d5212f
STATUS:CONFIRMED
DESCRIPTION:Verbandsliga Männer Staffel Ost\nBegegnungs-Nr: 13129\nHeim: TSV 1862 Radeburg\nGast: HC Elbflorenz 2006 III\nHalle: Paul-Tiedemann-SH Radeburg (33214)\nAdresse: Meißner Berg 83c\, 01471 Radeburg\n
LOCATION:Paul-Tiedemann-SH Radeburg (33214): Meißner Berg 83c\, 01471 Radeburg
CATEGORIES:Saison 2025/26
END:VEVENT
BEGIN:VEVENT
DTSTAMP:20260426T031233Z
DTSTART;TZID=Europe/Berlin:20260328T181500
DTEND;TZID=Europe/Berlin:20260328T194500
SUMMARY:Verbandsliga Staffel Ost OHC Bernstadt vs HC Elbflorenz 2006 III (13118)
UID:b55e0fcb-8167-4495-83a6-f4826461d6d6
STATUS:CONFIRMED
LAST-MODIFIED:20260401T121100Z
DESCRIPTION:Verbandsliga Männer Staffel Ost\nBegegnungs-Nr: 13118\nHeim: OHC Bernstadt\nGast: HC Elbflorenz 2006 III\nHalle: Sporthalle \"Pließnitztal\" Bernstadt (34108)\nAdresse: Am Pließnitztal 3\, 02748 Bernstadt a.d. Eigen OT Kunnersdorf\n
LOCATION:Sporthalle \"Pließnitztal\" Bernstadt (34108): Am Pließnitztal 3\, 02748 Bernstadt a.d. Eigen OT Kunnersdorf
CATEGORIES:Saison 2025/26
END:VEVENT
BEGIN:VEVENT
DTSTAMP:20260426T031233Z
DTSTART;TZID=Europe/Berlin:20260307T163000
DTEND;TZID=Europe/Berlin:20260307T180000
SUMMARY:Verbandsliga Staffel Ost SG Pirna/Heidenau II vs HC Elbflorenz 2006 III (13106)
UID:862a9e96-92f0-49d5-9bae-0d307dc8a339
STATUS:CONFIRMED
LAST-MODIFIED:20260310T094113Z
DESCRIPTION:Verbandsliga Männer Staffel Ost\nBegegnungs-Nr: 13106\nHeim: SG Pirna/Heidenau II\nGast: HC Elbflorenz 2006 III\nHalle: SH Pirna-Sonnenstein (33302)\nAdresse: Struppener Str. 9\, 01796 Pirna\n
LOCATION:SH Pirna-Sonnenstein (33302): Struppener Str. 9\, 01796 Pirna
CATEGORIES:Saison 2025/26
END:VEVENT
BEGIN:VEVENT
DTSTAMP:20260426T031233Z
DTSTART;TZID=Europe/Berlin:20260301T160000
DTEND;TZID=Europe/Berlin:20260301T173000
SUMMARY:Verbandsliga Staffel Ost HSV 1923 Pulsnitz vs HC Elbflorenz 2006 III (13099)
UID:741bfbe2-bf34-4844-834e-6e5221df210e
STATUS:CONFIRMED
LAST-MODIFIED:20260304T103445Z
DESCRIPTION:Verbandsliga Männer Staffel Ost\nBegegnungs-Nr: 13099\nHeim: HSV 1923 Pulsnitz\nGast: HC Elbflorenz 2006 III\nHalle: Sportkomplex Pulsnitz (34208)\nAdresse: Hempelstr. 8\, 01896 Pulsnitz\n
LOCATION:Sportkomplex Pulsnitz (34208): Hempelstr. 8\, 01896 Pulsnitz
CATEGORIES:Saison 2025/26
END:VEVENT
BEGIN:VEVENT
DTSTAMP:20260426T031233Z
DTSTART;TZID=Europe/Berlin:20260131T181500
DTEND;TZID=Europe/Berlin:20260131T194500
SUMMARY:Verbandsliga Staffel Ost Radeberger SV vs HC Elbflorenz 2006 III (13085)
UID:717e09ee-0bbe-4f92-a4df-6c07c92753a1
STATUS:CONFIRMED
LAST-MODIFIED:20260202T092218Z
DESCRIPTION:Verbandsliga Männer Staffel Ost\nBegegnungs-Nr: 13085\nHeim: Radeberger SV\nGast: HC Elbflorenz 2006 III\nHalle: 3-Feld-Halle-BSZ Radeberg (34209)\nAdresse: Robert-Blum-Weg 5\, 01454 Radeberg\n
LOCATION:3-Feld-Halle-BSZ Radeberg (34209): Robert-Blum-Weg 5\, 01454 Radeberg
CATEGORIES:Saison 2025/26
END:VEVENT
BEGIN:VEVENT
DTSTAMP:20260426T031233Z
DTSTART;TZID=Europe/Berlin:20260117T180000
DTEND;TZID=Europe/Berlin:20260117T193000
SUMMARY:Verbandsliga Staffel Ost Radebeuler HV vs HC Elbflorenz 2006 III (13074)
UID:2fbd83e1-7a12-474e-b36b-f31125a0acae
STATUS:CONFIRMED
LAST-MODIFIED:20260202T073645Z
DESCRIPTION:Verbandsliga Männer Staffel Ost\nBegegnungs-Nr: 13074\nHeim: Radebeuler HV\nGast: HC Elbflorenz 2006 III\nHalle: Lößnitz-SH Radebeul (33204)\nAdresse: Steinbachstr. 13\, 01445 Radebeul\n
LOCATION:Lößnitz-SH Radebeul (33204): Steinbachstr. 13\, 01445 Radebeul
CATEGORIES:Saison 2025/26
END:VEVENT
BEGIN:VEVENT
DTSTAMP:20260426T031233Z
DTSTART;TZID=Europe/Berlin:20251130T180000
DTEND;TZID=Europe/Berlin:20251130T193000
SUMMARY:Verbandsliga Staffel Ost ESV Dresden vs HC Elbflorenz 2006 III (13058)
UID:2ff79c5a-98e2-4d09-8ecc-2acaa53ae6a0
STATUS:CONFIRMED
LAST-MODIFIED:20251204T113431Z
DESCRIPTION:Verbandsliga Männer Staffel Ost\nBegegnungs-Nr: 13058\nHeim: ESV Dresden\nGast: HC Elbflorenz 2006 III\nHalle: Lok-SH Dresden (33106)\nAdresse: Emmerich-Ambros-Ufer 74\, 01159 Dresden\n
LOCATION:Lok-SH Dresden (33106): Emmerich-Ambros-Ufer 74\, 01159 Dresden
CATEGORIES:Saison 2025/26
END:VEVENT
BEGIN:VEVENT
DTSTAMP:20260426T031233Z
DTSTART;TZID=Europe/Berlin:20251108T170000
DTEND;TZID=Europe/Berlin:20251108T183000
SUMMARY:Verbandsliga Staffel Ost SV Niederau vs HC Elbflorenz 2006 III (13046)
UID:1b322617-fa9a-4fe7-a095-22349b49cf4f
STATUS:CONFIRMED
LAST-MODIFIED:20251116T222159Z
DESCRIPTION:Verbandsliga Männer Staffel Ost\nBegegnungs-Nr: 13046\nHeim: SV Niederau\nGast: HC Elbflorenz 2006 III\nHalle: SH \"Heiliger Grund\" Meißen (33212)\nAdresse: Goethestraße 27\, 01662 Meißen\n
LOCATION:SH \"Heiliger Grund\" Meißen (33212): Goethestraße 27\, 01662 Meißen
CATEGORIES:Saison 2025/26
END:VEVENT
END:VCALENDAR
