BEGIN:VCALENDAR
PRODID:-//nuDatenautomaten//framework iCal4j //DE
VERSION:2.0
CALSCALE:GREGORIAN
BEGIN:VTIMEZONE
TZID:Europe/Berlin
LAST-MODIFIED:20260306T231828Z
TZURL:https://www.tzurl.org/zoneinfo/Europe/Berlin
X-LIC-LOCATION:Europe/Berlin
X-PROLEPTIC-TZNAME:LMT
BEGIN:STANDARD
TZNAME:CET
TZOFFSETFROM:+005328
TZOFFSETTO:+0100
DTSTART:18930401T000000
END:STANDARD
BEGIN:DAYLIGHT
TZNAME:CEST
TZOFFSETFROM:+0100
TZOFFSETTO:+0200
DTSTART:19160430T230000
RDATE:19400401T020000
RDATE:19430329T020000
RDATE:19460414T020000
RDATE:19470406T030000
RDATE:19480418T020000
RDATE:19490410T020000
RDATE:19800406T020000
END:DAYLIGHT
BEGIN:STANDARD
TZNAME:CET
TZOFFSETFROM:+0200
TZOFFSETTO:+0100
DTSTART:19161001T010000
RDATE:19421102T030000
RDATE:19431004T030000
RDATE:19441002T030000
RDATE:19451118T030000
RDATE:19461007T030000
END:STANDARD
BEGIN:DAYLIGHT
TZNAME:CEST
TZOFFSETFROM:+0100
TZOFFSETTO:+0200
DTSTART:19170416T020000
RRULE:FREQ=YEARLY;UNTIL=19180415T010000Z;BYMONTH=4;BYDAY=3MO
END:DAYLIGHT
BEGIN:STANDARD
TZNAME:CET
TZOFFSETFROM:+0200
TZOFFSETTO:+0100
DTSTART:19170917T030000
RRULE:FREQ=YEARLY;UNTIL=19180916T010000Z;BYMONTH=9;BYDAY=3MO
END:STANDARD
BEGIN:DAYLIGHT
TZNAME:CEST
TZOFFSETFROM:+0100
TZOFFSETTO:+0200
DTSTART:19440403T020000
RRULE:FREQ=YEARLY;UNTIL=19450402T010000Z;BYMONTH=4;BYDAY=1MO
END:DAYLIGHT
BEGIN:DAYLIGHT
TZNAME:CEMT
TZOFFSETFROM:+0200
TZOFFSETTO:+0300
DTSTART:19450524T020000
RDATE:19470511T030000
END:DAYLIGHT
BEGIN:DAYLIGHT
TZNAME:CEST
TZOFFSETFROM:+0300
TZOFFSETTO:+0200
DTSTART:19450924T030000
RDATE:19470629T030000
END:DAYLIGHT
BEGIN:STANDARD
TZNAME:CET
TZOFFSETFROM:+0100
TZOFFSETTO:+0100
DTSTART:19460101T000000
RDATE:19800101T000000
END:STANDARD
BEGIN:STANDARD
TZNAME:CET
TZOFFSETFROM:+0200
TZOFFSETTO:+0100
DTSTART:19471005T030000
RRULE:FREQ=YEARLY;UNTIL=19491002T010000Z;BYMONTH=10;BYDAY=1SU
END:STANDARD
BEGIN:STANDARD
TZNAME:CET
TZOFFSETFROM:+0200
TZOFFSETTO:+0100
DTSTART:19800928T030000
RRULE:FREQ=YEARLY;UNTIL=19950924T010000Z;BYMONTH=9;BYDAY=-1SU
END:STANDARD
BEGIN:DAYLIGHT
TZNAME:CEST
TZOFFSETFROM:+0100
TZOFFSETTO:+0200
DTSTART:19810329T020000
RRULE:FREQ=YEARLY;BYMONTH=3;BYDAY=-1SU
END:DAYLIGHT
BEGIN:STANDARD
TZNAME:CET
TZOFFSETFROM:+0200
TZOFFSETTO:+0100
DTSTART:19961027T030000
RRULE:FREQ=YEARLY;BYMONTH=10;BYDAY=-1SU
END:STANDARD
END:VTIMEZONE
BEGIN:VEVENT
DTSTAMP:20260421T031342Z
DTSTART;TZID=Europe/Berlin:20251213T100000
DTEND;TZID=Europe/Berlin:20251213T110000
SUMMARY:ROL wJE Rotation Weißenborn vs HSG Sachsenring (480061)
UID:3987b9e1-3fa4-47c5-89b2-6136c44eb21e
STATUS:CONFIRMED
LAST-MODIFIED:20251213T162324Z
DESCRIPTION:Regionsoberliga weibl. E-Jugend\nBegegnungs-Nr: 480061\nHeim: Rotation Weißenborn\nGast: HSG Sachsenring\nHalle: SH Schoeller Weißenborn (32415)\nAdresse: Lichtenberger Straße 8\, 09600 Weißenborn\n
LOCATION:SH Schoeller Weißenborn (32415): Lichtenberger Straße 8\, 09600 Weißenborn
CATEGORIES:Saison 2025/26
END:VEVENT
BEGIN:VEVENT
DTSTAMP:20260421T031342Z
DTSTART;TZID=Europe/Berlin:20260228T110000
DTEND;TZID=Europe/Berlin:20260228T120000
SUMMARY:ROL wJE Rotation Weißenborn vs HC Fraureuth (480094)
UID:1a4b595a-c678-4820-91ab-398cd908643f
STATUS:CONFIRMED
LAST-MODIFIED:20260302T134733Z
DESCRIPTION:Regionsoberliga weibl. E-Jugend\nBegegnungs-Nr: 480094\nHeim: Rotation Weißenborn\nGast: HC Fraureuth\nHalle: SH Oberlungwitz (32203)\nAdresse: Erlbacher Str. 19\, 09353 Oberlungwitz\n
LOCATION:SH Oberlungwitz (32203): Erlbacher Str. 19\, 09353 Oberlungwitz
CATEGORIES:Saison 2025/26
END:VEVENT
BEGIN:VEVENT
DTSTAMP:20260421T031342Z
DTSTART;TZID=Europe/Berlin:20260228T120000
DTEND;TZID=Europe/Berlin:20260228T130000
SUMMARY:ROL wJE Rotation Weißenborn vs SG Zschorlau/Schneeberg (480095)
UID:3eb4afc7-a6e5-4378-82f9-5c0e832ce03d
STATUS:CONFIRMED
LAST-MODIFIED:20260302T134856Z
DESCRIPTION:Regionsoberliga weibl. E-Jugend\nBegegnungs-Nr: 480095\nHeim: Rotation Weißenborn\nGast: SG Zschorlau/Schneeberg\nHalle: SH Oberlungwitz (32203)\nAdresse: Erlbacher Str. 19\, 09353 Oberlungwitz\n
LOCATION:SH Oberlungwitz (32203): Erlbacher Str. 19\, 09353 Oberlungwitz
CATEGORIES:Saison 2025/26
END:VEVENT
BEGIN:VEVENT
DTSTAMP:20260421T031342Z
DTSTART;TZID=Europe/Berlin:20260321T100000
DTEND;TZID=Europe/Berlin:20260321T110000
SUMMARY:ROL wJE Rotation Weißenborn vs HSV Marienberg (480101)
UID:9704cd69-215c-4077-b0ab-ffd38da6d1e5
STATUS:CONFIRMED
LAST-MODIFIED:20260325T130435Z
DESCRIPTION:Regionsoberliga weibl. E-Jugend\nBegegnungs-Nr: 480101\nHeim: Rotation Weißenborn\nGast: HSV Marienberg\nHalle: SH Schoeller Weißenborn (32415)\nAdresse: Lichtenberger Straße 8\, 09600 Weißenborn\n
LOCATION:SH Schoeller Weißenborn (32415): Lichtenberger Straße 8\, 09600 Weißenborn
CATEGORIES:Saison 2025/26
END:VEVENT
BEGIN:VEVENT
DTSTAMP:20260421T031342Z
DTSTART;TZID=Europe/Berlin:20260321T130000
DTEND;TZID=Europe/Berlin:20260321T140000
SUMMARY:ROL wJE Rotation Weißenborn vs HSV Marienberg II (480104)
UID:6e58f4b1-73c8-4ace-bcaf-675c9eb28b7e
STATUS:CONFIRMED
LAST-MODIFIED:20260325T130814Z
DESCRIPTION:Regionsoberliga weibl. E-Jugend\nBegegnungs-Nr: 480104\nHeim: Rotation Weißenborn\nGast: HSV Marienberg II\nHalle: SH Schoeller Weißenborn (32415)\nAdresse: Lichtenberger Straße 8\, 09600 Weißenborn\n
LOCATION:SH Schoeller Weißenborn (32415): Lichtenberger Straße 8\, 09600 Weißenborn
CATEGORIES:Saison 2025/26
END:VEVENT
BEGIN:VEVENT
DTSTAMP:20260421T031342Z
DTSTART;TZID=Europe/Berlin:20260328T110000
DTEND;TZID=Europe/Berlin:20260328T120000
SUMMARY:ROL wJE Rotation Weißenborn vs Chemie Zwickau (480110)
UID:9c50f5ad-0784-4a48-a877-5cffd3864ff3
STATUS:CONFIRMED
LAST-MODIFIED:20260409T091703Z
DESCRIPTION:Regionsoberliga weibl. E-Jugend\nBegegnungs-Nr: 480110\nHeim: Rotation Weißenborn\nGast: Chemie Zwickau\nHalle: SH Lichtenstein (32223)\nAdresse: Innere Zwickauer Straße 5\, 09350 Lichtenstein\n
LOCATION:SH Lichtenstein (32223): Innere Zwickauer Straße 5\, 09350 Lichtenstein
CATEGORIES:Saison 2025/26
END:VEVENT
BEGIN:VEVENT
DTSTAMP:20260421T031342Z
DTSTART;TZID=Europe/Berlin:20260328T120000
DTEND;TZID=Europe/Berlin:20260328T130000
SUMMARY:ROL wJE Rotation Weißenborn vs BSV Sa. Zwickau (480111)
UID:81c26e02-83bb-481a-9433-f70196ed8ca5
STATUS:CONFIRMED
LAST-MODIFIED:20260409T091818Z
DESCRIPTION:Regionsoberliga weibl. E-Jugend\nBegegnungs-Nr: 480111\nHeim: Rotation Weißenborn\nGast: BSV Sa. Zwickau\nHalle: SH Lichtenstein (32223)\nAdresse: Innere Zwickauer Straße 5\, 09350 Lichtenstein\n
LOCATION:SH Lichtenstein (32223): Innere Zwickauer Straße 5\, 09350 Lichtenstein
CATEGORIES:Saison 2025/26
END:VEVENT
BEGIN:VEVENT
DTSTAMP:20260421T031342Z
DTSTART;TZID=Europe/Berlin:20260425T100000
DTEND;TZID=Europe/Berlin:20260425T110000
SUMMARY:ROL wJE Rotation Weißenborn vs HV Chemnitz (480125)
UID:4fded3ec-60cd-496f-a4f4-a1c092e4b066
STATUS:CONFIRMED
DESCRIPTION:Regionsoberliga weibl. E-Jugend\nBegegnungs-Nr: 480125\nHeim: Rotation Weißenborn\nGast: HV Chemnitz\nHalle: SH Schoeller Weißenborn (32415)\nAdresse: Lichtenberger Straße 8\, 09600 Weißenborn\n
LOCATION:SH Schoeller Weißenborn (32415): Lichtenberger Straße 8\, 09600 Weißenborn
CATEGORIES:Saison 2025/26
END:VEVENT
BEGIN:VEVENT
DTSTAMP:20260421T031342Z
DTSTART;TZID=Europe/Berlin:20260425T130000
DTEND;TZID=Europe/Berlin:20260425T140000
SUMMARY:ROL wJE Rotation Weißenborn vs BSV Limbach-O. (480128)
UID:dfad2dbd-caef-43d9-a20c-3dab697bc9e6
STATUS:CONFIRMED
DESCRIPTION:Regionsoberliga weibl. E-Jugend\nBegegnungs-Nr: 480128\nHeim: Rotation Weißenborn\nGast: BSV Limbach-O.\nHalle: SH Schoeller Weißenborn (32415)\nAdresse: Lichtenberger Straße 8\, 09600 Weißenborn\n
LOCATION:SH Schoeller Weißenborn (32415): Lichtenberger Straße 8\, 09600 Weißenborn
CATEGORIES:Saison 2025/26
END:VEVENT
BEGIN:VEVENT
DTSTAMP:20260421T031342Z
DTSTART;TZID=Europe/Berlin:20250914T110000
DTEND;TZID=Europe/Berlin:20250914T120000
SUMMARY:ROL wJE Rotation Weißenborn vs SV 04 Plauen-O. (480002)
UID:ff3a69d9-57c6-4ad7-9123-c0e0af58bea1
STATUS:CONFIRMED
LAST-MODIFIED:20250916T070255Z
DESCRIPTION:Regionsoberliga weibl. E-Jugend\nBegegnungs-Nr: 480002\nHeim: Rotation Weißenborn\nGast: SV 04 Plauen-O.\nHalle: SH Oberlungwitz (32203)\nAdresse: Erlbacher Str. 19\, 09353 Oberlungwitz\n
LOCATION:SH Oberlungwitz (32203): Erlbacher Str. 19\, 09353 Oberlungwitz
CATEGORIES:Saison 2025/26
END:VEVENT
BEGIN:VEVENT
DTSTAMP:20260421T031342Z
DTSTART;TZID=Europe/Berlin:20250914T120000
DTEND;TZID=Europe/Berlin:20250914T130000
SUMMARY:ROL wJE Rotation Weißenborn vs HC Glauchau/Meerane (480003)
UID:5f839d68-82ba-4fa6-afb4-1b37f55cefde
STATUS:CONFIRMED
LAST-MODIFIED:20250916T070333Z
DESCRIPTION:Regionsoberliga weibl. E-Jugend\nBegegnungs-Nr: 480003\nHeim: Rotation Weißenborn\nGast: HC Glauchau/Meerane\nHalle: SH Oberlungwitz (32203)\nAdresse: Erlbacher Str. 19\, 09353 Oberlungwitz\n
LOCATION:SH Oberlungwitz (32203): Erlbacher Str. 19\, 09353 Oberlungwitz
CATEGORIES:Saison 2025/26
END:VEVENT
BEGIN:VEVENT
DTSTAMP:20260421T031342Z
DTSTART;TZID=Europe/Berlin:20251115T100000
DTEND;TZID=Europe/Berlin:20251115T110000
SUMMARY:ROL wJE BSV Sa. Zwickau vs Rotation Weißenborn (480041)
UID:81be1e95-229a-495a-969d-d89df2d7b0b5
STATUS:CONFIRMED
LAST-MODIFIED:20251124T120529Z
DESCRIPTION:Regionsoberliga weibl. E-Jugend\nBegegnungs-Nr: 480041\nHeim: BSV Sa. Zwickau\nGast: Rotation Weißenborn\nHalle: SH Zwickau-Neuplanitz (32501)\nAdresse: Dortmunder Str. 7a\, 08062 Zwickau\n
LOCATION:SH Zwickau-Neuplanitz (32501): Dortmunder Str. 7a\, 08062 Zwickau
CATEGORIES:Saison 2025/26
END:VEVENT
BEGIN:VEVENT
DTSTAMP:20260421T031342Z
DTSTART;TZID=Europe/Berlin:20251115T120000
DTEND;TZID=Europe/Berlin:20251115T130000
SUMMARY:ROL wJE Chemie Zwickau vs Rotation Weißenborn (480043)
UID:b7554f6c-cab6-4463-87bf-3241f513acd2
STATUS:CONFIRMED
LAST-MODIFIED:20251124T120705Z
DESCRIPTION:Regionsoberliga weibl. E-Jugend\nBegegnungs-Nr: 480043\nHeim: Chemie Zwickau\nGast: Rotation Weißenborn\nHalle: SH Zwickau-Neuplanitz (32501)\nAdresse: Dortmunder Str. 7a\, 08062 Zwickau\n
LOCATION:SH Zwickau-Neuplanitz (32501): Dortmunder Str. 7a\, 08062 Zwickau
CATEGORIES:Saison 2025/26
END:VEVENT
BEGIN:VEVENT
DTSTAMP:20260421T031342Z
DTSTART;TZID=Europe/Berlin:20251129T100000
DTEND;TZID=Europe/Berlin:20251129T110000
SUMMARY:ROL wJE BSV Limbach-O. vs Rotation Weißenborn (480049)
UID:b7398f0d-e0a1-4754-95dc-5b4209db9e86
STATUS:CONFIRMED
LAST-MODIFIED:20251130T125645Z
DESCRIPTION:Regionsoberliga weibl. E-Jugend\nBegegnungs-Nr: 480049\nHeim: BSV Limbach-O.\nGast: Rotation Weißenborn\nHalle: GSH Limbach-Oberfrohna (32201)\nAdresse: Anna-Esche-Gäßchen 1\, 09212 Limbach-Oberfrohna\n
LOCATION:GSH Limbach-Oberfrohna (32201): Anna-Esche-Gäßchen 1\, 09212 Limbach-Oberfrohna
CATEGORIES:Saison 2025/26
END:VEVENT
BEGIN:VEVENT
DTSTAMP:20260421T031342Z
DTSTART;TZID=Europe/Berlin:20251129T120000
DTEND;TZID=Europe/Berlin:20251129T130000
SUMMARY:ROL wJE HV Chemnitz vs Rotation Weißenborn (480051)
UID:72c1d188-b32e-46f1-ba85-d09703b4a111
STATUS:CONFIRMED
LAST-MODIFIED:20251130T130055Z
DESCRIPTION:Regionsoberliga weibl. E-Jugend\nBegegnungs-Nr: 480051\nHeim: HV Chemnitz\nGast: Rotation Weißenborn\nHalle: GSH Limbach-Oberfrohna (32201)\nAdresse: Anna-Esche-Gäßchen 1\, 09212 Limbach-Oberfrohna\n
LOCATION:GSH Limbach-Oberfrohna (32201): Anna-Esche-Gäßchen 1\, 09212 Limbach-Oberfrohna
CATEGORIES:Saison 2025/26
END:VEVENT
BEGIN:VEVENT
DTSTAMP:20260421T031342Z
DTSTART;TZID=Europe/Berlin:20251213T110000
DTEND;TZID=Europe/Berlin:20251213T120000
SUMMARY:ROL wJE HSG Sachsenring vs Rotation Weißenborn (480062)
UID:cf929d0d-590d-4f65-83f8-2dc8787acd09
STATUS:CONFIRMED
LAST-MODIFIED:20251213T162611Z
DESCRIPTION:Regionsoberliga weibl. E-Jugend\nBegegnungs-Nr: 480062\nHeim: HSG Sachsenring\nGast: Rotation Weißenborn\nHalle: SH Schoeller Weißenborn (32415)\nAdresse: Lichtenberger Straße 8\, 09600 Weißenborn\n
LOCATION:SH Schoeller Weißenborn (32415): Lichtenberger Straße 8\, 09600 Weißenborn
CATEGORIES:Saison 2025/26
END:VEVENT
BEGIN:VEVENT
DTSTAMP:20260421T031342Z
DTSTART;TZID=Europe/Berlin:20251025T120000
DTEND;TZID=Europe/Berlin:20251025T130000
SUMMARY:ROL wJE SG Zschorlau/Schneeberg vs Rotation Weißenborn (480021)
UID:cf5c543d-c928-4161-be3a-517b69c29479
STATUS:CONFIRMED
LAST-MODIFIED:20251102T144333Z
DESCRIPTION:Regionsoberliga weibl. E-Jugend\nBegegnungs-Nr: 480021\nHeim: SG Zschorlau/Schneeberg\nGast: Rotation Weißenborn\nHalle: Silberstrom-Halle Schneeberg (32307)\nAdresse: Keilbergring 20\, 08289 Schneeberg\n
LOCATION:Silberstrom-Halle Schneeberg (32307): Keilbergring 20\, 08289 Schneeberg
CATEGORIES:Saison 2025/26
END:VEVENT
BEGIN:VEVENT
DTSTAMP:20260421T031342Z
DTSTART;TZID=Europe/Berlin:20251025T140000
DTEND;TZID=Europe/Berlin:20251025T150000
SUMMARY:ROL wJE HC Fraureuth vs Rotation Weißenborn (480023)
UID:f4f8937d-0f36-41d4-949c-b976b73a8b63
STATUS:CONFIRMED
LAST-MODIFIED:20251110T132925Z
DESCRIPTION:Regionsoberliga weibl. E-Jugend\nBegegnungs-Nr: 480023\nHeim: HC Fraureuth\nGast: Rotation Weißenborn\nHalle: Silberstrom-Halle Schneeberg (32307)\nAdresse: Keilbergring 20\, 08289 Schneeberg\n
LOCATION:Silberstrom-Halle Schneeberg (32307): Keilbergring 20\, 08289 Schneeberg
CATEGORIES:Saison 2025/26
END:VEVENT
BEGIN:VEVENT
DTSTAMP:20260421T031342Z
DTSTART;TZID=Europe/Berlin:20251109T120000
DTEND;TZID=Europe/Berlin:20251109T130000
SUMMARY:ROL wJE HSV Marienberg vs Rotation Weißenborn (480034)
UID:cefd6cc9-4389-425a-8bda-be969773561d
STATUS:CONFIRMED
LAST-MODIFIED:20251124T120205Z
DESCRIPTION:Regionsoberliga weibl. E-Jugend\nBegegnungs-Nr: 480034\nHeim: HSV Marienberg\nGast: Rotation Weißenborn\nHalle: SH am Goldkindstein Marienberg (32416)\nAdresse: Dr.-Wilhelm-Külz-Allee 23\, 09496 Marienberg\n
LOCATION:SH am Goldkindstein Marienberg (32416): Dr.-Wilhelm-Külz-Allee 23\, 09496 Marienberg
CATEGORIES:Saison 2025/26
END:VEVENT
BEGIN:VEVENT
DTSTAMP:20260421T031342Z
DTSTART;TZID=Europe/Berlin:20251109T140000
DTEND;TZID=Europe/Berlin:20251109T150000
SUMMARY:ROL wJE HSV Marienberg II vs Rotation Weißenborn (480036)
UID:d3cd8ba0-40a8-41bb-b58b-b5de8a3ae5d9
STATUS:CONFIRMED
LAST-MODIFIED:20251124T120422Z
DESCRIPTION:Regionsoberliga weibl. E-Jugend\nBegegnungs-Nr: 480036\nHeim: HSV Marienberg II\nGast: Rotation Weißenborn\nHalle: SH am Goldkindstein Marienberg (32416)\nAdresse: Dr.-Wilhelm-Külz-Allee 23\, 09496 Marienberg\n
LOCATION:SH am Goldkindstein Marienberg (32416): Dr.-Wilhelm-Külz-Allee 23\, 09496 Marienberg
CATEGORIES:Saison 2025/26
END:VEVENT
END:VCALENDAR
