BEGIN:VCALENDAR
PRODID:-//nuDatenautomaten//framework iCal4j //DE
VERSION:2.0
CALSCALE:GREGORIAN
BEGIN:VTIMEZONE
TZID:Europe/Berlin
LAST-MODIFIED:20260306T231828Z
TZURL:https://www.tzurl.org/zoneinfo/Europe/Berlin
X-LIC-LOCATION:Europe/Berlin
X-PROLEPTIC-TZNAME:LMT
BEGIN:STANDARD
TZNAME:CET
TZOFFSETFROM:+005328
TZOFFSETTO:+0100
DTSTART:18930401T000000
END:STANDARD
BEGIN:DAYLIGHT
TZNAME:CEST
TZOFFSETFROM:+0100
TZOFFSETTO:+0200
DTSTART:19160430T230000
RDATE:19400401T020000
RDATE:19430329T020000
RDATE:19460414T020000
RDATE:19470406T030000
RDATE:19480418T020000
RDATE:19490410T020000
RDATE:19800406T020000
END:DAYLIGHT
BEGIN:STANDARD
TZNAME:CET
TZOFFSETFROM:+0200
TZOFFSETTO:+0100
DTSTART:19161001T010000
RDATE:19421102T030000
RDATE:19431004T030000
RDATE:19441002T030000
RDATE:19451118T030000
RDATE:19461007T030000
END:STANDARD
BEGIN:DAYLIGHT
TZNAME:CEST
TZOFFSETFROM:+0100
TZOFFSETTO:+0200
DTSTART:19170416T020000
RRULE:FREQ=YEARLY;UNTIL=19180415T010000Z;BYMONTH=4;BYDAY=3MO
END:DAYLIGHT
BEGIN:STANDARD
TZNAME:CET
TZOFFSETFROM:+0200
TZOFFSETTO:+0100
DTSTART:19170917T030000
RRULE:FREQ=YEARLY;UNTIL=19180916T010000Z;BYMONTH=9;BYDAY=3MO
END:STANDARD
BEGIN:DAYLIGHT
TZNAME:CEST
TZOFFSETFROM:+0100
TZOFFSETTO:+0200
DTSTART:19440403T020000
RRULE:FREQ=YEARLY;UNTIL=19450402T010000Z;BYMONTH=4;BYDAY=1MO
END:DAYLIGHT
BEGIN:DAYLIGHT
TZNAME:CEMT
TZOFFSETFROM:+0200
TZOFFSETTO:+0300
DTSTART:19450524T020000
RDATE:19470511T030000
END:DAYLIGHT
BEGIN:DAYLIGHT
TZNAME:CEST
TZOFFSETFROM:+0300
TZOFFSETTO:+0200
DTSTART:19450924T030000
RDATE:19470629T030000
END:DAYLIGHT
BEGIN:STANDARD
TZNAME:CET
TZOFFSETFROM:+0100
TZOFFSETTO:+0100
DTSTART:19460101T000000
RDATE:19800101T000000
END:STANDARD
BEGIN:STANDARD
TZNAME:CET
TZOFFSETFROM:+0200
TZOFFSETTO:+0100
DTSTART:19471005T030000
RRULE:FREQ=YEARLY;UNTIL=19491002T010000Z;BYMONTH=10;BYDAY=1SU
END:STANDARD
BEGIN:STANDARD
TZNAME:CET
TZOFFSETFROM:+0200
TZOFFSETTO:+0100
DTSTART:19800928T030000
RRULE:FREQ=YEARLY;UNTIL=19950924T010000Z;BYMONTH=9;BYDAY=-1SU
END:STANDARD
BEGIN:DAYLIGHT
TZNAME:CEST
TZOFFSETFROM:+0100
TZOFFSETTO:+0200
DTSTART:19810329T020000
RRULE:FREQ=YEARLY;BYMONTH=3;BYDAY=-1SU
END:DAYLIGHT
BEGIN:STANDARD
TZNAME:CET
TZOFFSETFROM:+0200
TZOFFSETTO:+0100
DTSTART:19961027T030000
RRULE:FREQ=YEARLY;BYMONTH=10;BYDAY=-1SU
END:STANDARD
END:VTIMEZONE
BEGIN:VEVENT
DTSTAMP:20260424T055819Z
DTSTART;TZID=Europe/Berlin:20250920T100000
DTEND;TZID=Europe/Berlin:20250920T110000
SUMMARY:Regionsoberliga mJE - 2 Turbine Leipzig vs HV Böhlen (19204)
UID:96024595-7d33-4359-abd2-214066bc0c9f
STATUS:CONFIRMED
LAST-MODIFIED:20250920T163828Z
DESCRIPTION:Regionsoberliga männliche E-Jugend (2)\nBegegnungs-Nr: 19204\nHeim: Turbine Leipzig\nGast: HV Böhlen\nHalle: SH Ostwald Gymnasium Leipzig-Lößnig (31105)\nAdresse: Willi-Bredel-Str. 13\, 04279 Leipzig\n
LOCATION:SH Ostwald Gymnasium Leipzig-Lößnig (31105): Willi-Bredel-Str. 13\, 04279 Leipzig
CATEGORIES:Saison 2025/26
END:VEVENT
BEGIN:VEVENT
DTSTAMP:20260424T055819Z
DTSTART;TZID=Europe/Berlin:20251207T130000
DTEND;TZID=Europe/Berlin:20251207T140000
SUMMARY:Regionsoberliga mJE - 2 Turbine Leipzig vs NSG Neuseenland II (19210)
UID:0a17f3f8-d03b-46e3-8fe5-c6a9b1e55942
STATUS:CONFIRMED
LAST-MODIFIED:20251219T070505Z
DESCRIPTION:Regionsoberliga männliche E-Jugend (2)\nBegegnungs-Nr: 19210\nHeim: Turbine Leipzig\nGast: NSG Neuseenland II\nHalle: SH Ostwald Gymnasium Leipzig-Lößnig (31105)\nAdresse: Willi-Bredel-Str. 13\, 04279 Leipzig\n
LOCATION:SH Ostwald Gymnasium Leipzig-Lößnig (31105): Willi-Bredel-Str. 13\, 04279 Leipzig
CATEGORIES:Saison 2025/26
END:VEVENT
BEGIN:VEVENT
DTSTAMP:20260424T055819Z
DTSTART;TZID=Europe/Berlin:20251130T091500
DTEND;TZID=Europe/Berlin:20251130T101500
SUMMARY:Regionsoberliga mJE - 2 Turbine Leipzig vs SG LVB (19215)
UID:1af9d430-48d8-4b1c-aafe-c40ed148d4fc
STATUS:CONFIRMED
LAST-MODIFIED:20251202T185154Z
DESCRIPTION:Regionsoberliga männliche E-Jugend (2)\nBegegnungs-Nr: 19215\nHeim: Turbine Leipzig\nGast: SG LVB\nHalle: SH am Grünen Gleis (31134)\nAdresse: Baumannstraße 13\, 04229 Leipzig\n
LOCATION:SH am Grünen Gleis (31134): Baumannstraße 13\, 04229 Leipzig
CATEGORIES:Saison 2025/26
END:VEVENT
BEGIN:VEVENT
DTSTAMP:20260424T055819Z
DTSTART;TZID=Europe/Berlin:20260419T103000
DTEND;TZID=Europe/Berlin:20260419T113000
SUMMARY:ROL - mJE 17-25 Turbine Leipzig vs Germania Zwenkau (19730)
UID:fba62411-8d99-4fff-b14c-6723260a54be
STATUS:CONFIRMED
LAST-MODIFIED:20260422T195123Z
DESCRIPTION:Regionsoberliga männliche E-Jugend (17-25)\nBegegnungs-Nr: 19730\nHeim: Turbine Leipzig\nGast: Germania Zwenkau\nHalle: SH Ostwald Gymnasium Leipzig-Lößnig (31105)\nAdresse: Willi-Bredel-Str. 13\, 04279 Leipzig\n
LOCATION:SH Ostwald Gymnasium Leipzig-Lößnig (31105): Willi-Bredel-Str. 13\, 04279 Leipzig
CATEGORIES:Saison 2025/26
END:VEVENT
BEGIN:VEVENT
DTSTAMP:20260424T055819Z
DTSTART;TZID=Europe/Berlin:20260322T110000
DTEND;TZID=Europe/Berlin:20260322T120000
SUMMARY:ROL - mJE 17-25 Turbine Leipzig vs SV Lok Leipzig-M. (19725)
UID:770cad86-fb1e-450c-8c24-1074554441dd
STATUS:CONFIRMED
LAST-MODIFIED:20260322T204323Z
DESCRIPTION:Regionsoberliga männliche E-Jugend (17-25)\nBegegnungs-Nr: 19725\nHeim: Turbine Leipzig\nGast: SV Lok Leipzig-M.\nHalle: SH Ostwald Gymnasium Leipzig-Lößnig (31105)\nAdresse: Willi-Bredel-Str. 13\, 04279 Leipzig\n
LOCATION:SH Ostwald Gymnasium Leipzig-Lößnig (31105): Willi-Bredel-Str. 13\, 04279 Leipzig
CATEGORIES:Saison 2025/26
END:VEVENT
BEGIN:VEVENT
DTSTAMP:20260424T055819Z
DTSTART;TZID=Europe/Berlin:20260228T091500
DTEND;TZID=Europe/Berlin:20260228T101500
SUMMARY:ROL - mJE 17-25 Turbine Leipzig vs HSV Mölkau - Die Haie  (19715)
UID:2dece2e4-d1d4-46eb-a0e1-8f6db7fc2e8d
STATUS:CONFIRMED
LAST-MODIFIED:20260306T175146Z
DESCRIPTION:Regionsoberliga männliche E-Jugend (17-25)\nBegegnungs-Nr: 19715\nHeim: Turbine Leipzig\nGast: HSV Mölkau - Die Haie \nHalle: SH Ostwald Gymnasium Leipzig-Lößnig (31105)\nAdresse: Willi-Bredel-Str. 13\, 04279 Leipzig\n
LOCATION:SH Ostwald Gymnasium Leipzig-Lößnig (31105): Willi-Bredel-Str. 13\, 04279 Leipzig
CATEGORIES:Saison 2025/26
END:VEVENT
BEGIN:VEVENT
DTSTAMP:20260424T055819Z
DTSTART;TZID=Europe/Berlin:20260131T093000
DTEND;TZID=Europe/Berlin:20260131T103000
SUMMARY:ROL - mJE 17-25 Turbine Leipzig vs VICTORIA Naunhof (19712)
UID:5c058a26-3ff9-4ec7-b7e1-79cb3286b6ed
STATUS:CONFIRMED
LAST-MODIFIED:20260201T192150Z
DESCRIPTION:Regionsoberliga männliche E-Jugend (17-25)\nBegegnungs-Nr: 19712\nHeim: Turbine Leipzig\nGast: VICTORIA Naunhof\nHalle: SH Ostwald Gymnasium Leipzig-Lößnig (31105)\nAdresse: Willi-Bredel-Str. 13\, 04279 Leipzig\n
LOCATION:SH Ostwald Gymnasium Leipzig-Lößnig (31105): Willi-Bredel-Str. 13\, 04279 Leipzig
CATEGORIES:Saison 2025/26
END:VEVENT
BEGIN:VEVENT
DTSTAMP:20260424T055819Z
DTSTART;TZID=Europe/Berlin:20260117T100000
DTEND;TZID=Europe/Berlin:20260117T110000
SUMMARY:ROL - mJE 17-25 Turbine Leipzig vs HV Glesien (19705)
UID:52f93210-92a8-4ccd-b14a-17366aba128a
STATUS:CONFIRMED
LAST-MODIFIED:20260118T201221Z
DESCRIPTION:Regionsoberliga männliche E-Jugend (17-25)\nBegegnungs-Nr: 19705\nHeim: Turbine Leipzig\nGast: HV Glesien\nHalle: SH Oberschule Leipzig-Mölkau (31106)\nAdresse: Schulstr. 6\, 04316 Leipzig\n
LOCATION:SH Oberschule Leipzig-Mölkau (31106): Schulstr. 6\, 04316 Leipzig
CATEGORIES:Saison 2025/26
END:VEVENT
BEGIN:VEVENT
DTSTAMP:20260424T055819Z
DTSTART;TZID=Europe/Berlin:20250907T100000
DTEND;TZID=Europe/Berlin:20250907T110000
SUMMARY:Regionsoberliga mJE - 2 TSV Markkleeberg vs Turbine Leipzig (19202)
UID:50837805-689c-407e-8ed5-210def62905b
STATUS:CONFIRMED
LAST-MODIFIED:20250911T175701Z
DESCRIPTION:Regionsoberliga männliche E-Jugend (2)\nBegegnungs-Nr: 19202\nHeim: TSV Markkleeberg\nGast: Turbine Leipzig\nHalle: Peter-Pohlmann-Sportzentrum (31123)\nAdresse: Mehringstraße 6\, 04416 Markkleeberg\n
LOCATION:Peter-Pohlmann-Sportzentrum (31123): Mehringstraße 6\, 04416 Markkleeberg
CATEGORIES:Saison 2025/26
END:VEVENT
BEGIN:VEVENT
DTSTAMP:20260424T055819Z
DTSTART;TZID=Europe/Berlin:20251025T113000
DTEND;TZID=Europe/Berlin:20251025T123000
SUMMARY:Regionsoberliga mJE - 2 NHV Concordia Delitzsch vs Turbine Leipzig (19208)
UID:b1eaad90-bcd8-458e-a485-8607934f8742
STATUS:CONFIRMED
LAST-MODIFIED:20251104T214744Z
DESCRIPTION:Regionsoberliga männliche E-Jugend (2)\nBegegnungs-Nr: 19208\nHeim: NHV Concordia Delitzsch\nGast: Turbine Leipzig\nHalle: Mehrzweckhalle Delitzsch  (31304)\nAdresse: Karl-Marx-Str. 1\, 04509 Delitzsch\n
LOCATION:Mehrzweckhalle Delitzsch  (31304): Karl-Marx-Str. 1\, 04509 Delitzsch
CATEGORIES:Saison 2025/26
END:VEVENT
BEGIN:VEVENT
DTSTAMP:20260424T055819Z
DTSTART;TZID=Europe/Berlin:20260425T113000
DTEND;TZID=Europe/Berlin:20260425T123000
SUMMARY:ROL - mJE 17-25 NSG Neuseenland II vs Turbine Leipzig (19734)
UID:77a2b90a-b0d2-45d5-af5c-c986b15f3355
STATUS:CONFIRMED
DESCRIPTION:Regionsoberliga männliche E-Jugend (17-25)\nBegegnungs-Nr: 19734\nHeim: NSG Neuseenland II\nGast: Turbine Leipzig\nHalle: SH Regis-Breitingen (31405)\nAdresse: Am Stadion\, 04565 Regis-Breitingen\n
LOCATION:SH Regis-Breitingen (31405): Am Stadion\, 04565 Regis-Breitingen
CATEGORIES:Saison 2025/26
END:VEVENT
BEGIN:VEVENT
DTSTAMP:20260424T055819Z
DTSTART;TZID=Europe/Berlin:20260308T113000
DTEND;TZID=Europe/Berlin:20260308T123000
SUMMARY:ROL - mJE 17-25 SG MoGoNo Leipzig II vs Turbine Leipzig (19718)
UID:967d7d53-e362-4df4-9c6b-71dd9e165750
STATUS:CONFIRMED
LAST-MODIFIED:20260310T192643Z
DESCRIPTION:Regionsoberliga männliche E-Jugend (17-25)\nBegegnungs-Nr: 19718\nHeim: SG MoGoNo Leipzig II\nGast: Turbine Leipzig\nHalle: SH Kästner-Grundschule Leipzig (31131)\nAdresse: Erfurter Str\, 04155 Leipzig\n
LOCATION:SH Kästner-Grundschule Leipzig (31131): Erfurter Str\, 04155 Leipzig
CATEGORIES:Saison 2025/26
END:VEVENT
BEGIN:VEVENT
DTSTAMP:20260424T055819Z
DTSTART;TZID=Europe/Berlin:20260124T112000
DTEND;TZID=Europe/Berlin:20260124T122000
SUMMARY:ROL - mJE 17-25 SV Leisnig 90 vs Turbine Leipzig (19710)
UID:2000679b-3ed5-47e4-9c45-a92afe226f4e
STATUS:CONFIRMED
LAST-MODIFIED:20260125T185042Z
DESCRIPTION:Regionsoberliga männliche E-Jugend (17-25)\nBegegnungs-Nr: 19710\nHeim: SV Leisnig 90\nGast: Turbine Leipzig\nHalle: SH Leisnig (31205)\nAdresse: Chemnitzer Str. 101\, 04703 Leisnig\n
LOCATION:SH Leisnig (31205): Chemnitzer Str. 101\, 04703 Leisnig
CATEGORIES:Saison 2025/26
END:VEVENT
END:VCALENDAR
