BEGIN:VCALENDAR
PRODID:-//nuDatenautomaten//framework iCal4j //DE
VERSION:2.0
CALSCALE:GREGORIAN
BEGIN:VTIMEZONE
TZID:Europe/Berlin
LAST-MODIFIED:20260306T231828Z
TZURL:https://www.tzurl.org/zoneinfo/Europe/Berlin
X-LIC-LOCATION:Europe/Berlin
X-PROLEPTIC-TZNAME:LMT
BEGIN:STANDARD
TZNAME:CET
TZOFFSETFROM:+005328
TZOFFSETTO:+0100
DTSTART:18930401T000000
END:STANDARD
BEGIN:DAYLIGHT
TZNAME:CEST
TZOFFSETFROM:+0100
TZOFFSETTO:+0200
DTSTART:19160430T230000
RDATE:19400401T020000
RDATE:19430329T020000
RDATE:19460414T020000
RDATE:19470406T030000
RDATE:19480418T020000
RDATE:19490410T020000
RDATE:19800406T020000
END:DAYLIGHT
BEGIN:STANDARD
TZNAME:CET
TZOFFSETFROM:+0200
TZOFFSETTO:+0100
DTSTART:19161001T010000
RDATE:19421102T030000
RDATE:19431004T030000
RDATE:19441002T030000
RDATE:19451118T030000
RDATE:19461007T030000
END:STANDARD
BEGIN:DAYLIGHT
TZNAME:CEST
TZOFFSETFROM:+0100
TZOFFSETTO:+0200
DTSTART:19170416T020000
RRULE:FREQ=YEARLY;UNTIL=19180415T010000Z;BYMONTH=4;BYDAY=3MO
END:DAYLIGHT
BEGIN:STANDARD
TZNAME:CET
TZOFFSETFROM:+0200
TZOFFSETTO:+0100
DTSTART:19170917T030000
RRULE:FREQ=YEARLY;UNTIL=19180916T010000Z;BYMONTH=9;BYDAY=3MO
END:STANDARD
BEGIN:DAYLIGHT
TZNAME:CEST
TZOFFSETFROM:+0100
TZOFFSETTO:+0200
DTSTART:19440403T020000
RRULE:FREQ=YEARLY;UNTIL=19450402T010000Z;BYMONTH=4;BYDAY=1MO
END:DAYLIGHT
BEGIN:DAYLIGHT
TZNAME:CEMT
TZOFFSETFROM:+0200
TZOFFSETTO:+0300
DTSTART:19450524T020000
RDATE:19470511T030000
END:DAYLIGHT
BEGIN:DAYLIGHT
TZNAME:CEST
TZOFFSETFROM:+0300
TZOFFSETTO:+0200
DTSTART:19450924T030000
RDATE:19470629T030000
END:DAYLIGHT
BEGIN:STANDARD
TZNAME:CET
TZOFFSETFROM:+0100
TZOFFSETTO:+0100
DTSTART:19460101T000000
RDATE:19800101T000000
END:STANDARD
BEGIN:STANDARD
TZNAME:CET
TZOFFSETFROM:+0200
TZOFFSETTO:+0100
DTSTART:19471005T030000
RRULE:FREQ=YEARLY;UNTIL=19491002T010000Z;BYMONTH=10;BYDAY=1SU
END:STANDARD
BEGIN:STANDARD
TZNAME:CET
TZOFFSETFROM:+0200
TZOFFSETTO:+0100
DTSTART:19800928T030000
RRULE:FREQ=YEARLY;UNTIL=19950924T010000Z;BYMONTH=9;BYDAY=-1SU
END:STANDARD
BEGIN:DAYLIGHT
TZNAME:CEST
TZOFFSETFROM:+0100
TZOFFSETTO:+0200
DTSTART:19810329T020000
RRULE:FREQ=YEARLY;BYMONTH=3;BYDAY=-1SU
END:DAYLIGHT
BEGIN:STANDARD
TZNAME:CET
TZOFFSETFROM:+0200
TZOFFSETTO:+0100
DTSTART:19961027T030000
RRULE:FREQ=YEARLY;BYMONTH=10;BYDAY=-1SU
END:STANDARD
END:VTIMEZONE
BEGIN:VEVENT
DTSTAMP:20260421T035818Z
DTSTART;TZID=Europe/Berlin:20260328T160000
DTEND;TZID=Europe/Berlin:20260328T170000
SUMMARY:Po-wJC (§75 SpO) VfL Meißen vs Thüringer HC (8031)
UID:2945de8d-eeee-4f8e-b7ff-c42d2b794bb3
STATUS:CONFIRMED
LAST-MODIFIED:20260329T172153Z
DESCRIPTION:MHV-Pokal weibl. Jugend C\nBegegnungs-Nr: 8031\nHeim: VfL Meißen\nGast: Thüringer HC\nHalle: SH \"Heiliger Grund\" Meißen (33212)\nAdresse: Goethestraße 27\, 01662 Meißen\n
LOCATION:SH \"Heiliger Grund\" Meißen (33212): Goethestraße 27\, 01662 Meißen
CATEGORIES:Saison 2025/26
END:VEVENT
BEGIN:VEVENT
DTSTAMP:20260421T035818Z
DTSTART;TZID=Europe/Berlin:20260207T130000
DTEND;TZID=Europe/Berlin:20260207T140000
SUMMARY:Po-wJC (§75 SpO) VfL Meißen vs VfB Bischofswerda (8037)
UID:d542aced-c39a-4bf1-a8af-8bb26456efc2
STATUS:CONFIRMED
LAST-MODIFIED:20260207T185106Z
DESCRIPTION:MHV-Pokal weibl. Jugend C\nBegegnungs-Nr: 8037\nHeim: VfL Meißen\nGast: VfB Bischofswerda\nHalle: SH \"Heiliger Grund\" Meißen (33212)\nAdresse: Goethestraße 27\, 01662 Meißen\n
LOCATION:SH \"Heiliger Grund\" Meißen (33212): Goethestraße 27\, 01662 Meißen
CATEGORIES:Saison 2025/26
END:VEVENT
BEGIN:VEVENT
DTSTAMP:20260421T035818Z
DTSTART;TZID=Europe/Berlin:20250921T110000
DTEND;TZID=Europe/Berlin:20250921T120000
SUMMARY:Po-wJC (§75 SpO) VfL Meißen vs BSV Sa. Zwickau (8007)
UID:d1b28ebe-1ece-47e5-9d81-5da8de10474c
STATUS:CONFIRMED
LAST-MODIFIED:20250921T113951Z
DESCRIPTION:MHV-Pokal weibl. Jugend C\nBegegnungs-Nr: 8007\nHeim: VfL Meißen\nGast: BSV Sa. Zwickau\nHalle: SH \"Heiliger Grund\" Meißen (33212)\nAdresse: Goethestraße 27\, 01662 Meißen\n
LOCATION:SH \"Heiliger Grund\" Meißen (33212): Goethestraße 27\, 01662 Meißen
CATEGORIES:Saison 2025/26
END:VEVENT
BEGIN:VEVENT
DTSTAMP:20260421T035818Z
DTSTART;TZID=Europe/Berlin:20251102T130000
DTEND;TZID=Europe/Berlin:20251102T140000
SUMMARY:Po-wJC (§75 SpO) VfL Meißen vs Görlitzer HC (8014)
UID:2449228e-0869-434e-98e8-b2ddca6453cc
STATUS:CONFIRMED
LAST-MODIFIED:20251102T142737Z
DESCRIPTION:MHV-Pokal weibl. Jugend C\nBegegnungs-Nr: 8014\nHeim: VfL Meißen\nGast: Görlitzer HC\nHalle: SH \"Heiliger Grund\" Meißen (33212)\nAdresse: Goethestraße 27\, 01662 Meißen\n
LOCATION:SH \"Heiliger Grund\" Meißen (33212): Goethestraße 27\, 01662 Meißen
CATEGORIES:Saison 2025/26
END:VEVENT
BEGIN:VEVENT
DTSTAMP:20260421T035818Z
DTSTART;TZID=Europe/Berlin:20260315T110000
DTEND;TZID=Europe/Berlin:20260315T120000
SUMMARY:Po-wJC (§75 SpO) VfL Meißen vs HC Leipzig (8047)
UID:a91cf9d9-2630-482a-aa5e-6ba8ceceb4f4
STATUS:CONFIRMED
LAST-MODIFIED:20260315T164526Z
DESCRIPTION:MHV-Pokal weibl. Jugend C\nBegegnungs-Nr: 8047\nHeim: VfL Meißen\nGast: HC Leipzig\nHalle: SH \"Heiliger Grund\" Meißen (33212)\nAdresse: Goethestraße 27\, 01662 Meißen\n
LOCATION:SH \"Heiliger Grund\" Meißen (33212): Goethestraße 27\, 01662 Meißen
CATEGORIES:Saison 2025/26
END:VEVENT
BEGIN:VEVENT
DTSTAMP:20260421T035818Z
DTSTART;TZID=Europe/Berlin:20251220T110000
DTEND;TZID=Europe/Berlin:20251220T120000
SUMMARY:Po-wJC (§75 SpO) VfL Meißen vs SV Union Halle-Neu. (8028)
UID:ce0ab35c-b6c7-4d5e-beaa-66cc1bc48158
STATUS:CONFIRMED
LAST-MODIFIED:20251223T153651Z
DESCRIPTION:MHV-Pokal weibl. Jugend C\nBegegnungs-Nr: 8028\nHeim: VfL Meißen\nGast: SV Union Halle-Neu.\nHalle: SH \"Heiliger Grund\" Meißen (33212)\nAdresse: Goethestraße 27\, 01662 Meißen\n
LOCATION:SH \"Heiliger Grund\" Meißen (33212): Goethestraße 27\, 01662 Meißen
CATEGORIES:Saison 2025/26
END:VEVENT
BEGIN:VEVENT
DTSTAMP:20260421T035818Z
DTSTART;TZID=Europe/Berlin:20260324T183000
DTEND;TZID=Europe/Berlin:20260324T193000
SUMMARY:Po-wJC (§75 SpO) SV Union Halle-Neu. vs VfL Meißen (8056)
UID:6321ba8c-4c49-4db6-b28c-f783bec4ed62
STATUS:CONFIRMED
LAST-MODIFIED:20260329T171947Z
DESCRIPTION:MHV-Pokal weibl. Jugend C\nBegegnungs-Nr: 8056\nHeim: SV Union Halle-Neu.\nGast: VfL Meißen\nHalle: Dreifelderhalle Sportgymnasium Halle/Saale (4127)\nAdresse: Robert-Koch-Straße 33 a\, 06128 Halle\n
LOCATION:Dreifelderhalle Sportgymnasium Halle/Saale (4127): Robert-Koch-Straße 33 a\, 06128 Halle
CATEGORIES:Saison 2025/26
END:VEVENT
BEGIN:VEVENT
DTSTAMP:20260421T035818Z
DTSTART;TZID=Europe/Berlin:20260118T143000
DTEND;TZID=Europe/Berlin:20260118T153000
SUMMARY:Po-wJC (§75 SpO) BSV Sa. Zwickau vs VfL Meißen (8035)
UID:e5c84c2c-dc7f-494c-b19e-d902972e446e
STATUS:CONFIRMED
LAST-MODIFIED:20260118T195407Z
DESCRIPTION:MHV-Pokal weibl. Jugend C\nBegegnungs-Nr: 8035\nHeim: BSV Sa. Zwickau\nGast: VfL Meißen\nHalle: SH Zwickau-Neuplanitz (32501)\nAdresse: Dortmunder Str. 7a\, 08062 Zwickau\n
LOCATION:SH Zwickau-Neuplanitz (32501): Dortmunder Str. 7a\, 08062 Zwickau
CATEGORIES:Saison 2025/26
END:VEVENT
BEGIN:VEVENT
DTSTAMP:20260421T035818Z
DTSTART;TZID=Europe/Berlin:20250914T160000
DTEND;TZID=Europe/Berlin:20250914T170000
SUMMARY:Po-wJC (§75 SpO) Thüringer HC vs VfL Meißen (8003)
UID:a1238193-6cf6-48e0-8aaa-b5bad866be42
STATUS:CONFIRMED
LAST-MODIFIED:20250914T190108Z
DESCRIPTION:MHV-Pokal weibl. Jugend C\nBegegnungs-Nr: 8003\nHeim: Thüringer HC\nGast: VfL Meißen\nHalle: Erfurt\, Sporthalle Mittelhäuser Straße (420501)\nAdresse: Mittelhäuser Str. 21\, 99089 Erfurt\n
LOCATION:Erfurt\, Sporthalle Mittelhäuser Straße (420501): Mittelhäuser Str. 21\, 99089 Erfurt
CATEGORIES:Saison 2025/26
END:VEVENT
BEGIN:VEVENT
DTSTAMP:20260421T035818Z
DTSTART;TZID=Europe/Berlin:20251024T183000
DTEND;TZID=Europe/Berlin:20251024T193000
SUMMARY:Po-wJC (§75 SpO) VfB Bischofswerda vs VfL Meißen (8009)
UID:ad6a6a35-5056-42b2-af77-2604cca824ef
STATUS:CONFIRMED
LAST-MODIFIED:20251025T183126Z
DESCRIPTION:MHV-Pokal weibl. Jugend C\nBegegnungs-Nr: 8009\nHeim: VfB Bischofswerda\nGast: VfL Meißen\nHalle: SH Wesenitzsportpark Bischofswerda (34505)\nAdresse: Clara-Zetkin-Str. 4\, 01877  Bischofswerda\n
LOCATION:SH Wesenitzsportpark Bischofswerda (34505): Clara-Zetkin-Str. 4\, 01877  Bischofswerda
CATEGORIES:Saison 2025/26
END:VEVENT
BEGIN:VEVENT
DTSTAMP:20260421T035818Z
DTSTART;TZID=Europe/Berlin:20260308T110000
DTEND;TZID=Europe/Berlin:20260308T120000
SUMMARY:Po-wJC (§75 SpO) Görlitzer HC vs VfL Meißen (8042)
UID:3637da4d-87f4-4143-8ad4-ab41f8ea7e30
STATUS:CONFIRMED
LAST-MODIFIED:20260308T202936Z
DESCRIPTION:MHV-Pokal weibl. Jugend C\nBegegnungs-Nr: 8042\nHeim: Görlitzer HC\nGast: VfL Meißen\nHalle: Jahn-SH Görlitz (34302)\nAdresse: Kummerau 6\, 02826 Görlitz\n
LOCATION:Jahn-SH Görlitz (34302): Kummerau 6\, 02826 Görlitz
CATEGORIES:Saison 2025/26
END:VEVENT
BEGIN:VEVENT
DTSTAMP:20260421T035818Z
DTSTART;TZID=Europe/Berlin:20251130T110000
DTEND;TZID=Europe/Berlin:20251130T120000
SUMMARY:Po-wJC (§75 SpO) HC Leipzig vs VfL Meißen (8019)
UID:4c2a5328-5ac0-4809-91ef-7130fcba7523
STATUS:CONFIRMED
LAST-MODIFIED:20251130T163124Z
DESCRIPTION:MHV-Pokal weibl. Jugend C\nBegegnungs-Nr: 8019\nHeim: HC Leipzig\nGast: VfL Meißen\nHalle: SH Sportoberschule (31132)\nAdresse: Max -Planck-Str. 53-55\, 04105 Leipzig\n
LOCATION:SH Sportoberschule (31132): Max -Planck-Str. 53-55\, 04105 Leipzig
CATEGORIES:Saison 2025/26
END:VEVENT
END:VCALENDAR
