BEGIN:VCALENDAR
PRODID:-//nuDatenautomaten//framework iCal4j //DE
VERSION:2.0
CALSCALE:GREGORIAN
BEGIN:VTIMEZONE
TZID:Europe/Berlin
LAST-MODIFIED:20260306T231828Z
TZURL:https://www.tzurl.org/zoneinfo/Europe/Berlin
X-LIC-LOCATION:Europe/Berlin
X-PROLEPTIC-TZNAME:LMT
BEGIN:STANDARD
TZNAME:CET
TZOFFSETFROM:+005328
TZOFFSETTO:+0100
DTSTART:18930401T000000
END:STANDARD
BEGIN:DAYLIGHT
TZNAME:CEST
TZOFFSETFROM:+0100
TZOFFSETTO:+0200
DTSTART:19160430T230000
RDATE:19400401T020000
RDATE:19430329T020000
RDATE:19460414T020000
RDATE:19470406T030000
RDATE:19480418T020000
RDATE:19490410T020000
RDATE:19800406T020000
END:DAYLIGHT
BEGIN:STANDARD
TZNAME:CET
TZOFFSETFROM:+0200
TZOFFSETTO:+0100
DTSTART:19161001T010000
RDATE:19421102T030000
RDATE:19431004T030000
RDATE:19441002T030000
RDATE:19451118T030000
RDATE:19461007T030000
END:STANDARD
BEGIN:DAYLIGHT
TZNAME:CEST
TZOFFSETFROM:+0100
TZOFFSETTO:+0200
DTSTART:19170416T020000
RRULE:FREQ=YEARLY;UNTIL=19180415T010000Z;BYMONTH=4;BYDAY=3MO
END:DAYLIGHT
BEGIN:STANDARD
TZNAME:CET
TZOFFSETFROM:+0200
TZOFFSETTO:+0100
DTSTART:19170917T030000
RRULE:FREQ=YEARLY;UNTIL=19180916T010000Z;BYMONTH=9;BYDAY=3MO
END:STANDARD
BEGIN:DAYLIGHT
TZNAME:CEST
TZOFFSETFROM:+0100
TZOFFSETTO:+0200
DTSTART:19440403T020000
RRULE:FREQ=YEARLY;UNTIL=19450402T010000Z;BYMONTH=4;BYDAY=1MO
END:DAYLIGHT
BEGIN:DAYLIGHT
TZNAME:CEMT
TZOFFSETFROM:+0200
TZOFFSETTO:+0300
DTSTART:19450524T020000
RDATE:19470511T030000
END:DAYLIGHT
BEGIN:DAYLIGHT
TZNAME:CEST
TZOFFSETFROM:+0300
TZOFFSETTO:+0200
DTSTART:19450924T030000
RDATE:19470629T030000
END:DAYLIGHT
BEGIN:STANDARD
TZNAME:CET
TZOFFSETFROM:+0100
TZOFFSETTO:+0100
DTSTART:19460101T000000
RDATE:19800101T000000
END:STANDARD
BEGIN:STANDARD
TZNAME:CET
TZOFFSETFROM:+0200
TZOFFSETTO:+0100
DTSTART:19471005T030000
RRULE:FREQ=YEARLY;UNTIL=19491002T010000Z;BYMONTH=10;BYDAY=1SU
END:STANDARD
BEGIN:STANDARD
TZNAME:CET
TZOFFSETFROM:+0200
TZOFFSETTO:+0100
DTSTART:19800928T030000
RRULE:FREQ=YEARLY;UNTIL=19950924T010000Z;BYMONTH=9;BYDAY=-1SU
END:STANDARD
BEGIN:DAYLIGHT
TZNAME:CEST
TZOFFSETFROM:+0100
TZOFFSETTO:+0200
DTSTART:19810329T020000
RRULE:FREQ=YEARLY;BYMONTH=3;BYDAY=-1SU
END:DAYLIGHT
BEGIN:STANDARD
TZNAME:CET
TZOFFSETFROM:+0200
TZOFFSETTO:+0100
DTSTART:19961027T030000
RRULE:FREQ=YEARLY;BYMONTH=10;BYDAY=-1SU
END:STANDARD
END:VTIMEZONE
BEGIN:VEVENT
DTSTAMP:20260423T232224Z
DTSTART;TZID=Europe/Berlin:20251101T103000
DTEND;TZID=Europe/Berlin:20251101T113000
SUMMARY:Regionsoberliga mJC - 1 VfB Torgau vs NSG Neuseenland (17113)
UID:63e04176-55f7-44ff-b49e-eb71a3f82d0f
STATUS:CONFIRMED
LAST-MODIFIED:20251208T212528Z
DESCRIPTION:Regionsoberliga männliche C-Jugend (1)\nBegegnungs-Nr: 17113\nHeim: VfB Torgau\nGast: NSG Neuseenland\nHalle: SH Am Wasserturm Torgau (31602)\nAdresse: Dahlener Str. 11 a\, 04860 Torgau\n
LOCATION:SH Am Wasserturm Torgau (31602): Dahlener Str. 11 a\, 04860 Torgau
CATEGORIES:Saison 2025/26
END:VEVENT
BEGIN:VEVENT
DTSTAMP:20260423T232224Z
DTSTART;TZID=Europe/Berlin:20251129T123000
DTEND;TZID=Europe/Berlin:20251129T133000
SUMMARY:Regionsoberliga mJC - 1 VfB Torgau vs VfB Eilenburg (17119)
UID:2a3ad58b-1126-49f9-9868-7f2038eb7a0a
STATUS:CONFIRMED
LAST-MODIFIED:20251201T122229Z
DESCRIPTION:Regionsoberliga männliche C-Jugend (1)\nBegegnungs-Nr: 17119\nHeim: VfB Torgau\nGast: VfB Eilenburg\nHalle: SH Am Wasserturm Torgau (31602)\nAdresse: Dahlener Str. 11 a\, 04860 Torgau\n
LOCATION:SH Am Wasserturm Torgau (31602): Dahlener Str. 11 a\, 04860 Torgau
CATEGORIES:Saison 2025/26
END:VEVENT
BEGIN:VEVENT
DTSTAMP:20260423T232224Z
DTSTART;TZID=Europe/Berlin:20250920T150000
DTEND;TZID=Europe/Berlin:20250920T160000
SUMMARY:Regionsoberliga mJC - 1 VfB Torgau vs TSG 1861 Taucha (17108)
UID:324599b5-4c18-483b-914b-84e517792c6d
STATUS:CONFIRMED
LAST-MODIFIED:20250922T081906Z
DESCRIPTION:Regionsoberliga männliche C-Jugend (1)\nBegegnungs-Nr: 17108\nHeim: VfB Torgau\nGast: TSG 1861 Taucha\nHalle: SH Am Wasserturm Torgau (31602)\nAdresse: Dahlener Str. 11 a\, 04860 Torgau\n
LOCATION:SH Am Wasserturm Torgau (31602): Dahlener Str. 11 a\, 04860 Torgau
CATEGORIES:Saison 2025/26
END:VEVENT
BEGIN:VEVENT
DTSTAMP:20260423T232224Z
DTSTART;TZID=Europe/Berlin:20260411T110000
DTEND;TZID=Europe/Berlin:20260411T120000
SUMMARY:ROL - mJC Platz 7-14 VfB Torgau vs SV Lok Leipzig-M. (17439)
UID:14986565-6561-428a-b9f6-260c6b6232e5
STATUS:CONFIRMED
LAST-MODIFIED:20260321T064513Z
DESCRIPTION:Regionsoberliga männliche C-Jugend (P)\nBegegnungs-Nr: 17439\nHeim: VfB Torgau\nGast: SV Lok Leipzig-M.\nHalle: SH Am Wasserturm Torgau (31602)\nAdresse: Dahlener Str. 11 a\, 04860 Torgau\n
LOCATION:SH Am Wasserturm Torgau (31602): Dahlener Str. 11 a\, 04860 Torgau
CATEGORIES:Saison 2025/26
END:VEVENT
BEGIN:VEVENT
DTSTAMP:20260423T232224Z
DTSTART;TZID=Europe/Berlin:20260418T100000
DTEND;TZID=Europe/Berlin:20260418T110000
SUMMARY:ROL - mJC Platz 7-14 VfB Torgau vs HSG Rückmarsdorf (17437)
UID:7ad130f9-7ad6-4036-808d-fdcbd42b3c3b
STATUS:CONFIRMED
DESCRIPTION:Regionsoberliga männliche C-Jugend (P)\nBegegnungs-Nr: 17437\nHeim: VfB Torgau\nGast: HSG Rückmarsdorf\nHalle: SH Am Wasserturm Torgau (31602)\nAdresse: Dahlener Str. 11 a\, 04860 Torgau\n
LOCATION:SH Am Wasserturm Torgau (31602): Dahlener Str. 11 a\, 04860 Torgau
CATEGORIES:Saison 2025/26
END:VEVENT
BEGIN:VEVENT
DTSTAMP:20260423T232224Z
DTSTART;TZID=Europe/Berlin:20260328T100000
DTEND;TZID=Europe/Berlin:20260328T110000
SUMMARY:ROL - mJC Platz 7-14 VfB Torgau vs SG MoGoNo Leipzig II (17432)
UID:c1003d0a-eb82-4f07-9682-477dca489242
STATUS:CONFIRMED
LAST-MODIFIED:20260330T091824Z
DESCRIPTION:Regionsoberliga männliche C-Jugend (P)\nBegegnungs-Nr: 17432\nHeim: VfB Torgau\nGast: SG MoGoNo Leipzig II\nHalle: SH Am Wasserturm Torgau (31602)\nAdresse: Dahlener Str. 11 a\, 04860 Torgau\n
LOCATION:SH Am Wasserturm Torgau (31602): Dahlener Str. 11 a\, 04860 Torgau
CATEGORIES:Saison 2025/26
END:VEVENT
BEGIN:VEVENT
DTSTAMP:20260423T232224Z
DTSTART;TZID=Europe/Berlin:20260314T113000
DTEND;TZID=Europe/Berlin:20260314T123000
SUMMARY:ROL - mJC Platz 7-14 VfB Torgau vs TSG 1861 Taucha II (17424)
UID:c9525fc6-7487-4705-9791-eed395cf6837
STATUS:CONFIRMED
LAST-MODIFIED:20260325T173310Z
DESCRIPTION:Regionsoberliga männliche C-Jugend (P)\nBegegnungs-Nr: 17424\nHeim: VfB Torgau\nGast: TSG 1861 Taucha II\nHalle: SH J.-Walter Gymnasium Torgau (31601)\nAdresse: Schloßstr. 7-9\, 04860 Torgau\n
LOCATION:SH J.-Walter Gymnasium Torgau (31601): Schloßstr. 7-9\, 04860 Torgau
CATEGORIES:Saison 2025/26
END:VEVENT
BEGIN:VEVENT
DTSTAMP:20260423T232224Z
DTSTART;TZID=Europe/Berlin:20260222T120000
DTEND;TZID=Europe/Berlin:20260222T130000
SUMMARY:ROL - mJC Platz 7-14 VfB Torgau vs VICTORIA Naunhof (17410)
UID:18eac927-9ae6-46f8-8c26-169cb9f3b117
STATUS:CONFIRMED
LAST-MODIFIED:20260323T160459Z
DESCRIPTION:Regionsoberliga männliche C-Jugend (P)\nBegegnungs-Nr: 17410\nHeim: VfB Torgau\nGast: VICTORIA Naunhof\nHalle: SH Am Wasserturm Torgau (31602)\nAdresse: Dahlener Str. 11 a\, 04860 Torgau\n
LOCATION:SH Am Wasserturm Torgau (31602): Dahlener Str. 11 a\, 04860 Torgau
CATEGORIES:Saison 2025/26
END:VEVENT
BEGIN:VEVENT
DTSTAMP:20260423T232224Z
DTSTART;TZID=Europe/Berlin:20260110T113000
DTEND;TZID=Europe/Berlin:20260110T123000
SUMMARY:ROL - mJC Platz 7-14 VfB Torgau vs TuS Leipzig-Mockau (17402)
UID:e240c3d6-2d3e-41b4-8f96-d4f46a4ea3f3
STATUS:CONFIRMED
LAST-MODIFIED:20260114T074427Z
DESCRIPTION:Regionsoberliga männliche C-Jugend (P)\nBegegnungs-Nr: 17402\nHeim: VfB Torgau\nGast: TuS Leipzig-Mockau\nHalle: SH J.-Walter Gymnasium Torgau (31601)\nAdresse: Schloßstr. 7-9\, 04860 Torgau\n
LOCATION:SH J.-Walter Gymnasium Torgau (31601): Schloßstr. 7-9\, 04860 Torgau
CATEGORIES:Saison 2025/26
END:VEVENT
BEGIN:VEVENT
DTSTAMP:20260423T232224Z
DTSTART;TZID=Europe/Berlin:20251101T103000
DTEND;TZID=Europe/Berlin:20251101T113000
SUMMARY:ROL - mJC Platz 7-14 VfB Torgau vs NSG Neuseenland (17113)
UID:0a26c6ac-017b-4ede-992a-cb099aad42bc
STATUS:CONFIRMED
LAST-MODIFIED:20251208T212528Z
DESCRIPTION:Regionsoberliga männliche C-Jugend (P)\nBegegnungs-Nr: 17113\nHeim: VfB Torgau\nGast: NSG Neuseenland\n
LOCATION:
CATEGORIES:Saison 2025/26
END:VEVENT
BEGIN:VEVENT
DTSTAMP:20260423T232224Z
DTSTART;TZID=Europe/Berlin:20250906T160000
DTEND;TZID=Europe/Berlin:20250906T170000
SUMMARY:Regionsoberliga mJC - 1 HSG Rückmarsdorf vs VfB Torgau (17102)
UID:da576672-4865-42d1-9664-a36dcf9cb649
STATUS:CONFIRMED
LAST-MODIFIED:20250908T065045Z
DESCRIPTION:Regionsoberliga männliche C-Jugend (1)\nBegegnungs-Nr: 17102\nHeim: HSG Rückmarsdorf\nGast: VfB Torgau\nHalle: SH am Grünen Gleis (31134)\nAdresse: Baumannstraße 13\, 04229 Leipzig\n
LOCATION:SH am Grünen Gleis (31134): Baumannstraße 13\, 04229 Leipzig
CATEGORIES:Saison 2025/26
END:VEVENT
BEGIN:VEVENT
DTSTAMP:20260423T232224Z
DTSTART;TZID=Europe/Berlin:20251026T140000
DTEND;TZID=Europe/Berlin:20251026T150000
SUMMARY:Regionsoberliga mJC - 1 NHV Concordia Delitzsch vs VfB Torgau (17112)
UID:430da95e-a27a-4d19-9938-94d6523c29c1
STATUS:CONFIRMED
LAST-MODIFIED:20251104T063702Z
DESCRIPTION:Regionsoberliga männliche C-Jugend (1)\nBegegnungs-Nr: 17112\nHeim: NHV Concordia Delitzsch\nGast: VfB Torgau\nHalle: Mehrzweckhalle Delitzsch  (31304)\nAdresse: Karl-Marx-Str. 1\, 04509 Delitzsch\n
LOCATION:Mehrzweckhalle Delitzsch  (31304): Karl-Marx-Str. 1\, 04509 Delitzsch
CATEGORIES:Saison 2025/26
END:VEVENT
BEGIN:VEVENT
DTSTAMP:20260423T232224Z
DTSTART;TZID=Europe/Berlin:20251108T160000
DTEND;TZID=Europe/Berlin:20251108T170000
SUMMARY:Regionsoberliga mJC - 1 SV Lok Leipzig-M. vs VfB Torgau (17116)
UID:b3bcb07a-0e95-49af-bf30-e537b8960062
STATUS:CONFIRMED
LAST-MODIFIED:20251110T152946Z
DESCRIPTION:Regionsoberliga männliche C-Jugend (1)\nBegegnungs-Nr: 17116\nHeim: SV Lok Leipzig-M.\nGast: VfB Torgau\nHalle: SH Goethe-Gymnasium Leipzig (31138)\nAdresse: Theklaer Str. 4\, 04347 Leipzig\n
LOCATION:SH Goethe-Gymnasium Leipzig (31138): Theklaer Str. 4\, 04347 Leipzig
CATEGORIES:Saison 2025/26
END:VEVENT
BEGIN:VEVENT
DTSTAMP:20260423T232224Z
DTSTART;TZID=Europe/Berlin:20260322T130000
DTEND;TZID=Europe/Berlin:20260322T140000
SUMMARY:ROL - mJC Platz 7-14 TuS Leipzig-Mockau vs VfB Torgau (17428)
UID:e81025a7-31f1-448b-b269-2e91315bd77a
STATUS:CONFIRMED
LAST-MODIFIED:20260325T173608Z
DESCRIPTION:Regionsoberliga männliche C-Jugend (P)\nBegegnungs-Nr: 17428\nHeim: TuS Leipzig-Mockau\nGast: VfB Torgau\nHalle: Sporthalle Marie-Curie-Gymnasium Wiederitzsch (31137)\nAdresse: Messeallee 19\, 04158 Leipzig (OT Wiederitzsch)\n
LOCATION:Sporthalle Marie-Curie-Gymnasium Wiederitzsch (31137): Messeallee 19\, 04158 Leipzig (OT Wiederitzsch)
CATEGORIES:Saison 2025/26
END:VEVENT
BEGIN:VEVENT
DTSTAMP:20260423T232224Z
DTSTART;TZID=Europe/Berlin:20260402T180000
DTEND;TZID=Europe/Berlin:20260402T190000
SUMMARY:ROL - mJC Platz 7-14 VICTORIA Naunhof vs VfB Torgau (17421)
UID:b2e5ae9f-51e6-4529-a152-24fef311bbd6
STATUS:CONFIRMED
LAST-MODIFIED:20260325T172853Z
DESCRIPTION:Regionsoberliga männliche C-Jugend (P)\nBegegnungs-Nr: 17421\nHeim: VICTORIA Naunhof\nGast: VfB Torgau\nHalle: Parthelandhalle Naunhof (31120)\nAdresse: Wiesenstraße 34\, 04683 Naunhof\n
LOCATION:Parthelandhalle Naunhof (31120): Wiesenstraße 34\, 04683 Naunhof
CATEGORIES:Saison 2025/26
END:VEVENT
BEGIN:VEVENT
DTSTAMP:20260423T232224Z
DTSTART;TZID=Europe/Berlin:20260228T140000
DTEND;TZID=Europe/Berlin:20260228T150000
SUMMARY:ROL - mJC Platz 7-14 NSG Neuseenland vs VfB Torgau (17416)
UID:49f6d5bf-0b9f-4a26-8559-b90021a9cd8b
STATUS:CONFIRMED
LAST-MODIFIED:20260303T105527Z
DESCRIPTION:Regionsoberliga männliche C-Jugend (P)\nBegegnungs-Nr: 17416\nHeim: NSG Neuseenland\nGast: VfB Torgau\nHalle: SH Borna-Ost (31401)\nAdresse: Oststr. 2 \, 04552 Borna\n
LOCATION:SH Borna-Ost (31401): Oststr. 2 \, 04552 Borna
CATEGORIES:Saison 2025/26
END:VEVENT
BEGIN:VEVENT
DTSTAMP:20260423T232224Z
DTSTART;TZID=Europe/Berlin:20260201T110000
DTEND;TZID=Europe/Berlin:20260201T120000
SUMMARY:ROL - mJC Platz 7-14 TSG 1861 Taucha II vs VfB Torgau (17415)
UID:bd00fbe0-e577-4f63-8088-56e325dc2881
STATUS:CONFIRMED
LAST-MODIFIED:20260206T183453Z
DESCRIPTION:Regionsoberliga männliche C-Jugend (P)\nBegegnungs-Nr: 17415\nHeim: TSG 1861 Taucha II\nGast: VfB Torgau\nHalle: Mehrzweckhalle Taucha (31112)\nAdresse: Geschwister-Scholl-Str. 6\, 04425 Taucha\n
LOCATION:Mehrzweckhalle Taucha (31112): Geschwister-Scholl-Str. 6\, 04425 Taucha
CATEGORIES:Saison 2025/26
END:VEVENT
BEGIN:VEVENT
DTSTAMP:20260423T232224Z
DTSTART;TZID=Europe/Berlin:20260117T160000
DTEND;TZID=Europe/Berlin:20260117T170000
SUMMARY:ROL - mJC Platz 7-14 SG MoGoNo Leipzig II vs VfB Torgau (17405)
UID:1eac5255-a442-4f3b-989d-4a73e0cf4904
STATUS:CONFIRMED
LAST-MODIFIED:20260121T190108Z
DESCRIPTION:Regionsoberliga männliche C-Jugend (P)\nBegegnungs-Nr: 17405\nHeim: SG MoGoNo Leipzig II\nGast: VfB Torgau\nHalle: SH Kästner-Grundschule Leipzig (31131)\nAdresse: Erfurter Str\, 04155 Leipzig\n
LOCATION:SH Kästner-Grundschule Leipzig (31131): Erfurter Str\, 04155 Leipzig
CATEGORIES:Saison 2025/26
END:VEVENT
BEGIN:VEVENT
DTSTAMP:20260423T232224Z
DTSTART;TZID=Europe/Berlin:20251108T160000
DTEND;TZID=Europe/Berlin:20251108T170000
SUMMARY:ROL - mJC Platz 7-14 SV Lok Leipzig-M. vs VfB Torgau (17116)
UID:99eb0700-9e34-40ac-b5cf-dd156f30a06f
STATUS:CONFIRMED
LAST-MODIFIED:20251110T152946Z
DESCRIPTION:Regionsoberliga männliche C-Jugend (P)\nBegegnungs-Nr: 17116\nHeim: SV Lok Leipzig-M.\nGast: VfB Torgau\n
LOCATION:
CATEGORIES:Saison 2025/26
END:VEVENT
BEGIN:VEVENT
DTSTAMP:20260423T232224Z
DTSTART;TZID=Europe/Berlin:20250906T160000
DTEND;TZID=Europe/Berlin:20250906T170000
SUMMARY:ROL - mJC Platz 7-14 HSG Rückmarsdorf vs VfB Torgau (17102)
UID:e75f79f2-1f3c-406f-8210-e3c795b28a1e
STATUS:CONFIRMED
LAST-MODIFIED:20250908T065045Z
DESCRIPTION:Regionsoberliga männliche C-Jugend (P)\nBegegnungs-Nr: 17102\nHeim: HSG Rückmarsdorf\nGast: VfB Torgau\n
LOCATION:
CATEGORIES:Saison 2025/26
END:VEVENT
END:VCALENDAR
