BEGIN:VCALENDAR
PRODID:-//nuDatenautomaten//framework iCal4j //DE
VERSION:2.0
CALSCALE:GREGORIAN
BEGIN:VTIMEZONE
TZID:Europe/Berlin
LAST-MODIFIED:20260306T231828Z
TZURL:https://www.tzurl.org/zoneinfo/Europe/Berlin
X-LIC-LOCATION:Europe/Berlin
X-PROLEPTIC-TZNAME:LMT
BEGIN:STANDARD
TZNAME:CET
TZOFFSETFROM:+005328
TZOFFSETTO:+0100
DTSTART:18930401T000000
END:STANDARD
BEGIN:DAYLIGHT
TZNAME:CEST
TZOFFSETFROM:+0100
TZOFFSETTO:+0200
DTSTART:19160430T230000
RDATE:19400401T020000
RDATE:19430329T020000
RDATE:19460414T020000
RDATE:19470406T030000
RDATE:19480418T020000
RDATE:19490410T020000
RDATE:19800406T020000
END:DAYLIGHT
BEGIN:STANDARD
TZNAME:CET
TZOFFSETFROM:+0200
TZOFFSETTO:+0100
DTSTART:19161001T010000
RDATE:19421102T030000
RDATE:19431004T030000
RDATE:19441002T030000
RDATE:19451118T030000
RDATE:19461007T030000
END:STANDARD
BEGIN:DAYLIGHT
TZNAME:CEST
TZOFFSETFROM:+0100
TZOFFSETTO:+0200
DTSTART:19170416T020000
RRULE:FREQ=YEARLY;UNTIL=19180415T010000Z;BYMONTH=4;BYDAY=3MO
END:DAYLIGHT
BEGIN:STANDARD
TZNAME:CET
TZOFFSETFROM:+0200
TZOFFSETTO:+0100
DTSTART:19170917T030000
RRULE:FREQ=YEARLY;UNTIL=19180916T010000Z;BYMONTH=9;BYDAY=3MO
END:STANDARD
BEGIN:DAYLIGHT
TZNAME:CEST
TZOFFSETFROM:+0100
TZOFFSETTO:+0200
DTSTART:19440403T020000
RRULE:FREQ=YEARLY;UNTIL=19450402T010000Z;BYMONTH=4;BYDAY=1MO
END:DAYLIGHT
BEGIN:DAYLIGHT
TZNAME:CEMT
TZOFFSETFROM:+0200
TZOFFSETTO:+0300
DTSTART:19450524T020000
RDATE:19470511T030000
END:DAYLIGHT
BEGIN:DAYLIGHT
TZNAME:CEST
TZOFFSETFROM:+0300
TZOFFSETTO:+0200
DTSTART:19450924T030000
RDATE:19470629T030000
END:DAYLIGHT
BEGIN:STANDARD
TZNAME:CET
TZOFFSETFROM:+0100
TZOFFSETTO:+0100
DTSTART:19460101T000000
RDATE:19800101T000000
END:STANDARD
BEGIN:STANDARD
TZNAME:CET
TZOFFSETFROM:+0200
TZOFFSETTO:+0100
DTSTART:19471005T030000
RRULE:FREQ=YEARLY;UNTIL=19491002T010000Z;BYMONTH=10;BYDAY=1SU
END:STANDARD
BEGIN:STANDARD
TZNAME:CET
TZOFFSETFROM:+0200
TZOFFSETTO:+0100
DTSTART:19800928T030000
RRULE:FREQ=YEARLY;UNTIL=19950924T010000Z;BYMONTH=9;BYDAY=-1SU
END:STANDARD
BEGIN:DAYLIGHT
TZNAME:CEST
TZOFFSETFROM:+0100
TZOFFSETTO:+0200
DTSTART:19810329T020000
RRULE:FREQ=YEARLY;BYMONTH=3;BYDAY=-1SU
END:DAYLIGHT
BEGIN:STANDARD
TZNAME:CET
TZOFFSETFROM:+0200
TZOFFSETTO:+0100
DTSTART:19961027T030000
RRULE:FREQ=YEARLY;BYMONTH=10;BYDAY=-1SU
END:STANDARD
END:VTIMEZONE
BEGIN:VEVENT
DTSTAMP:20260424T003815Z
DTSTART;TZID=Europe/Berlin:20251101T143000
DTEND;TZID=Europe/Berlin:20251101T160000
SUMMARY:Regionsoberliga mJA VfB Torgau vs TuS Leipzig-Mockau (15016)
UID:57135f61-76a2-48b5-a0c8-33eb6eaa4440
STATUS:CONFIRMED
LAST-MODIFIED:20251102T191551Z
DESCRIPTION:Regionsoberliga männl. A-Jugend\nBegegnungs-Nr: 15016\nHeim: VfB Torgau\nGast: TuS Leipzig-Mockau\nHalle: SH Am Wasserturm Torgau (31602)\nAdresse: Dahlener Str. 11 a\, 04860 Torgau\n
LOCATION:SH Am Wasserturm Torgau (31602): Dahlener Str. 11 a\, 04860 Torgau
CATEGORIES:Saison 2025/26
END:VEVENT
BEGIN:VEVENT
DTSTAMP:20260424T003815Z
DTSTART;TZID=Europe/Berlin:20251129T143000
DTEND;TZID=Europe/Berlin:20251129T160000
SUMMARY:Regionsoberliga mJA VfB Torgau vs TSV Markkleeberg (15025)
UID:db4ee26b-ed7f-4b0c-980e-fdee648bdb62
STATUS:CONFIRMED
LAST-MODIFIED:20251212T194347Z
DESCRIPTION:Regionsoberliga männl. A-Jugend\nBegegnungs-Nr: 15025\nHeim: VfB Torgau\nGast: TSV Markkleeberg\nHalle: SH Am Wasserturm Torgau (31602)\nAdresse: Dahlener Str. 11 a\, 04860 Torgau\n
LOCATION:SH Am Wasserturm Torgau (31602): Dahlener Str. 11 a\, 04860 Torgau
CATEGORIES:Saison 2025/26
END:VEVENT
BEGIN:VEVENT
DTSTAMP:20260424T003815Z
DTSTART;TZID=Europe/Berlin:20260117T143000
DTEND;TZID=Europe/Berlin:20260117T160000
SUMMARY:Regionsoberliga mJA VfB Torgau vs HSG Rückmarsdorf (15031)
UID:86aa3752-5fe7-4e43-814d-16c42b12c58f
STATUS:CONFIRMED
LAST-MODIFIED:20260118T173544Z
DESCRIPTION:Regionsoberliga männl. A-Jugend\nBegegnungs-Nr: 15031\nHeim: VfB Torgau\nGast: HSG Rückmarsdorf\nHalle: SH J.-Walter Gymnasium Torgau (31601)\nAdresse: Schloßstr. 7-9\, 04860 Torgau\n
LOCATION:SH J.-Walter Gymnasium Torgau (31601): Schloßstr. 7-9\, 04860 Torgau
CATEGORIES:Saison 2025/26
END:VEVENT
BEGIN:VEVENT
DTSTAMP:20260424T003815Z
DTSTART;TZID=Europe/Berlin:20260131T143000
DTEND;TZID=Europe/Berlin:20260131T160000
SUMMARY:Regionsoberliga mJA VfB Torgau vs Turbine Leipzig (15036)
UID:916fad1e-4dbd-4721-9ac2-7ada411f3541
STATUS:CONFIRMED
LAST-MODIFIED:20260201T112218Z
DESCRIPTION:Regionsoberliga männl. A-Jugend\nBegegnungs-Nr: 15036\nHeim: VfB Torgau\nGast: Turbine Leipzig\nHalle: Stadthalle Belgern (31606)\nAdresse: Mühlberger Str.\, 04874 Belgern\n
LOCATION:Stadthalle Belgern (31606): Mühlberger Str.\, 04874 Belgern
CATEGORIES:Saison 2025/26
END:VEVENT
BEGIN:VEVENT
DTSTAMP:20260424T003815Z
DTSTART;TZID=Europe/Berlin:20260228T150000
DTEND;TZID=Europe/Berlin:20260228T163000
SUMMARY:Regionsoberliga mJA VfB Torgau vs HSG Neudorf/Döbeln (15042)
UID:9877c94b-085a-4e45-b6d1-e2638f268941
STATUS:CONFIRMED
LAST-MODIFIED:20260302T135244Z
DESCRIPTION:Regionsoberliga männl. A-Jugend\nBegegnungs-Nr: 15042\nHeim: VfB Torgau\nGast: HSG Neudorf/Döbeln\nHalle: SH Am Wasserturm Torgau (31602)\nAdresse: Dahlener Str. 11 a\, 04860 Torgau\n
LOCATION:SH Am Wasserturm Torgau (31602): Dahlener Str. 11 a\, 04860 Torgau
CATEGORIES:Saison 2025/26
END:VEVENT
BEGIN:VEVENT
DTSTAMP:20260424T003815Z
DTSTART;TZID=Europe/Berlin:20250913T143000
DTEND;TZID=Europe/Berlin:20250913T160000
SUMMARY:Regionsoberliga mJA VfB Torgau vs NHV Concordia Delitzsch (15006)
UID:78309027-db24-4be2-af14-5955a077a3e6
STATUS:CONFIRMED
LAST-MODIFIED:20250914T105841Z
DESCRIPTION:Regionsoberliga männl. A-Jugend\nBegegnungs-Nr: 15006\nHeim: VfB Torgau\nGast: NHV Concordia Delitzsch\nHalle: SH Am Wasserturm Torgau (31602)\nAdresse: Dahlener Str. 11 a\, 04860 Torgau\n
LOCATION:SH Am Wasserturm Torgau (31602): Dahlener Str. 11 a\, 04860 Torgau
CATEGORIES:Saison 2025/26
END:VEVENT
BEGIN:VEVENT
DTSTAMP:20260424T003815Z
DTSTART;TZID=Europe/Berlin:20260124T160000
DTEND;TZID=Europe/Berlin:20260124T173000
SUMMARY:Regionsoberliga mJA NHV Concordia Delitzsch vs VfB Torgau (15034)
UID:2ee60438-bd36-408a-ae3f-700c9365cb62
STATUS:CONFIRMED
LAST-MODIFIED:20260323T155544Z
DESCRIPTION:Regionsoberliga männl. A-Jugend\nBegegnungs-Nr: 15034\nHeim: NHV Concordia Delitzsch\nGast: VfB Torgau\nHalle: Mehrzweckhalle Delitzsch  (31304)\nAdresse: Karl-Marx-Str. 1\, 04509 Delitzsch\n
LOCATION:Mehrzweckhalle Delitzsch  (31304): Karl-Marx-Str. 1\, 04509 Delitzsch
CATEGORIES:Saison 2025/26
END:VEVENT
BEGIN:VEVENT
DTSTAMP:20260424T003815Z
DTSTART;TZID=Europe/Berlin:20260307T141500
DTEND;TZID=Europe/Berlin:20260307T154500
SUMMARY:Regionsoberliga mJA TuS Leipzig-Mockau vs VfB Torgau (15044)
UID:c10fe461-766f-4c48-b72b-1fe0f5892dde
STATUS:CONFIRMED
LAST-MODIFIED:20260308T160657Z
DESCRIPTION:Regionsoberliga männl. A-Jugend\nBegegnungs-Nr: 15044\nHeim: TuS Leipzig-Mockau\nGast: VfB Torgau\nHalle: Sporthalle Marie-Curie-Gymnasium Wiederitzsch (31137)\nAdresse: Messeallee 19\, 04158 Leipzig (OT Wiederitzsch)\n
LOCATION:Sporthalle Marie-Curie-Gymnasium Wiederitzsch (31137): Messeallee 19\, 04158 Leipzig (OT Wiederitzsch)
CATEGORIES:Saison 2025/26
END:VEVENT
BEGIN:VEVENT
DTSTAMP:20260424T003815Z
DTSTART;TZID=Europe/Berlin:20260419T160000
DTEND;TZID=Europe/Berlin:20260419T173000
SUMMARY:Regionsoberliga mJA TSV Markkleeberg vs VfB Torgau (15053)
UID:97d9282b-0605-41b8-84a0-06165b889d70
STATUS:CONFIRMED
DESCRIPTION:Regionsoberliga männl. A-Jugend\nBegegnungs-Nr: 15053\nHeim: TSV Markkleeberg\nGast: VfB Torgau\nHalle: Peter-Pohlmann-Sportzentrum (31123)\nAdresse: Mehringstraße 6\, 04416 Markkleeberg\n
LOCATION:Peter-Pohlmann-Sportzentrum (31123): Mehringstraße 6\, 04416 Markkleeberg
CATEGORIES:Saison 2025/26
END:VEVENT
BEGIN:VEVENT
DTSTAMP:20260424T003815Z
DTSTART;TZID=Europe/Berlin:20250906T120000
DTEND;TZID=Europe/Berlin:20250906T133000
SUMMARY:Regionsoberliga mJA HSG Rückmarsdorf vs VfB Torgau (15003)
UID:a548cb60-97f0-41d1-8bdf-a06171dec76e
STATUS:CONFIRMED
LAST-MODIFIED:20250921T202050Z
DESCRIPTION:Regionsoberliga männl. A-Jugend\nBegegnungs-Nr: 15003\nHeim: HSG Rückmarsdorf\nGast: VfB Torgau\nHalle: SH An der Radrennbahn Leipzig (31128)\nAdresse: Windorfer Straße 63\, 04229 Leipzig\n
LOCATION:SH An der Radrennbahn Leipzig (31128): Windorfer Straße 63\, 04229 Leipzig
CATEGORIES:Saison 2025/26
END:VEVENT
BEGIN:VEVENT
DTSTAMP:20260424T003815Z
DTSTART;TZID=Europe/Berlin:20250921T133000
DTEND;TZID=Europe/Berlin:20250921T150000
SUMMARY:Regionsoberliga mJA Turbine Leipzig vs VfB Torgau (15010)
UID:368fd4fe-5e84-420c-a6d2-1e878fdb467e
STATUS:CONFIRMED
LAST-MODIFIED:20250921T131131Z
DESCRIPTION:Regionsoberliga männl. A-Jugend\nBegegnungs-Nr: 15010\nHeim: Turbine Leipzig\nGast: VfB Torgau\nHalle: SH Ostwald Gymnasium Leipzig-Lößnig (31105)\nAdresse: Willi-Bredel-Str. 13\, 04279 Leipzig\n
LOCATION:SH Ostwald Gymnasium Leipzig-Lößnig (31105): Willi-Bredel-Str. 13\, 04279 Leipzig
CATEGORIES:Saison 2025/26
END:VEVENT
BEGIN:VEVENT
DTSTAMP:20260424T003815Z
DTSTART;TZID=Europe/Berlin:20251025T090000
DTEND;TZID=Europe/Berlin:20251025T103000
SUMMARY:Regionsoberliga mJA HSG Neudorf/Döbeln vs VfB Torgau (15013)
UID:60ef29b8-e91d-407b-a76b-2735fc4e175c
STATUS:CONFIRMED
LAST-MODIFIED:20251026T115433Z
DESCRIPTION:Regionsoberliga männl. A-Jugend\nBegegnungs-Nr: 15013\nHeim: HSG Neudorf/Döbeln\nGast: VfB Torgau\nHalle: Stadt-SH Döbeln (31202)\nAdresse: Str. des Friedens 9\, 04720 Döbeln\n
LOCATION:Stadt-SH Döbeln (31202): Str. des Friedens 9\, 04720 Döbeln
CATEGORIES:Saison 2025/26
END:VEVENT
END:VCALENDAR
